BEGIN:VCALENDAR
VERSION:2.0
PRODID:-//Mikulova D83391//NONSGML kigkonsult.se iCalcreator 2.41.80//
CALSCALE:GREGORIAN
UID:62306163-6565-4635-b330-343366303032
BEGIN:VEVENT
UID:37373364-3938-4634-b035-396432633037
DTSTAMP:20260422T001305Z
DESCRIPTION:1/1 Mikulova D - Střešovice 2:0 (7\,14)
DTSTART;TZID=Europe/Berlin:20231007T090000
DTEND;TZID=Europe/Berlin:20231007T110000
LOCATION:SKŠ ZŠ Mikulova Praha\, Mikulova 1594 Praha - Chodov
SUMMARY:PP-U18Z-1-C: Mikulova D-Střešovice
END:VEVENT
BEGIN:VEVENT
UID:36623666-3162-4663-b261-383138343133
DTSTAMP:20260422T001305Z
DESCRIPTION:4/4 Mikulova D - Meteor Praha B 2:1 (-22\,13\,7)
DTSTART;TZID=Europe/Berlin:20231007T120000
DTEND;TZID=Europe/Berlin:20231007T140000
LOCATION:SKŠ ZŠ Mikulova Praha\, Mikulova 1594 Praha - Chodov
SUMMARY:PP-U18Z-1-C: Mikulova D-Meteor Praha B
END:VEVENT
BEGIN:VEVENT
UID:62363161-6130-4932-b764-353064326434
DTSTAMP:20260422T001305Z
DESCRIPTION:6/6 Orion Praha B - Mikulova D 2:1 (23\,-14\,7)
DTSTART;TZID=Europe/Berlin:20231007T140000
DTEND;TZID=Europe/Berlin:20231007T160000
LOCATION:SKŠ ZŠ Mikulova Praha\, Mikulova 1594 Praha - Chodov
SUMMARY:PP-U18Z-1-C: Orion Praha B-Mikulova D
END:VEVENT
BEGIN:VEVENT
UID:64663434-6163-4137-b037-623164613264
DTSTAMP:20260422T001305Z
DESCRIPTION:3/3 Mikulova D - SAVO Praha A 2:0 (13\,9)
DTSTART;TZID=Europe/Berlin:20231111T110000
DTEND;TZID=Europe/Berlin:20231111T130000
LOCATION:SKŠ ZŠ Mikulova Praha\, Mikulova 1594 Praha - Chodov
SUMMARY:PP-U18Z-2-B: Mikulova D-SAVO Praha A
END:VEVENT
BEGIN:VEVENT
UID:36316438-3164-4434-b961-393137346439
DTSTAMP:20260422T001305Z
DESCRIPTION:1/1 Počernice - Mikulova D 1:2 (-19\,11\,-12)
DTSTART;TZID=Europe/Berlin:20231111T090000
DTEND;TZID=Europe/Berlin:20231111T110000
LOCATION:SKŠ ZŠ Mikulova Praha\, Mikulova 1594 Praha - Chodov
SUMMARY:PP-U18Z-2-B: Počernice-Mikulova D
END:VEVENT
BEGIN:VEVENT
UID:65386439-3539-4634-a334-393461613665
DTSTAMP:20260422T001305Z
DESCRIPTION:5/5 ABC Braník - Mikulova D 2:1 (19\,-20\,12)
DTSTART;TZID=Europe/Berlin:20231111T130000
DTEND;TZID=Europe/Berlin:20231111T150000
LOCATION:SKŠ ZŠ Mikulova Praha\, Mikulova 1594 Praha - Chodov
SUMMARY:PP-U18Z-2-B: ABC Braník-Mikulova D
END:VEVENT
BEGIN:VEVENT
UID:63653334-3166-4261-a434-336566623866
DTSTAMP:20260422T001305Z
DESCRIPTION:2/2 Mikulova D - Počernice 2:1 (20\,-23\,6)
DTSTART;TZID=Europe/Berlin:20231216T090000
DTEND;TZID=Europe/Berlin:20231216T110000
LOCATION:SKŠ ZŠ Mikulova Praha\, Mikulova 1594 Praha - Chodov
SUMMARY:PP-U18Z-3-B: Mikulova D-Počernice
END:VEVENT
BEGIN:VEVENT
UID:66643336-3761-4439-b961-643832356330
DTSTAMP:20260422T001305Z
DESCRIPTION:5/5 Mikulova D - Orion Praha B 2:0 (10\,16)
DTSTART;TZID=Europe/Berlin:20231216T110000
DTEND;TZID=Europe/Berlin:20231216T130000
LOCATION:SKŠ ZŠ Mikulova Praha\, Mikulova 1594 Praha - Chodov
SUMMARY:PP-U18Z-3-B: Mikulova D-Orion Praha B
END:VEVENT
BEGIN:VEVENT
UID:39646363-3839-4537-b234-643234373061
DTSTAMP:20260422T001305Z
DESCRIPTION:4/4 Lvi Praha C - Mikulova D 0:2 (-11\,-15)
DTSTART;TZID=Europe/Berlin:20231216T100000
DTEND;TZID=Europe/Berlin:20231216T120000
LOCATION:SKŠ ZŠ Mikulova Praha\, Mikulova 1594 Praha - Chodov
SUMMARY:PP-U18Z-3-B: Lvi Praha C-Mikulova D
END:VEVENT
BEGIN:VEVENT
UID:35623764-3635-4262-a562-393562363837
DTSTAMP:20260422T001305Z
DESCRIPTION:2/3 Mikulova D - Španielka 2:1 (-17\,14\,5)
DTSTART;TZID=Europe/Berlin:20240113T153000
DTEND;TZID=Europe/Berlin:20240113T173000
LOCATION:SKŠ ZŠ Mikulova Praha\, Mikulova 1594 Praha - Chodov
SUMMARY:PP-U18Z-4-A: Mikulova D-Španielka
END:VEVENT
BEGIN:VEVENT
UID:32393562-3636-4462-a531-613933626634
DTSTAMP:20260422T001305Z
DESCRIPTION:1/1 Slavia Praha - Mikulova D 2:0 (17\,9)
DTSTART;TZID=Europe/Berlin:20240113T143000
DTEND;TZID=Europe/Berlin:20240113T163000
LOCATION:SKŠ ZŠ Mikulova Praha\, Mikulova 1594 Praha - Chodov
SUMMARY:PP-U18Z-4-A: Slavia Praha-Mikulova D
END:VEVENT
BEGIN:VEVENT
UID:61356531-3634-4862-b430-653731373062
DTSTAMP:20260422T001305Z
DESCRIPTION:3/5 ABC Braník - Mikulova D 0:2 (-20\,-25)
DTSTART;TZID=Europe/Berlin:20240113T163000
DTEND;TZID=Europe/Berlin:20240113T183000
LOCATION:SKŠ ZŠ Mikulova Praha\, Mikulova 1594 Praha - Chodov
SUMMARY:PP-U18Z-4-A: ABC Braník-Mikulova D
END:VEVENT
BEGIN:VEVENT
UID:62316232-6631-4162-b433-336534373533
DTSTAMP:20260422T001305Z
DESCRIPTION:2/2 Mikulova D - ABC Braník 1:2 (-19\,26\,-7)
DTSTART;TZID=Europe/Berlin:20240309T100000
DTEND;TZID=Europe/Berlin:20240309T120000
LOCATION:Jana\, Vladivostocká 1460 Praha - Vršovice
SUMMARY:PP-U18Z-5-A: Mikulova D-ABC Braník
END:VEVENT
BEGIN:VEVENT
UID:61306466-6539-4065-a439-643238323765
DTSTAMP:20260422T001305Z
DESCRIPTION:5/5 Mikulova D - Dansport 1:2 (-21\,20\,-8)
DTSTART;TZID=Europe/Berlin:20240309T130000
DTEND;TZID=Europe/Berlin:20240309T150000
LOCATION:Jana\, Vladivostocká 1460 Praha - Vršovice
SUMMARY:PP-U18Z-5-A: Mikulova D-Dansport
END:VEVENT
BEGIN:VEVENT
UID:61643137-3637-4862-a337-346262666162
DTSTAMP:20260422T001305Z
DESCRIPTION:4/4 Slavia Praha - Mikulova D 2:0 (15\,11)
DTSTART;TZID=Europe/Berlin:20240309T120000
DTEND;TZID=Europe/Berlin:20240309T140000
LOCATION:Jana\, Vladivostocká 1460 Praha - Vršovice
SUMMARY:PP-U18Z-5-A: Slavia Praha-Mikulova D
END:VEVENT
BEGIN:VEVENT
UID:31313339-3266-4664-b935-303764623537
DTSTAMP:20260422T001305Z
DESCRIPTION:1/1 Mikulova D - Lvi Praha C 2:1 (-22\,20\,12)
DTSTART;TZID=Europe/Berlin:20240406T090000
DTEND;TZID=Europe/Berlin:20240406T110000
LOCATION:MZŠ Polesná 1690\, Praha 21\, Polesná 1690 Praha - Újezd nad Lesy
SUMMARY:PP-U18Z-6-B: Mikulova D-Lvi Praha C
END:VEVENT
BEGIN:VEVENT
UID:37393839-3437-4632-a434-623234373164
DTSTAMP:20260422T001305Z
DESCRIPTION:4/4 Mikulova D - SK JOKY 2:0 (20\,18)
DTSTART;TZID=Europe/Berlin:20240406T120000
DTEND;TZID=Europe/Berlin:20240406T140000
LOCATION:MZŠ Polesná 1690\, Praha 21\, Polesná 1690 Praha - Újezd nad Lesy
SUMMARY:PP-U18Z-6-B: Mikulova D-SK JOKY
END:VEVENT
BEGIN:VEVENT
UID:61323165-3332-4637-a435-353466666264
DTSTAMP:20260422T001305Z
DESCRIPTION:6/6 Počernice - Mikulova D 2:0 (26\,16)
DTSTART;TZID=Europe/Berlin:20240406T140000
DTEND;TZID=Europe/Berlin:20240406T160000
LOCATION:MZŠ Polesná 1690\, Praha 21\, Polesná 1690 Praha - Újezd nad Lesy
SUMMARY:PP-U18Z-6-B: Počernice-Mikulova D
END:VEVENT
END:VCALENDAR
