BEGIN:VCALENDAR
VERSION:2.0
PRODID:-//Meteor Praha B83431//NONSGML kigkonsult.se iCalcreator 2.41.80//
CALSCALE:GREGORIAN
UID:34323363-6637-4233-b431-373066383632
BEGIN:VEVENT
UID:37636633-3362-4433-a261-386262356537
DTSTAMP:20260423T050000Z
DESCRIPTION:2/2 Sokol Praha Vršovice - Meteor Praha B 2:1 (-25\,14\,5)
DTSTART;TZID=Europe/Berlin:20231008T100000
DTEND;TZID=Europe/Berlin:20231008T120000
LOCATION:Sokol Bubeneč\, Korunovační 630 Praha - Bubeneč
SUMMARY:PP-U16M-T1-2B: Sokol Praha Vršovice-Meteor Praha B
END:VEVENT
BEGIN:VEVENT
UID:38663839-3863-4439-b466-333537333362
DTSTAMP:20260423T050000Z
DESCRIPTION:3/3 VK Lvi Praha B - Meteor Praha B 2:0 (15\,16)
DTSTART;TZID=Europe/Berlin:20231008T110000
DTEND;TZID=Europe/Berlin:20231008T130000
LOCATION:Sokol Bubeneč\, Korunovační 630 Praha - Bubeneč
SUMMARY:PP-U16M-T1-2B: VK Lvi Praha B-Meteor Praha B
END:VEVENT
BEGIN:VEVENT
UID:61306138-6339-4265-b537-383434643966
DTSTAMP:20260423T050000Z
DESCRIPTION:2/3 Orion B - Meteor Praha B 2:0 (12\,14)\nO 5.MÍSTO
DTSTART;TZID=Europe/Berlin:20231008T130000
DTEND;TZID=Europe/Berlin:20231008T150000
LOCATION:ZŠ prof. Švejcara\, Mráčkova\, Mráčkova 3090 Praha - Modřany
SUMMARY:PP-U16M-T1-2C: Orion B-Meteor Praha B
END:VEVENT
BEGIN:VEVENT
UID:66316332-3237-4430-b833-373063666531
DTSTAMP:20260423T050000Z
DESCRIPTION:2/2 Sokol Praha Vršovice - Meteor Praha B 2:1 (20\,-23\,10)\nku
 rt č.2
DTSTART;TZID=Europe/Berlin:20231105T100000
DTEND;TZID=Europe/Berlin:20231105T120000
LOCATION:Nafukovací hala v areálu UNYP arény\, Kovanecká 2405 Praha - Libeň
SUMMARY:PP-U16M-T2-2B: Sokol Praha Vršovice-Meteor Praha B
END:VEVENT
BEGIN:VEVENT
UID:66343165-3133-4030-b933-336365303333
DTSTAMP:20260423T050000Z
DESCRIPTION:3/3 VK Lvi Praha B - Meteor Praha B 2:0 (10\,18)\nkurt č.3
DTSTART;TZID=Europe/Berlin:20231105T120000
DTEND;TZID=Europe/Berlin:20231105T140000
LOCATION:Nafukovací hala v areálu UNYP arény\, Kovanecká 2405 Praha - Libeň
SUMMARY:PP-U16M-T2-2B: VK Lvi Praha B-Meteor Praha B
END:VEVENT
BEGIN:VEVENT
UID:64393438-3933-4539-a137-393233346539
DTSTAMP:20260423T050000Z
DESCRIPTION:2/3 Orion B - Meteor Praha B 1:2 (20\,-22\,-17)\nkurt č.3\, o 5
 .místo
DTSTART;TZID=Europe/Berlin:20231105T140000
DTEND;TZID=Europe/Berlin:20231105T160000
LOCATION:Nafukovací hala v areálu UNYP arény\, Kovanecká 2405 Praha - Libeň
SUMMARY:PP-U16M-T2-2C: Orion B-Meteor Praha B
END:VEVENT
BEGIN:VEVENT
UID:61353733-3231-4365-b762-363732336532
DTSTAMP:20260423T050000Z
DESCRIPTION:2/2 SK PROSEK C - Meteor Praha B 2:0 (13\,22)
DTSTART;TZID=Europe/Berlin:20231210T100000
DTEND;TZID=Europe/Berlin:20231210T120000
LOCATION:Sokol Bubeneč\, Korunovační 630 Praha - Bubeneč
SUMMARY:PP-U16M-T3-2A: SK PROSEK C-Meteor Praha B
END:VEVENT
BEGIN:VEVENT
UID:39623765-3135-4161-a364-656461383836
DTSTAMP:20260423T050000Z
DESCRIPTION:3/3 Dansport - Meteor Praha B 2:0 (6\,11)
DTSTART;TZID=Europe/Berlin:20231210T110000
DTEND;TZID=Europe/Berlin:20231210T130000
LOCATION:Sokol Bubeneč\, Korunovační 630 Praha - Bubeneč
SUMMARY:PP-U16M-T3-2A: Dansport-Meteor Praha B
END:VEVENT
BEGIN:VEVENT
UID:63346337-3131-4637-b337-623963386633
DTSTAMP:20260423T050000Z
DESCRIPTION:3/4 Orion B - Meteor Praha B 2:0 (14\,18)\no 5.místo
DTSTART;TZID=Europe/Berlin:20231210T130000
DTEND;TZID=Europe/Berlin:20231210T150000
LOCATION:Sokol Bubeneč\, Korunovační 630 Praha - Bubeneč
SUMMARY:PP-U16M-T3-2C: Orion B-Meteor Praha B
END:VEVENT
BEGIN:VEVENT
UID:63663832-3465-4331-b466-383361326361
DTSTAMP:20260423T050000Z
DESCRIPTION:1/1 Meteor Praha B - Sokol Praha Vršovice 0:2 (-12\,-17)
DTSTART;TZID=Europe/Berlin:20240114T090000
DTEND;TZID=Europe/Berlin:20240114T110000
LOCATION:Sokol Bubeneč\, Korunovační 630 Praha - Bubeneč
SUMMARY:PP-U16M-T4-2B: Meteor Praha B-Sokol Praha Vršovice
END:VEVENT
BEGIN:VEVENT
UID:33356137-3764-4563-b765-363865303037
DTSTAMP:20260423T050000Z
DESCRIPTION:3/3 Meteor Praha B - Dansport 0:2 (-10\,-12)
DTSTART;TZID=Europe/Berlin:20240114T110000
DTEND;TZID=Europe/Berlin:20240114T130000
LOCATION:Sokol Bubeneč\, Korunovační 630 Praha - Bubeneč
SUMMARY:PP-U16M-T4-2B: Meteor Praha B-Dansport
END:VEVENT
BEGIN:VEVENT
UID:64336661-3135-4161-b332-633366303039
DTSTAMP:20260423T050000Z
DESCRIPTION:2/3 Orion B - Meteor Praha B 2:1 (11\,-18\,9)\no 5.místo
DTSTART;TZID=Europe/Berlin:20240114T130000
DTEND;TZID=Europe/Berlin:20240114T150000
LOCATION:Sokol Bubeneč\, Korunovační 630 Praha - Bubeneč
SUMMARY:PP-U16M-T4-2C: Orion B-Meteor Praha B
END:VEVENT
BEGIN:VEVENT
UID:34376632-3633-4839-a232-303063633763
DTSTAMP:20260423T050000Z
DESCRIPTION:1/1 Meteor Praha B - Sokol Praha Vršovice 0:2 (-10\,-12)
DTSTART;TZID=Europe/Berlin:20240310T090000
DTEND;TZID=Europe/Berlin:20240310T110000
LOCATION:Sokol Bubeneč\, Korunovační 630 Praha - Bubeneč
SUMMARY:PP-U16M-T5-2B: Meteor Praha B-Sokol Praha Vršovice
END:VEVENT
BEGIN:VEVENT
UID:37393036-3961-4630-a430-393635383739
DTSTAMP:20260423T050000Z
DESCRIPTION:3/3 Meteor Praha B - SK PROSEK BDoroshenko Rustam
DTSTART;TZID=Europe/Berlin:20240310T110000
DTEND;TZID=Europe/Berlin:20240310T130000
LOCATION:Sokol Bubeneč\, Korunovační 630 Praha - Bubeneč
SUMMARY:PP-U16M-T5-2B: Meteor Praha B-SK PROSEK B
END:VEVENT
BEGIN:VEVENT
UID:33373430-6461-4362-b530-363739383038
DTSTAMP:20260423T050000Z
DESCRIPTION:2/3 Meteor Praha B - Orion B 0:2 (-18\,-19)\n3a x 3b
DTSTART;TZID=Europe/Berlin:20240310T130000
DTEND;TZID=Europe/Berlin:20240310T150000
LOCATION:Sokol Bubeneč\, Korunovační 630 Praha - Bubeneč
SUMMARY:PP-U16M-T5-2C: Meteor Praha B-Orion B
END:VEVENT
END:VCALENDAR
