BEGIN:VCALENDAR
VERSION:2.0
PRODID:-//ABC Braník83437//NONSGML kigkonsult.se iCalcreator 2.41.80//
CALSCALE:GREGORIAN
UID:63373835-6337-4066-b532-373061643061
BEGIN:VEVENT
UID:31363333-6233-4636-b266-316335653764
DTSTAMP:20260422T183032Z
DESCRIPTION:2/2 ABC Braník - Španielka A 2:0 (8\,16)
DTSTART;TZID=Europe/Berlin:20231105T100000
DTEND;TZID=Europe/Berlin:20231105T120000
LOCATION:Tělocvična ZŠ\, Španielova 1111 Praha - Řepy
SUMMARY:PP-U16Z-1-C: ABC Braník-Španielka A
END:VEVENT
BEGIN:VEVENT
UID:65616164-3364-4464-b030-326638306232
DTSTAMP:20260422T183032Z
DESCRIPTION:5/5 ABC Braník - Orion Praha B 2:1 (-24\,21\,11)
DTSTART;TZID=Europe/Berlin:20231105T130000
DTEND;TZID=Europe/Berlin:20231105T150000
LOCATION:Tělocvična ZŠ\, Španielova 1111 Praha - Řepy
SUMMARY:PP-U16Z-1-C: ABC Braník-Orion Praha B
END:VEVENT
BEGIN:VEVENT
UID:62316632-3736-4231-a437-313265646539
DTSTAMP:20260422T183032Z
DESCRIPTION:4/4 Lvi Praha A - ABC Braník 1:2 (15\,-12\,-7)
DTSTART;TZID=Europe/Berlin:20231105T120000
DTEND;TZID=Europe/Berlin:20231105T140000
LOCATION:Tělocvična ZŠ\, Španielova 1111 Praha - Řepy
SUMMARY:PP-U16Z-1-C: Lvi Praha A-ABC Braník
END:VEVENT
BEGIN:VEVENT
UID:66633435-3362-4165-a338-306339306135
DTSTAMP:20260422T183032Z
DESCRIPTION:2/3 ABC Braník - Horní Počernice A 2:0 (18\,21)
DTSTART;TZID=Europe/Berlin:20231203T100000
DTEND;TZID=Europe/Berlin:20231203T120000
LOCATION:SKŠ ZŠ Mikulova Praha\, Mikulova 1594 Praha - Chodov
SUMMARY:PP-U16Z-2-B: ABC Braník-Horní Počernice A
END:VEVENT
BEGIN:VEVENT
UID:35613162-3533-4662-a431-346430343734
DTSTAMP:20260422T183032Z
DESCRIPTION:1/1 Mikulova B - ABC Braník 2:0 (8\,13)
DTSTART;TZID=Europe/Berlin:20231203T090000
DTEND;TZID=Europe/Berlin:20231203T110000
LOCATION:SKŠ ZŠ Mikulova Praha\, Mikulova 1594 Praha - Chodov
SUMMARY:PP-U16Z-2-B: Mikulova B-ABC Braník
END:VEVENT
BEGIN:VEVENT
UID:66613064-3136-4931-b266-363535626361
DTSTAMP:20260422T183032Z
DESCRIPTION:3/5 OLYMP Praha B - ABC Braník 2:0 (16\,13)
DTSTART;TZID=Europe/Berlin:20231203T110000
DTEND;TZID=Europe/Berlin:20231203T130000
LOCATION:SKŠ ZŠ Mikulova Praha\, Mikulova 1594 Praha - Chodov
SUMMARY:PP-U16Z-2-B: OLYMP Praha B-ABC Braník
END:VEVENT
BEGIN:VEVENT
UID:62613836-6532-4565-b333-656365376235
DTSTAMP:20260422T183032Z
DESCRIPTION:6/6 ABC Braník - Kometa Praha 1:2 (23\,-15\,-9)
DTSTART;TZID=Europe/Berlin:20240107T140000
DTEND;TZID=Europe/Berlin:20240107T160000
LOCATION:VCM OLYMP PRAHA \, Radlická 115 Praha - Radlice
SUMMARY:PP-U16Z-3-B: ABC Braník-Kometa Praha
END:VEVENT
BEGIN:VEVENT
UID:39346335-6163-4937-b032-333239393566
DTSTAMP:20260422T183032Z
DESCRIPTION:2/2 OLYMP Praha B - ABC Braník 2:0 (22\,13)
DTSTART;TZID=Europe/Berlin:20240107T100000
DTEND;TZID=Europe/Berlin:20240107T120000
LOCATION:VCM OLYMP PRAHA \, Radlická 115 Praha - Radlice
SUMMARY:PP-U16Z-3-B: OLYMP Praha B-ABC Braník
END:VEVENT
BEGIN:VEVENT
UID:65396565-3139-4962-a132-396437373061
DTSTAMP:20260422T183032Z
DESCRIPTION:3/3 Lvi Praha A - ABC Braník 0:2 (-17\,-19)
DTSTART;TZID=Europe/Berlin:20240107T110000
DTEND;TZID=Europe/Berlin:20240107T130000
LOCATION:VCM OLYMP PRAHA \, Radlická 115 Praha - Radlice
SUMMARY:PP-U16Z-3-B: Lvi Praha A-ABC Braník
END:VEVENT
BEGIN:VEVENT
UID:61336665-6231-4636-a130-373765653337
DTSTAMP:20260422T183032Z
DESCRIPTION:6/6 ABC Braník - Mikulova A 2:1 (20\,-27\,6)
DTSTART;TZID=Europe/Berlin:20240121T140000
DTEND;TZID=Europe/Berlin:20240121T160000
LOCATION:Tělocvična ZŠ\, Španielova 1111 Praha - Řepy
SUMMARY:PP-U16Z-4-B: ABC Braník-Mikulova A
END:VEVENT
BEGIN:VEVENT
UID:62396333-3165-4662-b535-346131623466
DTSTAMP:20260422T183032Z
DESCRIPTION:2/2 OLYMP Praha B - ABC Braník 2:0 (5\,24)
DTSTART;TZID=Europe/Berlin:20240121T100000
DTEND;TZID=Europe/Berlin:20240121T120000
LOCATION:Tělocvična ZŠ\, Španielova 1111 Praha - Řepy
SUMMARY:PP-U16Z-4-B: OLYMP Praha B-ABC Braník
END:VEVENT
BEGIN:VEVENT
UID:37643236-3537-4436-a331-373533323839
DTSTAMP:20260422T183032Z
DESCRIPTION:3/3 Španielka A - ABC Braník 1:2 (20\,-16\,-8)
DTSTART;TZID=Europe/Berlin:20240121T110000
DTEND;TZID=Europe/Berlin:20240121T130000
LOCATION:Tělocvična ZŠ\, Španielova 1111 Praha - Řepy
SUMMARY:PP-U16Z-4-B: Španielka A-ABC Braník
END:VEVENT
BEGIN:VEVENT
UID:62313235-3366-4631-b632-633565313130
DTSTAMP:20260422T183032Z
DESCRIPTION:6/6 ABC Braník - Mikulova B 1:2 (-23\,21\,-12)
DTSTART;TZID=Europe/Berlin:20240303T140000
DTEND;TZID=Europe/Berlin:20240303T160000
LOCATION:FZŠ Brdičkova\, Brdičkova 1878 Praha - Stodůlky
SUMMARY:PP-U16Z-5-B: ABC Braník-Mikulova B
END:VEVENT
BEGIN:VEVENT
UID:63626266-3430-4931-b334-373134326639
DTSTAMP:20260422T183032Z
DESCRIPTION:2/2 Španielka A - ABC Braník 2:1 (18\,-22\,13)
DTSTART;TZID=Europe/Berlin:20240303T100000
DTEND;TZID=Europe/Berlin:20240303T120000
LOCATION:FZŠ Brdičkova\, Brdičkova 1878 Praha - Stodůlky
SUMMARY:PP-U16Z-5-B: Španielka A-ABC Braník
END:VEVENT
BEGIN:VEVENT
UID:38623937-6337-4665-b265-663062656264
DTSTAMP:20260422T183032Z
DESCRIPTION:3/3 Lvi Praha A - ABC Braník 2:1 (-18\,21\,10)
DTSTART;TZID=Europe/Berlin:20240303T110000
DTEND;TZID=Europe/Berlin:20240303T130000
LOCATION:FZŠ Brdičkova\, Brdičkova 1878 Praha - Stodůlky
SUMMARY:PP-U16Z-5-B: Lvi Praha A-ABC Braník
END:VEVENT
BEGIN:VEVENT
UID:62383963-3632-4165-b332-326630336535
DTSTAMP:20260422T183032Z
DESCRIPTION:1/1 ABC Braník - Orion Praha C 2:0 (11\,5)
DTSTART;TZID=Europe/Berlin:20240407T090000
DTEND;TZID=Europe/Berlin:20240407T110000
LOCATION:ZŠ Dolní Břežany\, Na Vršku 290 Dolní Břežany
SUMMARY:PP-U16Z-6-C: ABC Braník-Orion Praha C
END:VEVENT
BEGIN:VEVENT
UID:31316161-3566-4733-b462-373134376330
DTSTAMP:20260422T183032Z
DESCRIPTION:4/4 ABC Braník - Meteor Praha A 0:2 (-19\,-22)
DTSTART;TZID=Europe/Berlin:20240407T120000
DTEND;TZID=Europe/Berlin:20240407T140000
LOCATION:ZŠ Dolní Břežany\, Na Vršku 290 Dolní Břežany
SUMMARY:PP-U16Z-6-C: ABC Braník-Meteor Praha A
END:VEVENT
BEGIN:VEVENT
UID:37366265-3139-4264-a331-373532353230
DTSTAMP:20260422T183032Z
DESCRIPTION:6/6 BVŠP - ABC Braník 2:1 (19\,-19\,15)
DTSTART;TZID=Europe/Berlin:20240407T140000
DTEND;TZID=Europe/Berlin:20240407T160000
LOCATION:ZŠ Dolní Břežany\, Na Vršku 290 Dolní Břežany
SUMMARY:PP-U16Z-6-C: BVŠP-ABC Braník
END:VEVENT
END:VCALENDAR
