BEGIN:VCALENDAR
VERSION:2.0
PRODID:-//SK Kometa Praha83446//NONSGML kigkonsult.se iCalcreator 2.41.80//
CALSCALE:GREGORIAN
UID:37373036-3733-4733-a431-373230356564
BEGIN:VEVENT
UID:38623766-6132-4063-b530-316137346130
DTSTAMP:20260422T052723Z
DESCRIPTION:6/6 Kometa Praha - Orion Praha 0:2 (-22\,-17)
DTSTART;TZID=Europe/Berlin:20231105T140000
DTEND;TZID=Europe/Berlin:20231105T160000
LOCATION:ZŠ Dolní Břežany\, Na Vršku 290 Dolní Břežany
SUMMARY:PP-U16Z-1-A: Kometa Praha-Orion Praha
END:VEVENT
BEGIN:VEVENT
UID:31336139-6163-4434-a334-353365393662
DTSTAMP:20260422T052723Z
DESCRIPTION:2/2 Mikulova B - Kometa Praha 2:1 (-25\,17\,9)
DTSTART;TZID=Europe/Berlin:20231105T100000
DTEND;TZID=Europe/Berlin:20231105T120000
LOCATION:ZŠ Dolní Břežany\, Na Vršku 290 Dolní Břežany
SUMMARY:PP-U16Z-1-A: Mikulova B-Kometa Praha
END:VEVENT
BEGIN:VEVENT
UID:32303236-3664-4539-b665-656431613838
DTSTAMP:20260422T052723Z
DESCRIPTION:3/3 Olymp Praha - Kometa Praha 1:2 (-23\,15\,-6)
DTSTART;TZID=Europe/Berlin:20231105T110000
DTEND;TZID=Europe/Berlin:20231105T130000
LOCATION:ZŠ Dolní Břežany\, Na Vršku 290 Dolní Břežany
SUMMARY:PP-U16Z-1-A: Olymp Praha-Kometa Praha
END:VEVENT
BEGIN:VEVENT
UID:62643936-3437-4439-b137-613734626431
DTSTAMP:20260422T052723Z
DESCRIPTION:6/6 Kometa Praha - Orion Praha 0:2 (-14\,-15)
DTSTART;TZID=Europe/Berlin:20231203T140000
DTEND;TZID=Europe/Berlin:20231203T160000
LOCATION:VCM OLYMP PRAHA \, Radlická 115 Praha - Radlice
SUMMARY:PP-U16Z-2-A: Kometa Praha-Orion Praha
END:VEVENT
BEGIN:VEVENT
UID:38313366-6435-4235-b765-393134643836
DTSTAMP:20260422T052723Z
DESCRIPTION:2/2 Olymp Praha - Kometa Praha 2:0 (19\,17)
DTSTART;TZID=Europe/Berlin:20231203T100000
DTEND;TZID=Europe/Berlin:20231203T120000
LOCATION:VCM OLYMP PRAHA \, Radlická 115 Praha - Radlice
SUMMARY:PP-U16Z-2-A: Olymp Praha-Kometa Praha
END:VEVENT
BEGIN:VEVENT
UID:31376431-3563-4331-b761-616638656134
DTSTAMP:20260422T052723Z
DESCRIPTION:3/3 Mikulova A - Kometa Praha 0:2 (-20\,-25)
DTSTART;TZID=Europe/Berlin:20231203T110000
DTEND;TZID=Europe/Berlin:20231203T130000
LOCATION:VCM OLYMP PRAHA \, Radlická 115 Praha - Radlice
SUMMARY:PP-U16Z-2-A: Mikulova A-Kometa Praha
END:VEVENT
BEGIN:VEVENT
UID:66333366-3762-4937-b766-656261353636
DTSTAMP:20260422T052723Z
DESCRIPTION:1/1 Kometa Praha - Lvi Praha A 2:0 (22\,18)
DTSTART;TZID=Europe/Berlin:20240107T090000
DTEND;TZID=Europe/Berlin:20240107T110000
LOCATION:VCM OLYMP PRAHA \, Radlická 115 Praha - Radlice
SUMMARY:PP-U16Z-3-B: Kometa Praha-Lvi Praha A
END:VEVENT
BEGIN:VEVENT
UID:39656561-3838-4264-b966-646330396133
DTSTAMP:20260422T052723Z
DESCRIPTION:4/4 Kometa Praha - OLYMP Praha B 2:0 (23\,18)
DTSTART;TZID=Europe/Berlin:20240107T120000
DTEND;TZID=Europe/Berlin:20240107T140000
LOCATION:VCM OLYMP PRAHA \, Radlická 115 Praha - Radlice
SUMMARY:PP-U16Z-3-B: Kometa Praha-OLYMP Praha B
END:VEVENT
BEGIN:VEVENT
UID:61376462-6232-4435-b962-636266646261
DTSTAMP:20260422T052723Z
DESCRIPTION:6/6 ABC Braník - Kometa Praha 1:2 (23\,-15\,-9)
DTSTART;TZID=Europe/Berlin:20240107T140000
DTEND;TZID=Europe/Berlin:20240107T160000
LOCATION:VCM OLYMP PRAHA \, Radlická 115 Praha - Radlice
SUMMARY:PP-U16Z-3-B: ABC Braník-Kometa Praha
END:VEVENT
BEGIN:VEVENT
UID:66393065-6437-4433-b538-333732373037
DTSTAMP:20260422T052723Z
DESCRIPTION:3/3 Kometa Praha - Mikulova B 2:0 (20\,19)
DTSTART;TZID=Europe/Berlin:20240121T110000
DTEND;TZID=Europe/Berlin:20240121T130000
LOCATION:VCM OLYMP PRAHA \, Radlická 115 Praha - Radlice
SUMMARY:PP-U16Z-4-A: Kometa Praha-Mikulova B
END:VEVENT
BEGIN:VEVENT
UID:38366562-3637-4265-b837-643036663962
DTSTAMP:20260422T052723Z
DESCRIPTION:1/1 Orion Praha - Kometa Praha 2:0 (19\,18)
DTSTART;TZID=Europe/Berlin:20240121T090000
DTEND;TZID=Europe/Berlin:20240121T110000
LOCATION:VCM OLYMP PRAHA \, Radlická 115 Praha - Radlice
SUMMARY:PP-U16Z-4-A: Orion Praha-Kometa Praha
END:VEVENT
BEGIN:VEVENT
UID:30656161-3338-4331-a165-653130643837
DTSTAMP:20260422T052723Z
DESCRIPTION:5/5 Olymp Praha - Kometa Praha 2:0 (23\,17)
DTSTART;TZID=Europe/Berlin:20240121T130000
DTEND;TZID=Europe/Berlin:20240121T150000
LOCATION:VCM OLYMP PRAHA \, Radlická 115 Praha - Radlice
SUMMARY:PP-U16Z-4-A: Olymp Praha-Kometa Praha
END:VEVENT
BEGIN:VEVENT
UID:63363361-3433-4333-b336-613235396264
DTSTAMP:20260422T052723Z
DESCRIPTION:6/6 Kometa Praha - Orion Praha 1:2 (24\,-14\,-9)
DTSTART;TZID=Europe/Berlin:20240303T140000
DTEND;TZID=Europe/Berlin:20240303T160000
LOCATION:VCM OLYMP PRAHA \, Radlická 115 Praha - Radlice
SUMMARY:PP-U16Z-5-A: Kometa Praha-Orion Praha
END:VEVENT
BEGIN:VEVENT
UID:61636166-3232-4830-a363-633738313134
DTSTAMP:20260422T052723Z
DESCRIPTION:2/2 Olymp Praha - Kometa Praha 2:0 (17\,11)
DTSTART;TZID=Europe/Berlin:20240303T100000
DTEND;TZID=Europe/Berlin:20240303T120000
LOCATION:VCM OLYMP PRAHA \, Radlická 115 Praha - Radlice
SUMMARY:PP-U16Z-5-A: Olymp Praha-Kometa Praha
END:VEVENT
BEGIN:VEVENT
UID:39666334-6638-4636-b431-623236386232
DTSTAMP:20260422T052723Z
DESCRIPTION:3/3 OLYMP Praha B - Kometa Praha 0:2 (-12\,-22)
DTSTART;TZID=Europe/Berlin:20240303T110000
DTEND;TZID=Europe/Berlin:20240303T130000
LOCATION:VCM OLYMP PRAHA \, Radlická 115 Praha - Radlice
SUMMARY:PP-U16Z-5-A: OLYMP Praha B-Kometa Praha
END:VEVENT
BEGIN:VEVENT
UID:66653664-3966-4435-a661-376637373134
DTSTAMP:20260422T052723Z
DESCRIPTION:6/6 Kometa Praha - Orion Praha 0:2 (-22\,-24)
DTSTART;TZID=Europe/Berlin:20240407T140000
DTEND;TZID=Europe/Berlin:20240407T160000
LOCATION:ZŠ Dolní Břežany\, Na Vršku 290 Dolní Břežany
SUMMARY:PP-U16Z-6-A: Kometa Praha-Orion Praha
END:VEVENT
BEGIN:VEVENT
UID:37623766-3466-4636-b130-643661313336
DTSTAMP:20260422T052723Z
DESCRIPTION:2/2 Olymp Praha - Kometa Praha 2:0 (11\,17)
DTSTART;TZID=Europe/Berlin:20240407T100000
DTEND;TZID=Europe/Berlin:20240407T120000
LOCATION:ZŠ Dolní Břežany\, Na Vršku 290 Dolní Břežany
SUMMARY:PP-U16Z-6-A: Olymp Praha-Kometa Praha
END:VEVENT
BEGIN:VEVENT
UID:65663865-6639-4265-a334-636464383936
DTSTAMP:20260422T052723Z
DESCRIPTION:3/3 Mikulova B - Kometa Praha 2:0 (22\,21)
DTSTART;TZID=Europe/Berlin:20240407T110000
DTEND;TZID=Europe/Berlin:20240407T130000
LOCATION:ZŠ Dolní Břežany\, Na Vršku 290 Dolní Břežany
SUMMARY:PP-U16Z-6-A: Mikulova B-Kometa Praha
END:VEVENT
BEGIN:VEVENT
UID:64663231-6333-4763-b033-633363323930
DTSTAMP:20260422T052723Z
DESCRIPTION:5/18 Kometa Praha - KP Brno 0:2 (-22\,-16)
DTSTART;TZID=Europe/Berlin:20240421T090000
DTEND;TZID=Europe/Berlin:20240421T110000
LOCATION:Mattoni Arena Hala míčových sportů\, Západní 1812 Karlovy Vary
SUMMARY:MCR-U16Z-C: Kometa Praha-KP Brno
END:VEVENT
BEGIN:VEVENT
UID:36333065-6335-4434-b631-636561393335
DTSTAMP:20260422T052723Z
DESCRIPTION:7/26 Kometa Praha - Slavia Plzeň 2:0 (14\,23)
DTSTART;TZID=Europe/Berlin:20240421T120000
DTEND;TZID=Europe/Berlin:20240421T140000
LOCATION:Mattoni Arena Hala míčových sportů\, Západní 1812 Karlovy Vary
SUMMARY:MCR-U16Z-C: Kometa Praha-Slavia Plzeň
END:VEVENT
BEGIN:VEVENT
UID:30393363-3332-4661-a336-643335383535
DTSTAMP:20260422T052723Z
DESCRIPTION:1/4 Rudolfov - Kometa Praha 2:1 (-23\,16\,11)
DTSTART;TZID=Europe/Berlin:20240420T100000
DTEND;TZID=Europe/Berlin:20240420T120000
LOCATION:Mattoni Arena Hala míčových sportů\, Západní 1812 Karlovy Vary
SUMMARY:MCR-U16Z-C: Rudolfov-Kometa Praha
END:VEVENT
BEGIN:VEVENT
UID:61396561-6162-4831-a365-636439363534
DTSTAMP:20260422T052723Z
DESCRIPTION:2/6 Kralupy - Kometa Praha 0:2 (-12\,-17)
DTSTART;TZID=Europe/Berlin:20240420T113000
DTEND;TZID=Europe/Berlin:20240420T133000
LOCATION:Mattoni Arena Hala míčových sportů\, Západní 1812 Karlovy Vary
SUMMARY:MCR-U16Z-C: Kralupy-Kometa Praha
END:VEVENT
BEGIN:VEVENT
UID:62646463-3832-4266-b461-616366353264
DTSTAMP:20260422T052724Z
DESCRIPTION:3/11 Karlovy Vary - Kometa Praha 2:0 (18\,17)
DTSTART;TZID=Europe/Berlin:20240420T140000
DTEND;TZID=Europe/Berlin:20240420T160000
LOCATION:Mattoni Arena Hala míčových sportů\, Západní 1812 Karlovy Vary
SUMMARY:MCR-U16Z-C: Karlovy Vary-Kometa Praha
END:VEVENT
BEGIN:VEVENT
UID:30366238-6136-4233-a138-633835323363
DTSTAMP:20260422T052724Z
DESCRIPTION:4/14 VC nad Metují - Kometa Praha 0:2 (-12\,-20)
DTSTART;TZID=Europe/Berlin:20240420T153000
DTEND;TZID=Europe/Berlin:20240420T173000
LOCATION:Mattoni Arena Hala míčových sportů\, Západní 1812 Karlovy Vary
SUMMARY:MCR-U16Z-C: VC nad Metují-Kometa Praha
END:VEVENT
BEGIN:VEVENT
UID:33633730-3164-4063-b334-323131643137
DTSTAMP:20260422T052724Z
DESCRIPTION:6/21 Ještědská - Kometa Praha 0:2 (-17\,-29)
DTSTART;TZID=Europe/Berlin:20240421T103000
DTEND;TZID=Europe/Berlin:20240421T123000
LOCATION:Mattoni Arena Hala míčových sportů\, Západní 1812 Karlovy Vary
SUMMARY:MCR-U16Z-C: Ještědská-Kometa Praha
END:VEVENT
END:VCALENDAR
