BEGIN:VCALENDAR
VERSION:2.0
PRODID:-//Kometa D83449//NONSGML kigkonsult.se iCalcreator 2.41.80//
CALSCALE:GREGORIAN
UID:38346535-6538-4231-a462-303136303536
BEGIN:VEVENT
UID:31376366-6238-4335-b031-393731646232
DTSTAMP:20260422T165817Z
DESCRIPTION:2/2 Kometa Praha D - Sokol Vršovice B 1:2 (-23\,17\,-8)
DTSTART;TZID=Europe/Berlin:20231105T100000
DTEND;TZID=Europe/Berlin:20231105T120000
LOCATION:ZŠ Glowackého\, Glowackého 555 Praha - Troja
SUMMARY:PP-U16Z-1-I: Kometa Praha D-Sokol Vršovice B
END:VEVENT
BEGIN:VEVENT
UID:64306562-6639-4265-a531-643266643566
DTSTAMP:20260422T165817Z
DESCRIPTION:5/5 Kometa Praha D - Sokol Vršovice A 2:1 (-11\,22\,11)
DTSTART;TZID=Europe/Berlin:20231105T130000
DTEND;TZID=Europe/Berlin:20231105T150000
LOCATION:ZŠ Glowackého\, Glowackého 555 Praha - Troja
SUMMARY:PP-U16Z-1-I: Kometa Praha D-Sokol Vršovice A
END:VEVENT
BEGIN:VEVENT
UID:33323161-3438-4564-b332-363563323335
DTSTAMP:20260422T165817Z
DESCRIPTION:4/4 Horní Počernice B - Kometa Praha D 2:0 (15\,15)
DTSTART;TZID=Europe/Berlin:20231105T120000
DTEND;TZID=Europe/Berlin:20231105T140000
LOCATION:ZŠ Glowackého\, Glowackého 555 Praha - Troja
SUMMARY:PP-U16Z-1-I: Horní Počernice B-Kometa Praha D
END:VEVENT
BEGIN:VEVENT
UID:30383338-3239-4364-a264-363534393862
DTSTAMP:20260422T165817Z
DESCRIPTION:1/2 Kometa Praha D - Kometa Praha E 2:0 (24\,11)
DTSTART;TZID=Europe/Berlin:20231203T100000
DTEND;TZID=Europe/Berlin:20231203T120000
LOCATION:FZŠ Mezi Školami\, Mezi školami 2322 Praha - Stodůlky
SUMMARY:PP-U16Z-2-J: Kometa Praha D-Kometa Praha E
END:VEVENT
BEGIN:VEVENT
UID:38653463-3839-4364-b838-303565373533
DTSTAMP:20260422T165817Z
DESCRIPTION:2/5 Kometa Praha D - Kometa Praha E 2:0 (5\,8)
DTSTART;TZID=Europe/Berlin:20231203T130000
DTEND;TZID=Europe/Berlin:20231203T150000
LOCATION:FZŠ Mezi Školami\, Mezi školami 2322 Praha - Stodůlky
SUMMARY:PP-U16Z-2-J: Kometa Praha D-Kometa Praha E
END:VEVENT
BEGIN:VEVENT
UID:37333334-3261-4733-a364-333636373239
DTSTAMP:20260422T165817Z
DESCRIPTION:1/3 SAVO Praha B - Kometa Praha D 0:2 (-7\,-14)
DTSTART;TZID=Europe/Berlin:20231203T110000
DTEND;TZID=Europe/Berlin:20231203T130000
LOCATION:FZŠ Mezi Školami\, Mezi školami 2322 Praha - Stodůlky
SUMMARY:PP-U16Z-2-J: SAVO Praha B-Kometa Praha D
END:VEVENT
BEGIN:VEVENT
UID:36363333-3039-4663-b339-616539393661
DTSTAMP:20260422T165817Z
DESCRIPTION:2/6 SAVO Praha B - Kometa Praha D 0:2 (-21\,-16)
DTSTART;TZID=Europe/Berlin:20231203T140000
DTEND;TZID=Europe/Berlin:20231203T160000
LOCATION:FZŠ Mezi Školami\, Mezi školami 2322 Praha - Stodůlky
SUMMARY:PP-U16Z-2-J: SAVO Praha B-Kometa Praha D
END:VEVENT
BEGIN:VEVENT
UID:38666331-3136-4165-a264-306532656337
DTSTAMP:20260422T165817Z
DESCRIPTION:2/3 Kometa Praha D - Mikulova D 1:2 (-19\,18\,-5)
DTSTART;TZID=Europe/Berlin:20240107T133000
DTEND;TZID=Europe/Berlin:20240107T153000
LOCATION:SKŠ ZŠ Mikulova Praha\, Mikulova 1594 Praha - Chodov
SUMMARY:PP-U16Z-3-I: Kometa Praha D-Mikulova D
END:VEVENT
BEGIN:VEVENT
UID:61663636-3132-4963-b464-393734656230
DTSTAMP:20260422T165817Z
DESCRIPTION:1/1 Španielka B - Kometa Praha D 0:2 (-22\,-9)
DTSTART;TZID=Europe/Berlin:20240107T123000
DTEND;TZID=Europe/Berlin:20240107T143000
LOCATION:SKŠ ZŠ Mikulova Praha\, Mikulova 1594 Praha - Chodov
SUMMARY:PP-U16Z-3-I: Španielka B-Kometa Praha D
END:VEVENT
BEGIN:VEVENT
UID:30633437-3139-4636-b330-663364323932
DTSTAMP:20260422T165817Z
DESCRIPTION:3/5 Sokol Vršovice A - Kometa Praha D 2:0 (10\,22)
DTSTART;TZID=Europe/Berlin:20240107T143000
DTEND;TZID=Europe/Berlin:20240107T163000
LOCATION:SKŠ ZŠ Mikulova Praha\, Mikulova 1594 Praha - Chodov
SUMMARY:PP-U16Z-3-I: Sokol Vršovice A-Kometa Praha D
END:VEVENT
BEGIN:VEVENT
UID:37646666-3261-4664-b830-353339623939
DTSTAMP:20260422T165817Z
DESCRIPTION:3/6 Kometa Praha D - SK JOKY B 2:1 (-22\,12\,12)
DTSTART;TZID=Europe/Berlin:20240121T120000
DTEND;TZID=Europe/Berlin:20240121T140000
LOCATION:FZŠ Mezi Školami\, Mezi školami 2322 Praha - Stodůlky
SUMMARY:PP-U16Z-4-I: Kometa Praha D-SK JOKY B
END:VEVENT
BEGIN:VEVENT
UID:30633439-6237-4130-b263-393532616139
DTSTAMP:20260422T165817Z
DESCRIPTION:1/2 Mikulova D - Kometa Praha D 2:1 (-14\,13\,10)
DTSTART;TZID=Europe/Berlin:20240121T100000
DTEND;TZID=Europe/Berlin:20240121T120000
LOCATION:FZŠ Mezi Školami\, Mezi školami 2322 Praha - Stodůlky
SUMMARY:PP-U16Z-4-I: Mikulova D-Kometa Praha D
END:VEVENT
BEGIN:VEVENT
UID:65306535-6134-4136-a531-393434386431
DTSTAMP:20260422T165817Z
DESCRIPTION:2/3 SAVO Praha B - Kometa Praha D 1:2 (-11\,16\,-12)
DTSTART;TZID=Europe/Berlin:20240121T110000
DTEND;TZID=Europe/Berlin:20240121T130000
LOCATION:FZŠ Mezi Školami\, Mezi školami 2322 Praha - Stodůlky
SUMMARY:PP-U16Z-4-I: SAVO Praha B-Kometa Praha D
END:VEVENT
BEGIN:VEVENT
UID:33633066-6139-4333-a565-346239323733
DTSTAMP:20260422T165817Z
DESCRIPTION:2/2 Kometa Praha D - SAVO Praha B 2:0 (18\,12)
DTSTART;TZID=Europe/Berlin:20240303T100000
DTEND;TZID=Europe/Berlin:20240303T120000
LOCATION:Tělocvična ZŠ Na Šutce\, Na Šutce 440 Praha - Troja
SUMMARY:PP-U16Z-5-I: Kometa Praha D-SAVO Praha B
END:VEVENT
BEGIN:VEVENT
UID:30366365-3462-4065-b732-313238646562
DTSTAMP:20260422T165817Z
DESCRIPTION:5/5 Kometa Praha D - Kometa Praha E 2:0 (17\,9)
DTSTART;TZID=Europe/Berlin:20240303T130000
DTEND;TZID=Europe/Berlin:20240303T150000
LOCATION:Tělocvična ZŠ Na Šutce\, Na Šutce 440 Praha - Troja
SUMMARY:PP-U16Z-5-I: Kometa Praha D-Kometa Praha E
END:VEVENT
BEGIN:VEVENT
UID:37393763-3831-4564-a236-313562633437
DTSTAMP:20260422T165817Z
DESCRIPTION:4/4 Horní Počernice B - Kometa Praha D 0:2 (-14\,-15)
DTSTART;TZID=Europe/Berlin:20240303T120000
DTEND;TZID=Europe/Berlin:20240303T140000
LOCATION:Tělocvična ZŠ Na Šutce\, Na Šutce 440 Praha - Troja
SUMMARY:PP-U16Z-5-I: Horní Počernice B-Kometa Praha D
END:VEVENT
BEGIN:VEVENT
UID:66633635-3739-4439-b037-363762653236
DTSTAMP:20260422T165817Z
DESCRIPTION:3/3 Kometa Praha D - Kometa Praha C 1:2 (-12\,12\,-12)
DTSTART;TZID=Europe/Berlin:20240407T110000
DTEND;TZID=Europe/Berlin:20240407T130000
LOCATION:Tělocvična ZŠ Na Šutce\, Na Šutce 440 Praha - Troja
SUMMARY:PP-U16Z-6-H: Kometa Praha D-Kometa Praha C
END:VEVENT
BEGIN:VEVENT
UID:66663961-3862-4266-a634-633863353665
DTSTAMP:20260422T165817Z
DESCRIPTION:1/1 Sokol Vršovice A - Kometa Praha D 0:2 (-21\,-17)
DTSTART;TZID=Europe/Berlin:20240407T090000
DTEND;TZID=Europe/Berlin:20240407T110000
LOCATION:Tělocvična ZŠ Na Šutce\, Na Šutce 440 Praha - Troja
SUMMARY:PP-U16Z-6-H: Sokol Vršovice A-Kometa Praha D
END:VEVENT
BEGIN:VEVENT
UID:62626138-3163-4536-b531-646464656339
DTSTAMP:20260422T165817Z
DESCRIPTION:5/5 Meteor Praha B - Kometa Praha D 2:0 (27\,20)
DTSTART;TZID=Europe/Berlin:20240407T130000
DTEND;TZID=Europe/Berlin:20240407T150000
LOCATION:Tělocvična ZŠ Na Šutce\, Na Šutce 440 Praha - Troja
SUMMARY:PP-U16Z-6-H: Meteor Praha B-Kometa Praha D
END:VEVENT
END:VCALENDAR
