BEGIN:VCALENDAR
VERSION:2.0
PRODID:-//Střešovice B83454//NONSGML kigkonsult.se iCalcreator 2.41.80//
CALSCALE:GREGORIAN
UID:62363533-3031-4462-a339-313566386164
BEGIN:VEVENT
UID:36333062-6362-4862-b239-623933656536
DTSTAMP:20260423T004332Z
DESCRIPTION:1/1 Střešovice B - Studio Sport 0:2 (-19\,-21)
DTSTART;TZID=Europe/Berlin:20231105T090000
DTEND;TZID=Europe/Berlin:20231105T110000
LOCATION:TJ Tatran Střešovice\, Sibeliova 368 Praha - Střešovice
SUMMARY:PP-U16Z-1-F: Střešovice B-Studio Sport
END:VEVENT
BEGIN:VEVENT
UID:63383761-3064-4432-b866-376462613064
DTSTAMP:20260423T004332Z
DESCRIPTION:4/4 Střešovice B - Dansport 2:1 (14\,-12\,8)
DTSTART;TZID=Europe/Berlin:20231105T120000
DTEND;TZID=Europe/Berlin:20231105T140000
LOCATION:TJ Tatran Střešovice\, Sibeliova 368 Praha - Střešovice
SUMMARY:PP-U16Z-1-F: Střešovice B-Dansport
END:VEVENT
BEGIN:VEVENT
UID:39666338-6137-4530-b062-646665333935
DTSTAMP:20260423T004332Z
DESCRIPTION:6/6 Meteor Praha B - Střešovice B 0:2 (-12\,-18)
DTSTART;TZID=Europe/Berlin:20231105T140000
DTEND;TZID=Europe/Berlin:20231105T160000
LOCATION:TJ Tatran Střešovice\, Sibeliova 368 Praha - Střešovice
SUMMARY:PP-U16Z-1-F: Meteor Praha B-Střešovice B
END:VEVENT
BEGIN:VEVENT
UID:31383932-3532-4938-b937-356466323765
DTSTAMP:20260423T004332Z
DESCRIPTION:2/2 Střešovice B - Dansport 0:2 (-23\,-18)
DTSTART;TZID=Europe/Berlin:20231203T100000
DTEND;TZID=Europe/Berlin:20231203T120000
LOCATION:, Sibeliova 368 Praha - Střešovice
SUMMARY:PP-U16Z-2-F: Střešovice B-Dansport
END:VEVENT
BEGIN:VEVENT
UID:30613737-6134-4530-a264-663532646237
DTSTAMP:20260423T004332Z
DESCRIPTION:5/5 Střešovice B - Slavia Praha B 2:0 (12\,19)
DTSTART;TZID=Europe/Berlin:20231203T130000
DTEND;TZID=Europe/Berlin:20231203T150000
LOCATION:, Sibeliova 368 Praha - Střešovice
SUMMARY:PP-U16Z-2-F: Střešovice B-Slavia Praha B
END:VEVENT
BEGIN:VEVENT
UID:63646661-6339-4361-b837-613139363633
DTSTAMP:20260423T004332Z
DESCRIPTION:4/4 SK JOKY A - Střešovice B 2:0 (23\,24)
DTSTART;TZID=Europe/Berlin:20231203T120000
DTEND;TZID=Europe/Berlin:20231203T140000
LOCATION:, Sibeliova 368 Praha - Střešovice
SUMMARY:PP-U16Z-2-F: SK JOKY A-Střešovice B
END:VEVENT
BEGIN:VEVENT
UID:37393539-3730-4665-a635-343930313534
DTSTAMP:20260423T004332Z
DESCRIPTION:3/6 Střešovice B - Mikulova C 1:2 (12\,-20\,-6)
DTSTART;TZID=Europe/Berlin:20240107T110000
DTEND;TZID=Europe/Berlin:20240107T130000
LOCATION:SKŠ ZŠ Mikulova Praha\, Mikulova 1594 Praha - Chodov
SUMMARY:PP-U16Z-3-F: Střešovice B-Mikulova C
END:VEVENT
BEGIN:VEVENT
UID:37666539-6263-4439-b161-313561306162
DTSTAMP:20260423T004332Z
DESCRIPTION:1/2 Dansport - Střešovice B 0:2 (-9\,-22)
DTSTART;TZID=Europe/Berlin:20240107T090000
DTEND;TZID=Europe/Berlin:20240107T110000
LOCATION:SKŠ ZŠ Mikulova Praha\, Mikulova 1594 Praha - Chodov
SUMMARY:PP-U16Z-3-F: Dansport-Střešovice B
END:VEVENT
BEGIN:VEVENT
UID:61353334-6133-4739-b433-636237646439
DTSTAMP:20260423T004332Z
DESCRIPTION:2/3 Kometa Praha B - Střešovice B 2:0 (27\,21)
DTSTART;TZID=Europe/Berlin:20240107T100000
DTEND;TZID=Europe/Berlin:20240107T120000
LOCATION:SKŠ ZŠ Mikulova Praha\, Mikulova 1594 Praha - Chodov
SUMMARY:PP-U16Z-3-F: Kometa Praha B-Střešovice B
END:VEVENT
BEGIN:VEVENT
UID:34303232-3338-4631-a436-303465396363
DTSTAMP:20260423T004332Z
DESCRIPTION:6/6 Střešovice B - SK JOKY A 0:2 (-13\,-16)
DTSTART;TZID=Europe/Berlin:20240121T140000
DTEND;TZID=Europe/Berlin:20240121T160000
LOCATION:MZŠ Polesná 1690\, Praha 21\, Polesná 1690 Praha - Újezd nad Lesy
SUMMARY:PP-U16Z-4-F: Střešovice B-SK JOKY A
END:VEVENT
BEGIN:VEVENT
UID:39303536-6434-4939-a138-616533633264
DTSTAMP:20260423T004332Z
DESCRIPTION:2/2 Kometa Praha B - Střešovice B 2:1 (20\,-17\,9)
DTSTART;TZID=Europe/Berlin:20240121T100000
DTEND;TZID=Europe/Berlin:20240121T120000
LOCATION:MZŠ Polesná 1690\, Praha 21\, Polesná 1690 Praha - Újezd nad Lesy
SUMMARY:PP-U16Z-4-F: Kometa Praha B-Střešovice B
END:VEVENT
BEGIN:VEVENT
UID:33646333-6631-4338-b566-386439303837
DTSTAMP:20260423T004332Z
DESCRIPTION:3/3 Radotínský SK - Střešovice B 2:1 (21\,-20\,15)
DTSTART;TZID=Europe/Berlin:20240121T110000
DTEND;TZID=Europe/Berlin:20240121T130000
LOCATION:MZŠ Polesná 1690\, Praha 21\, Polesná 1690 Praha - Újezd nad Lesy
SUMMARY:PP-U16Z-4-F: Radotínský SK-Střešovice B
END:VEVENT
BEGIN:VEVENT
UID:36316531-6136-4039-a462-303465653664
DTSTAMP:20260423T004332Z
DESCRIPTION:1/1 Střešovice B - Sokol Vršovice A 2:0 (20\,20)
DTSTART;TZID=Europe/Berlin:20240303T090000
DTEND;TZID=Europe/Berlin:20240303T110000
LOCATION:FZŠ Brdičkova\, Brdičkova 1878 Praha - Stodůlky
SUMMARY:PP-U16Z-5-G: Střešovice B-Sokol Vršovice A
END:VEVENT
BEGIN:VEVENT
UID:64353239-3466-4533-a535-643038356439
DTSTAMP:20260423T004332Z
DESCRIPTION:4/4 Střešovice B - Lvi Praha B 1:2 (20\,-21\,-9)
DTSTART;TZID=Europe/Berlin:20240303T120000
DTEND;TZID=Europe/Berlin:20240303T140000
LOCATION:FZŠ Brdičkova\, Brdičkova 1878 Praha - Stodůlky
SUMMARY:PP-U16Z-5-G: Střešovice B-Lvi Praha B
END:VEVENT
BEGIN:VEVENT
UID:64323134-6461-4231-b461-376136393664
DTSTAMP:20260423T004332Z
DESCRIPTION:6/6 Slavia Praha B - Střešovice B 2:1 (-23\,25\,8)
DTSTART;TZID=Europe/Berlin:20240303T140000
DTEND;TZID=Europe/Berlin:20240303T160000
LOCATION:FZŠ Brdičkova\, Brdičkova 1878 Praha - Stodůlky
SUMMARY:PP-U16Z-5-G: Slavia Praha B-Střešovice B
END:VEVENT
BEGIN:VEVENT
UID:61613263-3365-4630-b838-643762313137
DTSTAMP:20260423T004332Z
DESCRIPTION:6/6 Střešovice B - Kometa Praha B 0:2 (-19\,-16)
DTSTART;TZID=Europe/Berlin:20240407T140000
DTEND;TZID=Europe/Berlin:20240407T160000
LOCATION:TJ Tatran Střešovice - tělocvična\, Sibeliova 368 Praha - Střešovi
 ce
SUMMARY:PP-U16Z-6-G: Střešovice B-Kometa Praha B
END:VEVENT
BEGIN:VEVENT
UID:63653963-6335-4364-a366-323964316539
DTSTAMP:20260423T004332Z
DESCRIPTION:2/2 Lvi Praha B - Střešovice B 2:1 (-21\,23\,9)
DTSTART;TZID=Europe/Berlin:20240407T100000
DTEND;TZID=Europe/Berlin:20240407T120000
LOCATION:TJ Tatran Střešovice - tělocvična\, Sibeliova 368 Praha - Střešovi
 ce
SUMMARY:PP-U16Z-6-G: Lvi Praha B-Střešovice B
END:VEVENT
BEGIN:VEVENT
UID:30323437-6138-4232-b162-316439646139
DTSTAMP:20260423T004332Z
DESCRIPTION:3/3 Sokol Vršovice B - Střešovice B 2:1 (15\,-21\,10)
DTSTART;TZID=Europe/Berlin:20240407T110000
DTEND;TZID=Europe/Berlin:20240407T130000
LOCATION:TJ Tatran Střešovice - tělocvična\, Sibeliova 368 Praha - Střešovi
 ce
SUMMARY:PP-U16Z-6-G: Sokol Vršovice B-Střešovice B
END:VEVENT
END:VCALENDAR
