BEGIN:VCALENDAR
VERSION:2.0
PRODID:-//Španielka A83456//NONSGML kigkonsult.se iCalcreator 2.41.80//
CALSCALE:GREGORIAN
UID:36353364-6266-4133-a233-353533653163
BEGIN:VEVENT
UID:34396432-3731-4130-b133-636136353262
DTSTAMP:20260423T035347Z
DESCRIPTION:6/6 Španielka A - Lvi Praha A 2:1 (24\,-25\,13)
DTSTART;TZID=Europe/Berlin:20231105T140000
DTEND;TZID=Europe/Berlin:20231105T160000
LOCATION:Tělocvična ZŠ\, Španielova 1111 Praha - Řepy
SUMMARY:PP-U16Z-1-C: Španielka A-Lvi Praha A
END:VEVENT
BEGIN:VEVENT
UID:34616366-3833-4032-b461-336338353235
DTSTAMP:20260423T035347Z
DESCRIPTION:2/2 ABC Braník - Španielka A 2:0 (8\,16)
DTSTART;TZID=Europe/Berlin:20231105T100000
DTEND;TZID=Europe/Berlin:20231105T120000
LOCATION:Tělocvična ZŠ\, Španielova 1111 Praha - Řepy
SUMMARY:PP-U16Z-1-C: ABC Braník-Španielka A
END:VEVENT
BEGIN:VEVENT
UID:63316637-3832-4033-a461-366432646235
DTSTAMP:20260423T035347Z
DESCRIPTION:3/3 Orion Praha B - Španielka A 0:2 (-18\,-21)
DTSTART;TZID=Europe/Berlin:20231105T110000
DTEND;TZID=Europe/Berlin:20231105T130000
LOCATION:Tělocvična ZŠ\, Španielova 1111 Praha - Řepy
SUMMARY:PP-U16Z-1-C: Orion Praha B-Španielka A
END:VEVENT
BEGIN:VEVENT
UID:62313464-3034-4032-b231-393330336231
DTSTAMP:20260423T035347Z
DESCRIPTION:2/2 Španielka A - Lvi Praha A 1:2 (19\,-19\,-10)
DTSTART;TZID=Europe/Berlin:20231203T100000
DTEND;TZID=Europe/Berlin:20231203T120000
LOCATION:FZŠ Brdičkova\, Brdičkova 1878 Praha - Stodůlky
SUMMARY:PP-U16Z-2-C: Španielka A-Lvi Praha A
END:VEVENT
BEGIN:VEVENT
UID:66663861-3036-4336-b735-306364623730
DTSTAMP:20260423T035347Z
DESCRIPTION:5/5 Španielka A - Orion Praha C 2:1 (23\,-20\,10)
DTSTART;TZID=Europe/Berlin:20231203T130000
DTEND;TZID=Europe/Berlin:20231203T150000
LOCATION:FZŠ Brdičkova\, Brdičkova 1878 Praha - Stodůlky
SUMMARY:PP-U16Z-2-C: Španielka A-Orion Praha C
END:VEVENT
BEGIN:VEVENT
UID:39616339-6237-4135-b666-616464653233
DTSTAMP:20260423T035347Z
DESCRIPTION:4/4 Meteor Praha A - Španielka A 2:1 (-23\,11\,13)
DTSTART;TZID=Europe/Berlin:20231203T120000
DTEND;TZID=Europe/Berlin:20231203T140000
LOCATION:FZŠ Brdičkova\, Brdičkova 1878 Praha - Stodůlky
SUMMARY:PP-U16Z-2-C: Meteor Praha A-Španielka A
END:VEVENT
BEGIN:VEVENT
UID:32663839-6130-4038-a538-376237363364
DTSTAMP:20260423T035347Z
DESCRIPTION:6/6 Španielka A - Horní Počernice A 2:0 (22\,19)
DTSTART;TZID=Europe/Berlin:20240107T140000
DTEND;TZID=Europe/Berlin:20240107T160000
LOCATION:TJ Sokol Horní Počernice\, Chvalkovická 2031 Praha - Horní Počerni
 ce
SUMMARY:PP-U16Z-3-C: Španielka A-Horní Počernice A
END:VEVENT
BEGIN:VEVENT
UID:63376465-3262-4534-b539-653633366433
DTSTAMP:20260423T035347Z
DESCRIPTION:2/2 Meteor Praha A - Španielka A 2:0 (22\,21)
DTSTART;TZID=Europe/Berlin:20240107T100000
DTEND;TZID=Europe/Berlin:20240107T120000
LOCATION:TJ Sokol Horní Počernice\, Chvalkovická 2031 Praha - Horní Počerni
 ce
SUMMARY:PP-U16Z-3-C: Meteor Praha A-Španielka A
END:VEVENT
BEGIN:VEVENT
UID:63336335-3633-4636-a636-323137616133
DTSTAMP:20260423T035347Z
DESCRIPTION:3/3 Střešovice A - Španielka A 0:2 (-18\,-23)
DTSTART;TZID=Europe/Berlin:20240107T110000
DTEND;TZID=Europe/Berlin:20240107T130000
LOCATION:TJ Sokol Horní Počernice\, Chvalkovická 2031 Praha - Horní Počerni
 ce
SUMMARY:PP-U16Z-3-C: Střešovice A-Španielka A
END:VEVENT
BEGIN:VEVENT
UID:35666636-3332-4665-b134-656634623161
DTSTAMP:20260423T035347Z
DESCRIPTION:3/3 Španielka A - ABC Braník 1:2 (20\,-16\,-8)
DTSTART;TZID=Europe/Berlin:20240121T110000
DTEND;TZID=Europe/Berlin:20240121T130000
LOCATION:Tělocvična ZŠ\, Španielova 1111 Praha - Řepy
SUMMARY:PP-U16Z-4-B: Španielka A-ABC Braník
END:VEVENT
BEGIN:VEVENT
UID:35383632-6663-4737-b633-653237396135
DTSTAMP:20260423T035347Z
DESCRIPTION:1/1 Mikulova A - Španielka A 0:2 (-24\,-21)
DTSTART;TZID=Europe/Berlin:20240121T090000
DTEND;TZID=Europe/Berlin:20240121T110000
LOCATION:Tělocvična ZŠ\, Španielova 1111 Praha - Řepy
SUMMARY:PP-U16Z-4-B: Mikulova A-Španielka A
END:VEVENT
BEGIN:VEVENT
UID:34323536-3865-4231-a639-343266373363
DTSTAMP:20260423T035347Z
DESCRIPTION:5/5 OLYMP Praha B - Španielka A 2:1 (-20\,19\,10)
DTSTART;TZID=Europe/Berlin:20240121T130000
DTEND;TZID=Europe/Berlin:20240121T150000
LOCATION:Tělocvična ZŠ\, Španielova 1111 Praha - Řepy
SUMMARY:PP-U16Z-4-B: OLYMP Praha B-Španielka A
END:VEVENT
BEGIN:VEVENT
UID:34626163-3462-4135-b138-623030663937
DTSTAMP:20260423T035347Z
DESCRIPTION:2/2 Španielka A - ABC Braník 2:1 (18\,-22\,13)
DTSTART;TZID=Europe/Berlin:20240303T100000
DTEND;TZID=Europe/Berlin:20240303T120000
LOCATION:FZŠ Brdičkova\, Brdičkova 1878 Praha - Stodůlky
SUMMARY:PP-U16Z-5-B: Španielka A-ABC Braník
END:VEVENT
BEGIN:VEVENT
UID:33353763-3766-4162-a630-353839366237
DTSTAMP:20260423T035347Z
DESCRIPTION:5/5 Španielka A - Lvi Praha A 2:0 (18\,22)
DTSTART;TZID=Europe/Berlin:20240303T130000
DTEND;TZID=Europe/Berlin:20240303T150000
LOCATION:FZŠ Brdičkova\, Brdičkova 1878 Praha - Stodůlky
SUMMARY:PP-U16Z-5-B: Španielka A-Lvi Praha A
END:VEVENT
BEGIN:VEVENT
UID:30376436-3738-4061-a466-623461303736
DTSTAMP:20260423T035347Z
DESCRIPTION:4/4 Mikulova B - Španielka A 2:0 (17\,22)
DTSTART;TZID=Europe/Berlin:20240303T120000
DTEND;TZID=Europe/Berlin:20240303T140000
LOCATION:FZŠ Brdičkova\, Brdičkova 1878 Praha - Stodůlky
SUMMARY:PP-U16Z-5-B: Mikulova B-Španielka A
END:VEVENT
BEGIN:VEVENT
UID:64386532-3537-4537-b139-396437393739
DTSTAMP:20260423T035347Z
DESCRIPTION:2/2 Španielka A - Lvi Praha A 2:0 (19\,16)
DTSTART;TZID=Europe/Berlin:20240407T100000
DTEND;TZID=Europe/Berlin:20240407T120000
LOCATION:VCM OLYMP PRAHA \, Radlická 115 Praha - Radlice
SUMMARY:PP-U16Z-6-B: Španielka A-Lvi Praha A
END:VEVENT
BEGIN:VEVENT
UID:30626538-3339-4337-b664-313738656363
DTSTAMP:20260423T035347Z
DESCRIPTION:5/5 Španielka A - Mikulova A 2:1 (19\,-17\,16)
DTSTART;TZID=Europe/Berlin:20240407T130000
DTEND;TZID=Europe/Berlin:20240407T150000
LOCATION:VCM OLYMP PRAHA \, Radlická 115 Praha - Radlice
SUMMARY:PP-U16Z-6-B: Španielka A-Mikulova A
END:VEVENT
BEGIN:VEVENT
UID:38373133-3233-4334-a335-366339663439
DTSTAMP:20260423T035347Z
DESCRIPTION:4/4 OLYMP Praha B - Španielka A 1:2 (-18\,15\,-8)
DTSTART;TZID=Europe/Berlin:20240407T120000
DTEND;TZID=Europe/Berlin:20240407T140000
LOCATION:VCM OLYMP PRAHA \, Radlická 115 Praha - Radlice
SUMMARY:PP-U16Z-6-B: OLYMP Praha B-Španielka A
END:VEVENT
END:VCALENDAR
