BEGIN:VCALENDAR
VERSION:2.0
PRODID:-//Lvi Praha B83460//NONSGML kigkonsult.se iCalcreator 2.41.80//
CALSCALE:GREGORIAN
UID:31613265-6536-4633-a431-393335313866
BEGIN:VEVENT
UID:63366239-6630-4864-b765-316130613237
DTSTAMP:20260422T230052Z
DESCRIPTION:6/6 Lvi Praha B - Mikulova D 2:0 (21\,9)
DTSTART;TZID=Europe/Berlin:20231105T140000
DTEND;TZID=Europe/Berlin:20231105T160000
LOCATION:SKŠ ZŠ Mikulova Praha\, Mikulova 1594 Praha - Chodov
SUMMARY:PP-U16Z-1-H: Lvi Praha B-Mikulova D
END:VEVENT
BEGIN:VEVENT
UID:37633037-3663-4632-b039-363966306131
DTSTAMP:20260422T230052Z
DESCRIPTION:2/2 Radotínský SK - Lvi Praha B 0:2 (-19\,-18)
DTSTART;TZID=Europe/Berlin:20231105T100000
DTEND;TZID=Europe/Berlin:20231105T120000
LOCATION:SKŠ ZŠ Mikulova Praha\, Mikulova 1594 Praha - Chodov
SUMMARY:PP-U16Z-1-H: Radotínský SK-Lvi Praha B
END:VEVENT
BEGIN:VEVENT
UID:65663231-3862-4739-a266-336664663961
DTSTAMP:20260422T230052Z
DESCRIPTION:3/3 SK JOKY B - Lvi Praha B 2:0 (23\,25)
DTSTART;TZID=Europe/Berlin:20231105T110000
DTEND;TZID=Europe/Berlin:20231105T130000
LOCATION:SKŠ ZŠ Mikulova Praha\, Mikulova 1594 Praha - Chodov
SUMMARY:PP-U16Z-1-H: SK JOKY B-Lvi Praha B
END:VEVENT
BEGIN:VEVENT
UID:66633135-3935-4136-b630-303037396462
DTSTAMP:20260422T230052Z
DESCRIPTION:2/2 Lvi Praha B - Radotínský SK 1:2 (-22\,18\,-12)
DTSTART;TZID=Europe/Berlin:20231203T100000
DTEND;TZID=Europe/Berlin:20231203T120000
LOCATION:FZŠ Brdičkova\, Brdičkova 1878 Praha - Stodůlky
SUMMARY:PP-U16Z-2-H: Lvi Praha B-Radotínský SK
END:VEVENT
BEGIN:VEVENT
UID:61316363-3735-4366-a639-323636313533
DTSTAMP:20260422T230052Z
DESCRIPTION:5/5 Lvi Praha B - Sokol Vršovice B 2:0 (27\,8)
DTSTART;TZID=Europe/Berlin:20231203T130000
DTEND;TZID=Europe/Berlin:20231203T150000
LOCATION:FZŠ Brdičkova\, Brdičkova 1878 Praha - Stodůlky
SUMMARY:PP-U16Z-2-H: Lvi Praha B-Sokol Vršovice B
END:VEVENT
BEGIN:VEVENT
UID:63373330-3831-4531-b230-356538626536
DTSTAMP:20260422T230052Z
DESCRIPTION:4/4 Španielka B - Lvi Praha B 0:2 (-12\,-19)
DTSTART;TZID=Europe/Berlin:20231203T120000
DTEND;TZID=Europe/Berlin:20231203T140000
LOCATION:FZŠ Brdičkova\, Brdičkova 1878 Praha - Stodůlky
SUMMARY:PP-U16Z-2-H: Španielka B-Lvi Praha B
END:VEVENT
BEGIN:VEVENT
UID:39373736-3830-4430-a531-316234663634
DTSTAMP:20260422T230052Z
DESCRIPTION:2/2 Lvi Praha B - Sokol Vršovice B 2:1 (-14\,17\,6)
DTSTART;TZID=Europe/Berlin:20240107T100000
DTEND;TZID=Europe/Berlin:20240107T120000
LOCATION:MZŠ Polesná 1690\, Praha 21\, Polesná 1690 Praha - Újezd nad Lesy
SUMMARY:PP-U16Z-3-H: Lvi Praha B-Sokol Vršovice B
END:VEVENT
BEGIN:VEVENT
UID:36313862-6462-4933-a531-383534626435
DTSTAMP:20260422T230052Z
DESCRIPTION:5/5 Lvi Praha B - Horní Počernice B 2:0 (13\,21)
DTSTART;TZID=Europe/Berlin:20240107T130000
DTEND;TZID=Europe/Berlin:20240107T150000
LOCATION:MZŠ Polesná 1690\, Praha 21\, Polesná 1690 Praha - Újezd nad Lesy
SUMMARY:PP-U16Z-3-H: Lvi Praha B-Horní Počernice B
END:VEVENT
BEGIN:VEVENT
UID:35333566-3963-4566-b234-636439616335
DTSTAMP:20260422T230052Z
DESCRIPTION:4/4 SK JOKY B - Lvi Praha B 1:2 (-19\,22\,-6)
DTSTART;TZID=Europe/Berlin:20240107T120000
DTEND;TZID=Europe/Berlin:20240107T140000
LOCATION:MZŠ Polesná 1690\, Praha 21\, Polesná 1690 Praha - Újezd nad Lesy
SUMMARY:PP-U16Z-3-H: SK JOKY B-Lvi Praha B
END:VEVENT
BEGIN:VEVENT
UID:30373132-3461-4964-a433-333233353964
DTSTAMP:20260422T230052Z
DESCRIPTION:2/3 Lvi Praha B - Kometa Praha C 2:0 (23\,14)
DTSTART;TZID=Europe/Berlin:20240121T133000
DTEND;TZID=Europe/Berlin:20240121T153000
LOCATION:SKŠ ZŠ Mikulova Praha\, Mikulova 1594 Praha - Chodov
SUMMARY:PP-U16Z-4-G: Lvi Praha B-Kometa Praha C
END:VEVENT
BEGIN:VEVENT
UID:32616462-3633-4533-a333-373436666561
DTSTAMP:20260422T230052Z
DESCRIPTION:1/1 Dansport - Lvi Praha B 2:0 (24\,15)
DTSTART;TZID=Europe/Berlin:20240121T123000
DTEND;TZID=Europe/Berlin:20240121T143000
LOCATION:SKŠ ZŠ Mikulova Praha\, Mikulova 1594 Praha - Chodov
SUMMARY:PP-U16Z-4-G: Dansport-Lvi Praha B
END:VEVENT
BEGIN:VEVENT
UID:64633164-3538-4666-b334-343163366438
DTSTAMP:20260422T230052Z
DESCRIPTION:3/5 Slavia Praha B - Lvi Praha B 0:2 (-13\,-18)
DTSTART;TZID=Europe/Berlin:20240121T143000
DTEND;TZID=Europe/Berlin:20240121T163000
LOCATION:SKŠ ZŠ Mikulova Praha\, Mikulova 1594 Praha - Chodov
SUMMARY:PP-U16Z-4-G: Slavia Praha B-Lvi Praha B
END:VEVENT
BEGIN:VEVENT
UID:61366665-3266-4566-a463-656461306131
DTSTAMP:20260422T230052Z
DESCRIPTION:2/2 Lvi Praha B - Slavia Praha B 1:2 (23\,-23\,-15)
DTSTART;TZID=Europe/Berlin:20240303T100000
DTEND;TZID=Europe/Berlin:20240303T120000
LOCATION:FZŠ Brdičkova\, Brdičkova 1878 Praha - Stodůlky
SUMMARY:PP-U16Z-5-G: Lvi Praha B-Slavia Praha B
END:VEVENT
BEGIN:VEVENT
UID:63363966-3461-4439-b531-313238376565
DTSTAMP:20260422T230052Z
DESCRIPTION:5/5 Lvi Praha B - Sokol Vršovice A 2:1 (25\,-23\,13)
DTSTART;TZID=Europe/Berlin:20240303T130000
DTEND;TZID=Europe/Berlin:20240303T150000
LOCATION:FZŠ Brdičkova\, Brdičkova 1878 Praha - Stodůlky
SUMMARY:PP-U16Z-5-G: Lvi Praha B-Sokol Vršovice A
END:VEVENT
BEGIN:VEVENT
UID:32623063-3262-4832-b135-353864303061
DTSTAMP:20260422T230052Z
DESCRIPTION:4/4 Střešovice B - Lvi Praha B 1:2 (20\,-21\,-9)
DTSTART;TZID=Europe/Berlin:20240303T120000
DTEND;TZID=Europe/Berlin:20240303T140000
LOCATION:FZŠ Brdičkova\, Brdičkova 1878 Praha - Stodůlky
SUMMARY:PP-U16Z-5-G: Střešovice B-Lvi Praha B
END:VEVENT
BEGIN:VEVENT
UID:64316634-3739-4364-b232-366637393861
DTSTAMP:20260422T230052Z
DESCRIPTION:2/2 Lvi Praha B - Střešovice B 2:1 (-21\,23\,9)
DTSTART;TZID=Europe/Berlin:20240407T100000
DTEND;TZID=Europe/Berlin:20240407T120000
LOCATION:TJ Tatran Střešovice - tělocvična\, Sibeliova 368 Praha - Střešovi
 ce
SUMMARY:PP-U16Z-6-G: Lvi Praha B-Střešovice B
END:VEVENT
BEGIN:VEVENT
UID:61316666-6666-4664-a630-313163366433
DTSTAMP:20260422T230052Z
DESCRIPTION:5/5 Lvi Praha B - Sokol Vršovice B 1:2 (-8\,18\,-8)
DTSTART;TZID=Europe/Berlin:20240407T130000
DTEND;TZID=Europe/Berlin:20240407T150000
LOCATION:TJ Tatran Střešovice - tělocvična\, Sibeliova 368 Praha - Střešovi
 ce
SUMMARY:PP-U16Z-6-G: Lvi Praha B-Sokol Vršovice B
END:VEVENT
BEGIN:VEVENT
UID:63386439-3733-4661-a336-323737626436
DTSTAMP:20260422T230052Z
DESCRIPTION:4/4 Kometa Praha B - Lvi Praha B 2:0 (20\,16)
DTSTART;TZID=Europe/Berlin:20240407T120000
DTEND;TZID=Europe/Berlin:20240407T140000
LOCATION:TJ Tatran Střešovice - tělocvična\, Sibeliova 368 Praha - Střešovi
 ce
SUMMARY:PP-U16Z-6-G: Kometa Praha B-Lvi Praha B
END:VEVENT
END:VCALENDAR
