BEGIN:VCALENDAR
VERSION:2.0
PRODID:-//Španielka B83467//NONSGML kigkonsult.se iCalcreator 2.41.80//
CALSCALE:GREGORIAN
UID:31393265-3034-4833-b365-666461353139
BEGIN:VEVENT
UID:63346161-6432-4737-b362-393634363036
DTSTAMP:20260423T004404Z
DESCRIPTION:6/6 Španielka B - Kometa Praha B 0:2 (-7\,-11)
DTSTART;TZID=Europe/Berlin:20231105T140000
DTEND;TZID=Europe/Berlin:20231105T160000
LOCATION:Tělocvična ZŠ Na Šutce\, Na Šutce 440 Praha - Troja
SUMMARY:PP-U16Z-1-G: Španielka B-Kometa Praha B
END:VEVENT
BEGIN:VEVENT
UID:66363666-3834-4236-a565-346539336537
DTSTAMP:20260423T004404Z
DESCRIPTION:2/2 Kometa Praha C - Španielka B 2:0 (16\,12)
DTSTART;TZID=Europe/Berlin:20231105T100000
DTEND;TZID=Europe/Berlin:20231105T120000
LOCATION:Tělocvična ZŠ Na Šutce\, Na Šutce 440 Praha - Troja
SUMMARY:PP-U16Z-1-G: Kometa Praha C-Španielka B
END:VEVENT
BEGIN:VEVENT
UID:65613666-6463-4733-b830-353538363463
DTSTAMP:20260423T004404Z
DESCRIPTION:3/3 Slavia Praha B - Španielka B 2:0 (17\,6)
DTSTART;TZID=Europe/Berlin:20231105T110000
DTEND;TZID=Europe/Berlin:20231105T130000
LOCATION:Tělocvična ZŠ Na Šutce\, Na Šutce 440 Praha - Troja
SUMMARY:PP-U16Z-1-G: Slavia Praha B-Španielka B
END:VEVENT
BEGIN:VEVENT
UID:63383164-6565-4335-b364-336336613662
DTSTAMP:20260423T004404Z
DESCRIPTION:1/1 Španielka B - Sokol Vršovice B 0:2 (-10\,-17)
DTSTART;TZID=Europe/Berlin:20231203T090000
DTEND;TZID=Europe/Berlin:20231203T110000
LOCATION:FZŠ Brdičkova\, Brdičkova 1878 Praha - Stodůlky
SUMMARY:PP-U16Z-2-H: Španielka B-Sokol Vršovice B
END:VEVENT
BEGIN:VEVENT
UID:36653861-3233-4334-b437-366563356466
DTSTAMP:20260423T004404Z
DESCRIPTION:4/4 Španielka B - Lvi Praha B 0:2 (-12\,-19)
DTSTART;TZID=Europe/Berlin:20231203T120000
DTEND;TZID=Europe/Berlin:20231203T140000
LOCATION:FZŠ Brdičkova\, Brdičkova 1878 Praha - Stodůlky
SUMMARY:PP-U16Z-2-H: Španielka B-Lvi Praha B
END:VEVENT
BEGIN:VEVENT
UID:31646662-3861-4935-b061-336231356339
DTSTAMP:20260423T004404Z
DESCRIPTION:6/6 Radotínský SK - Španielka B 2:0 (11\,11)
DTSTART;TZID=Europe/Berlin:20231203T140000
DTEND;TZID=Europe/Berlin:20231203T160000
LOCATION:FZŠ Brdičkova\, Brdičkova 1878 Praha - Stodůlky
SUMMARY:PP-U16Z-2-H: Radotínský SK-Španielka B
END:VEVENT
BEGIN:VEVENT
UID:62633535-6636-4632-b438-646564616163
DTSTAMP:20260423T004404Z
DESCRIPTION:1/1 Španielka B - Kometa Praha D 0:2 (-22\,-9)
DTSTART;TZID=Europe/Berlin:20240107T123000
DTEND;TZID=Europe/Berlin:20240107T143000
LOCATION:SKŠ ZŠ Mikulova Praha\, Mikulova 1594 Praha - Chodov
SUMMARY:PP-U16Z-3-I: Španielka B-Kometa Praha D
END:VEVENT
BEGIN:VEVENT
UID:61666131-6137-4435-b534-326663313135
DTSTAMP:20260423T004404Z
DESCRIPTION:2/4 Španielka B - Sokol Vršovice A 0:2 (-21\,-11)
DTSTART;TZID=Europe/Berlin:20240107T133000
DTEND;TZID=Europe/Berlin:20240107T153000
LOCATION:SKŠ ZŠ Mikulova Praha\, Mikulova 1594 Praha - Chodov
SUMMARY:PP-U16Z-3-I: Španielka B-Sokol Vršovice A
END:VEVENT
BEGIN:VEVENT
UID:65653731-3435-4537-b839-663937376261
DTSTAMP:20260423T004404Z
DESCRIPTION:3/6 Mikulova D - Španielka B 2:0 (19\,13)
DTSTART;TZID=Europe/Berlin:20240107T143000
DTEND;TZID=Europe/Berlin:20240107T163000
LOCATION:SKŠ ZŠ Mikulova Praha\, Mikulova 1594 Praha - Chodov
SUMMARY:PP-U16Z-3-I: Mikulova D-Španielka B
END:VEVENT
BEGIN:VEVENT
UID:30316333-3838-4931-b362-383936316561
DTSTAMP:20260423T004404Z
DESCRIPTION:1/2 Španielka B - Wizards DDM 2:1 (-19\,15\,12)
DTSTART;TZID=Europe/Berlin:20240121T100000
DTEND;TZID=Europe/Berlin:20240121T120000
LOCATION:Tělocvična ZŠ\, Španielova 1111 Praha - Řepy
SUMMARY:PP-U16Z-4-J: Španielka B-Wizards DDM
END:VEVENT
BEGIN:VEVENT
UID:33633635-3837-4166-b435-353931346632
DTSTAMP:20260423T004404Z
DESCRIPTION:2/5 Španielka B - Wizards DDM 0:2 (-20\,-14)
DTSTART;TZID=Europe/Berlin:20240121T130000
DTEND;TZID=Europe/Berlin:20240121T150000
LOCATION:Tělocvična ZŠ\, Španielova 1111 Praha - Řepy
SUMMARY:PP-U16Z-4-J: Španielka B-Wizards DDM
END:VEVENT
BEGIN:VEVENT
UID:62333534-3430-4265-a238-393136346565
DTSTAMP:20260423T004404Z
DESCRIPTION:1/3 Kometa Praha E - Španielka B 2:0 (21\,19)
DTSTART;TZID=Europe/Berlin:20240121T110000
DTEND;TZID=Europe/Berlin:20240121T130000
LOCATION:Tělocvična ZŠ\, Španielova 1111 Praha - Řepy
SUMMARY:PP-U16Z-4-J: Kometa Praha E-Španielka B
END:VEVENT
BEGIN:VEVENT
UID:63333365-3763-4237-b363-343862386533
DTSTAMP:20260423T004404Z
DESCRIPTION:2/6 Kometa Praha E - Španielka B 2:0 (20\,10)
DTSTART;TZID=Europe/Berlin:20240121T140000
DTEND;TZID=Europe/Berlin:20240121T160000
LOCATION:Tělocvična ZŠ\, Španielova 1111 Praha - Řepy
SUMMARY:PP-U16Z-4-J: Kometa Praha E-Španielka B
END:VEVENT
BEGIN:VEVENT
UID:37616664-3265-4438-b035-653034636437
DTSTAMP:20260423T004404Z
DESCRIPTION:1/3 Španielka B - SK JOKY B 1:2 (19\,-17\,-4)
DTSTART;TZID=Europe/Berlin:20240303T110000
DTEND;TZID=Europe/Berlin:20240303T130000
LOCATION:Tělocvična ZŠ\, Španielova 1111 Praha - Řepy
SUMMARY:PP-U16Z-5-J: Španielka B-SK JOKY B
END:VEVENT
BEGIN:VEVENT
UID:39363538-3966-4162-b766-666133393137
DTSTAMP:20260423T004404Z
DESCRIPTION:2/6 Španielka B - SK JOKY B 0:2 (-24\,-16)
DTSTART;TZID=Europe/Berlin:20240303T140000
DTEND;TZID=Europe/Berlin:20240303T160000
LOCATION:Tělocvična ZŠ\, Španielova 1111 Praha - Řepy
SUMMARY:PP-U16Z-5-J: Španielka B-SK JOKY B
END:VEVENT
BEGIN:VEVENT
UID:35623532-3862-4337-a131-656530336230
DTSTAMP:20260423T004404Z
DESCRIPTION:1/1 Wizards DDM - Španielka B 2:0 (18\,17)
DTSTART;TZID=Europe/Berlin:20240303T090000
DTEND;TZID=Europe/Berlin:20240303T110000
LOCATION:Tělocvična ZŠ\, Španielova 1111 Praha - Řepy
SUMMARY:PP-U16Z-5-J: Wizards DDM-Španielka B
END:VEVENT
BEGIN:VEVENT
UID:31343034-3763-4337-b638-313335333239
DTSTAMP:20260423T004404Z
DESCRIPTION:2/4 Wizards DDM - Španielka B 2:0 (9\,24)
DTSTART;TZID=Europe/Berlin:20240303T120000
DTEND;TZID=Europe/Berlin:20240303T140000
LOCATION:Tělocvična ZŠ\, Španielova 1111 Praha - Řepy
SUMMARY:PP-U16Z-5-J: Wizards DDM-Španielka B
END:VEVENT
BEGIN:VEVENT
UID:36653632-3862-4666-b362-613533383961
DTSTAMP:20260423T004404Z
DESCRIPTION:1/3 Španielka B - Kometa Praha E 0:2 (-18\,-19)
DTSTART;TZID=Europe/Berlin:20240407T110000
DTEND;TZID=Europe/Berlin:20240407T130000
LOCATION:Tělocvična ZŠ\, Španielova 1111 Praha - Řepy
SUMMARY:PP-U16Z-6-J: Španielka B-Kometa Praha E
END:VEVENT
BEGIN:VEVENT
UID:32636562-3038-4462-b534-393136393062
DTSTAMP:20260423T004404Z
DESCRIPTION:2/6 Španielka B - Kometa Praha E 2:1 (17\,-25\,12)
DTSTART;TZID=Europe/Berlin:20240407T140000
DTEND;TZID=Europe/Berlin:20240407T160000
LOCATION:Tělocvična ZŠ\, Španielova 1111 Praha - Řepy
SUMMARY:PP-U16Z-6-J: Španielka B-Kometa Praha E
END:VEVENT
BEGIN:VEVENT
UID:30646137-6438-4265-b833-326666313466
DTSTAMP:20260423T004404Z
DESCRIPTION:1/1 Wizards DDM - Španielka B 2:0 (14\,11)
DTSTART;TZID=Europe/Berlin:20240407T090000
DTEND;TZID=Europe/Berlin:20240407T110000
LOCATION:Tělocvična ZŠ\, Španielova 1111 Praha - Řepy
SUMMARY:PP-U16Z-6-J: Wizards DDM-Španielka B
END:VEVENT
BEGIN:VEVENT
UID:31373730-3335-4962-b835-613761333766
DTSTAMP:20260423T004404Z
DESCRIPTION:2/4 Wizards DDM - Španielka B 0:2 (-23\,-22)
DTSTART;TZID=Europe/Berlin:20240407T120000
DTEND;TZID=Europe/Berlin:20240407T140000
LOCATION:Tělocvična ZŠ\, Španielova 1111 Praha - Řepy
SUMMARY:PP-U16Z-6-J: Wizards DDM-Španielka B
END:VEVENT
END:VCALENDAR
