BEGIN:VCALENDAR
VERSION:2.0
PRODID:-//SAVO Praha A83469//NONSGML kigkonsult.se iCalcreator 2.41.80//
CALSCALE:GREGORIAN
UID:64303334-6430-4430-b430-663938366663
BEGIN:VEVENT
UID:35646165-6365-4035-a339-353466333133
DTSTAMP:20260423T042836Z
DESCRIPTION:2/2 SAVO Praha A - Střešovice A 0:2 (-23\,-22)
DTSTART;TZID=Europe/Berlin:20231105T100000
DTEND;TZID=Europe/Berlin:20231105T120000
LOCATION:SKŠ ZŠ Mikulova Praha\, Mikulova 1594 Praha - Chodov
SUMMARY:PP-U16Z-1-D: SAVO Praha A-Střešovice A
END:VEVENT
BEGIN:VEVENT
UID:32343532-6138-4333-a531-373933663733
DTSTAMP:20260423T042836Z
DESCRIPTION:5/5 SAVO Praha A - Orion Praha C 0:2 (-19\,-22)
DTSTART;TZID=Europe/Berlin:20231105T130000
DTEND;TZID=Europe/Berlin:20231105T150000
LOCATION:SKŠ ZŠ Mikulova Praha\, Mikulova 1594 Praha - Chodov
SUMMARY:PP-U16Z-1-D: SAVO Praha A-Orion Praha C
END:VEVENT
BEGIN:VEVENT
UID:35356531-3935-4134-b133-353761383062
DTSTAMP:20260423T042836Z
DESCRIPTION:4/4 Mikulova C - SAVO Praha A 0:2 (-18\,-21)
DTSTART;TZID=Europe/Berlin:20231105T120000
DTEND;TZID=Europe/Berlin:20231105T140000
LOCATION:SKŠ ZŠ Mikulova Praha\, Mikulova 1594 Praha - Chodov
SUMMARY:PP-U16Z-1-D: Mikulova C-SAVO Praha A
END:VEVENT
BEGIN:VEVENT
UID:34633433-3536-4235-b037-353134333037
DTSTAMP:20260423T042836Z
DESCRIPTION:6/6 SAVO Praha A - Orion Praha B 1:2 (-21\,21\,-10)
DTSTART;TZID=Europe/Berlin:20231203T140000
DTEND;TZID=Europe/Berlin:20231203T160000
LOCATION:FZŠ Mezi Školami\, Mezi školami 2322 Praha - Stodůlky
SUMMARY:PP-U16Z-2-D: SAVO Praha A-Orion Praha B
END:VEVENT
BEGIN:VEVENT
UID:62643733-3839-4939-b962-616161623232
DTSTAMP:20260423T042836Z
DESCRIPTION:2/2 Střešovice A - SAVO Praha A 2:1 (10\,-13\,8)
DTSTART;TZID=Europe/Berlin:20231203T100000
DTEND;TZID=Europe/Berlin:20231203T120000
LOCATION:FZŠ Mezi Školami\, Mezi školami 2322 Praha - Stodůlky
SUMMARY:PP-U16Z-2-D: Střešovice A-SAVO Praha A
END:VEVENT
BEGIN:VEVENT
UID:39353466-6263-4332-b637-306131393138
DTSTAMP:20260423T042836Z
DESCRIPTION:3/3 OLYMP Praha C - SAVO Praha A 1:2 (-23\,18\,-6)
DTSTART;TZID=Europe/Berlin:20231203T110000
DTEND;TZID=Europe/Berlin:20231203T130000
LOCATION:FZŠ Mezi Školami\, Mezi školami 2322 Praha - Stodůlky
SUMMARY:PP-U16Z-2-D: OLYMP Praha C-SAVO Praha A
END:VEVENT
BEGIN:VEVENT
UID:66663235-3334-4633-b963-663035313362
DTSTAMP:20260423T042836Z
DESCRIPTION:6/6 SAVO Praha A - Orion Praha C 0:2 (-24\,-21)
DTSTART;TZID=Europe/Berlin:20240107T140000
DTEND;TZID=Europe/Berlin:20240107T160000
LOCATION:ZŠ Dolní Břežany\, Na Vršku 290 Dolní Břežany
SUMMARY:PP-U16Z-3-D: SAVO Praha A-Orion Praha C
END:VEVENT
BEGIN:VEVENT
UID:39393133-3737-4361-b636-303739346366
DTSTAMP:20260423T042836Z
DESCRIPTION:2/2 OLYMP Praha C - SAVO Praha A 2:0 (16\,16)
DTSTART;TZID=Europe/Berlin:20240107T100000
DTEND;TZID=Europe/Berlin:20240107T120000
LOCATION:ZŠ Dolní Břežany\, Na Vršku 290 Dolní Břežany
SUMMARY:PP-U16Z-3-D: OLYMP Praha C-SAVO Praha A
END:VEVENT
BEGIN:VEVENT
UID:62663066-3031-4362-b232-356534323239
DTSTAMP:20260423T042836Z
DESCRIPTION:3/3 Studio Sport - SAVO Praha A 1:2 (-23\,23\,-9)
DTSTART;TZID=Europe/Berlin:20240107T110000
DTEND;TZID=Europe/Berlin:20240107T130000
LOCATION:ZŠ Dolní Břežany\, Na Vršku 290 Dolní Břežany
SUMMARY:PP-U16Z-3-D: Studio Sport-SAVO Praha A
END:VEVENT
BEGIN:VEVENT
UID:62633736-6431-4434-b161-356332623464
DTSTAMP:20260423T042836Z
DESCRIPTION:1/1 SAVO Praha A - Mikulova C 0:2 (-18\,-18)
DTSTART;TZID=Europe/Berlin:20240121T090000
DTEND;TZID=Europe/Berlin:20240121T110000
LOCATION:SKŠ ZŠ Mikulova Praha\, Mikulova 1594 Praha - Chodov
SUMMARY:PP-U16Z-4-E: SAVO Praha A-Mikulova C
END:VEVENT
BEGIN:VEVENT
UID:32656164-6637-4034-a331-663938626131
DTSTAMP:20260423T042836Z
DESCRIPTION:2/4 SAVO Praha A - Slavia Praha A 0:2 (-17\,-9)
DTSTART;TZID=Europe/Berlin:20240121T100000
DTEND;TZID=Europe/Berlin:20240121T120000
LOCATION:SKŠ ZŠ Mikulova Praha\, Mikulova 1594 Praha - Chodov
SUMMARY:PP-U16Z-4-E: SAVO Praha A-Slavia Praha A
END:VEVENT
BEGIN:VEVENT
UID:62656561-3534-4633-b264-656361336365
DTSTAMP:20260423T042836Z
DESCRIPTION:3/6 Orion Praha B - SAVO Praha A 2:0 (15\,26)
DTSTART;TZID=Europe/Berlin:20240121T110000
DTEND;TZID=Europe/Berlin:20240121T130000
LOCATION:SKŠ ZŠ Mikulova Praha\, Mikulova 1594 Praha - Chodov
SUMMARY:PP-U16Z-4-E: Orion Praha B-SAVO Praha A
END:VEVENT
BEGIN:VEVENT
UID:63623033-3134-4763-b864-653966616134
DTSTAMP:20260423T042836Z
DESCRIPTION:1/1 SAVO Praha A - Dansport 2:1 (19\,-19\,13)
DTSTART;TZID=Europe/Berlin:20240303T163000
DTEND;TZID=Europe/Berlin:20240303T183000
LOCATION:Sportovní hala Radotín\, U starého stadiónu 1585 Praha - Radotín
SUMMARY:PP-U16Z-5-F: SAVO Praha A-Dansport
END:VEVENT
BEGIN:VEVENT
UID:32643562-6666-4538-b561-316633383931
DTSTAMP:20260423T042836Z
DESCRIPTION:2/4 SAVO Praha A - Kometa Praha B 2:0 (20\,18)
DTSTART;TZID=Europe/Berlin:20240303T173000
DTEND;TZID=Europe/Berlin:20240303T193000
LOCATION:Sportovní hala Radotín\, U starého stadiónu 1585 Praha - Radotín
SUMMARY:PP-U16Z-5-F: SAVO Praha A-Kometa Praha B
END:VEVENT
BEGIN:VEVENT
UID:66623535-3435-4063-b665-376564346431
DTSTAMP:20260423T042836Z
DESCRIPTION:3/6 Radotínský SK - SAVO Praha A 0:2 (-14\,-16)
DTSTART;TZID=Europe/Berlin:20240303T183000
DTEND;TZID=Europe/Berlin:20240303T203000
LOCATION:Sportovní hala Radotín\, U starého stadiónu 1585 Praha - Radotín
SUMMARY:PP-U16Z-5-F: Radotínský SK-SAVO Praha A
END:VEVENT
BEGIN:VEVENT
UID:39323734-3532-4730-b837-653261656433
DTSTAMP:20260423T042836Z
DESCRIPTION:3/3 SAVO Praha A - SK JOKY A 0:2 (-13\,-22)
DTSTART;TZID=Europe/Berlin:20240407T110000
DTEND;TZID=Europe/Berlin:20240407T130000
LOCATION:ZŠ Dolní Břežany\, Na Vršku 290 Dolní Břežany
SUMMARY:PP-U16Z-6-E: SAVO Praha A-SK JOKY A
END:VEVENT
BEGIN:VEVENT
UID:31346361-3665-4230-b832-653334343334
DTSTAMP:20260423T042836Z
DESCRIPTION:1/1 Orion Praha B - SAVO Praha A 0:2 (-22\,-24)
DTSTART;TZID=Europe/Berlin:20240407T090000
DTEND;TZID=Europe/Berlin:20240407T110000
LOCATION:ZŠ Dolní Břežany\, Na Vršku 290 Dolní Břežany
SUMMARY:PP-U16Z-6-E: Orion Praha B-SAVO Praha A
END:VEVENT
BEGIN:VEVENT
UID:39646436-6663-4231-a462-373336303863
DTSTAMP:20260423T042836Z
DESCRIPTION:5/5 Slavia Praha A - SAVO Praha A 0:2 (-18\,-19)
DTSTART;TZID=Europe/Berlin:20240407T130000
DTEND;TZID=Europe/Berlin:20240407T150000
LOCATION:ZŠ Dolní Břežany\, Na Vršku 290 Dolní Břežany
SUMMARY:PP-U16Z-6-E: Slavia Praha A-SAVO Praha A
END:VEVENT
END:VCALENDAR
