BEGIN:VCALENDAR
VERSION:2.0
PRODID:-//SAVO Praha B83470//NONSGML kigkonsult.se iCalcreator 2.41.80//
CALSCALE:GREGORIAN
UID:39363031-3438-4963-a134-366164623064
BEGIN:VEVENT
UID:63316435-6333-4238-a531-656432383861
DTSTAMP:20260423T004352Z
DESCRIPTION:1/2 SAVO Praha B - Kometa Praha E 0:2 (-17\,-14)
DTSTART;TZID=Europe/Berlin:20231105T100000
DTEND;TZID=Europe/Berlin:20231105T120000
LOCATION:DDM P10 Zahradní Město\, Jasmínová 3166 Praha - Záběhlice
SUMMARY:PP-U16Z-1-J: SAVO Praha B-Kometa Praha E
END:VEVENT
BEGIN:VEVENT
UID:36653839-3331-4236-b735-353436366137
DTSTAMP:20260423T004352Z
DESCRIPTION:2/5 SAVO Praha B - Kometa Praha E 1:2 (-17\,23\,-9)
DTSTART;TZID=Europe/Berlin:20231105T130000
DTEND;TZID=Europe/Berlin:20231105T150000
LOCATION:DDM P10 Zahradní Město\, Jasmínová 3166 Praha - Záběhlice
SUMMARY:PP-U16Z-1-J: SAVO Praha B-Kometa Praha E
END:VEVENT
BEGIN:VEVENT
UID:66303561-6566-4962-b031-643363663030
DTSTAMP:20260423T004352Z
DESCRIPTION:1/3 Wizards DDM - SAVO Praha B 1:2 (-14\,23\,-12)
DTSTART;TZID=Europe/Berlin:20231105T110000
DTEND;TZID=Europe/Berlin:20231105T130000
LOCATION:DDM P10 Zahradní Město\, Jasmínová 3166 Praha - Záběhlice
SUMMARY:PP-U16Z-1-J: Wizards DDM-SAVO Praha B
END:VEVENT
BEGIN:VEVENT
UID:36313733-6464-4936-a236-633436366235
DTSTAMP:20260423T004352Z
DESCRIPTION:2/6 Wizards DDM - SAVO Praha B 2:0 (15\,17)
DTSTART;TZID=Europe/Berlin:20231105T140000
DTEND;TZID=Europe/Berlin:20231105T160000
LOCATION:DDM P10 Zahradní Město\, Jasmínová 3166 Praha - Záběhlice
SUMMARY:PP-U16Z-1-J: Wizards DDM-SAVO Praha B
END:VEVENT
BEGIN:VEVENT
UID:35373531-3864-4538-a534-336132356138
DTSTAMP:20260423T004352Z
DESCRIPTION:1/3 SAVO Praha B - Kometa Praha D 0:2 (-7\,-14)
DTSTART;TZID=Europe/Berlin:20231203T110000
DTEND;TZID=Europe/Berlin:20231203T130000
LOCATION:FZŠ Mezi Školami\, Mezi školami 2322 Praha - Stodůlky
SUMMARY:PP-U16Z-2-J: SAVO Praha B-Kometa Praha D
END:VEVENT
BEGIN:VEVENT
UID:36313635-3438-4037-a430-353563323539
DTSTAMP:20260423T004352Z
DESCRIPTION:2/6 SAVO Praha B - Kometa Praha D 0:2 (-21\,-16)
DTSTART;TZID=Europe/Berlin:20231203T140000
DTEND;TZID=Europe/Berlin:20231203T160000
LOCATION:FZŠ Mezi Školami\, Mezi školami 2322 Praha - Stodůlky
SUMMARY:PP-U16Z-2-J: SAVO Praha B-Kometa Praha D
END:VEVENT
BEGIN:VEVENT
UID:38386666-6635-4535-b930-626339613965
DTSTAMP:20260423T004352Z
DESCRIPTION:1/1 Kometa Praha E - SAVO Praha B 1:2 (16\,-18\,-9)
DTSTART;TZID=Europe/Berlin:20231203T090000
DTEND;TZID=Europe/Berlin:20231203T110000
LOCATION:FZŠ Mezi Školami\, Mezi školami 2322 Praha - Stodůlky
SUMMARY:PP-U16Z-2-J: Kometa Praha E-SAVO Praha B
END:VEVENT
BEGIN:VEVENT
UID:66376239-6266-4135-b538-363162663566
DTSTAMP:20260423T004352Z
DESCRIPTION:2/4 Kometa Praha E - SAVO Praha B 2:0 (24\,23)
DTSTART;TZID=Europe/Berlin:20231203T120000
DTEND;TZID=Europe/Berlin:20231203T140000
LOCATION:FZŠ Mezi Školami\, Mezi školami 2322 Praha - Stodůlky
SUMMARY:PP-U16Z-2-J: Kometa Praha E-SAVO Praha B
END:VEVENT
BEGIN:VEVENT
UID:34333965-3536-4065-b837-653835633032
DTSTAMP:20260423T004352Z
DESCRIPTION:1/3 SAVO Praha B - Wizards DDM 1:2 (16\,-19\,-13)
DTSTART;TZID=Europe/Berlin:20240107T110000
DTEND;TZID=Europe/Berlin:20240107T130000
LOCATION:Tělocvična ZŠ Na Šutce\, Na Šutce 440 Praha - Troja
SUMMARY:PP-U16Z-3-J: SAVO Praha B-Wizards DDM
END:VEVENT
BEGIN:VEVENT
UID:38393966-6438-4737-a461-636164393737
DTSTAMP:20260423T004352Z
DESCRIPTION:2/6 SAVO Praha B - Wizards DDM 2:0 (24\,16)
DTSTART;TZID=Europe/Berlin:20240107T140000
DTEND;TZID=Europe/Berlin:20240107T160000
LOCATION:Tělocvična ZŠ Na Šutce\, Na Šutce 440 Praha - Troja
SUMMARY:PP-U16Z-3-J: SAVO Praha B-Wizards DDM
END:VEVENT
BEGIN:VEVENT
UID:38656137-3365-4561-b338-613235636665
DTSTAMP:20260423T004352Z
DESCRIPTION:1/1 Kometa Praha E - SAVO Praha B 0:2 (-24\,-15)
DTSTART;TZID=Europe/Berlin:20240107T090000
DTEND;TZID=Europe/Berlin:20240107T110000
LOCATION:Tělocvična ZŠ Na Šutce\, Na Šutce 440 Praha - Troja
SUMMARY:PP-U16Z-3-J: Kometa Praha E-SAVO Praha B
END:VEVENT
BEGIN:VEVENT
UID:64616333-6562-4838-b763-343965663233
DTSTAMP:20260423T004352Z
DESCRIPTION:2/4 Kometa Praha E - SAVO Praha B 0:2 (-18\,-8)
DTSTART;TZID=Europe/Berlin:20240107T120000
DTEND;TZID=Europe/Berlin:20240107T140000
LOCATION:Tělocvična ZŠ Na Šutce\, Na Šutce 440 Praha - Troja
SUMMARY:PP-U16Z-3-J: Kometa Praha E-SAVO Praha B
END:VEVENT
BEGIN:VEVENT
UID:39636162-6236-4161-a130-396361346539
DTSTAMP:20260423T004352Z
DESCRIPTION:2/3 SAVO Praha B - Kometa Praha D 1:2 (-11\,16\,-12)
DTSTART;TZID=Europe/Berlin:20240121T110000
DTEND;TZID=Europe/Berlin:20240121T130000
LOCATION:FZŠ Mezi Školami\, Mezi školami 2322 Praha - Stodůlky
SUMMARY:PP-U16Z-4-I: SAVO Praha B-Kometa Praha D
END:VEVENT
BEGIN:VEVENT
UID:39393861-3161-4433-b935-373530316462
DTSTAMP:20260423T004352Z
DESCRIPTION:1/1 SK JOKY B - SAVO Praha B 1:2 (-12\,16\,-13)
DTSTART;TZID=Europe/Berlin:20240121T100000
DTEND;TZID=Europe/Berlin:20240121T120000
LOCATION:FZŠ Mezi Školami\, Mezi školami 2322 Praha - Stodůlky
SUMMARY:PP-U16Z-4-I: SK JOKY B-SAVO Praha B
END:VEVENT
BEGIN:VEVENT
UID:39653239-3436-4165-b466-373331643130
DTSTAMP:20260423T004352Z
DESCRIPTION:3/5 Mikulova D - SAVO Praha B 2:0 (15\,8)
DTSTART;TZID=Europe/Berlin:20240121T120000
DTEND;TZID=Europe/Berlin:20240121T140000
LOCATION:FZŠ Mezi Školami\, Mezi školami 2322 Praha - Stodůlky
SUMMARY:PP-U16Z-4-I: Mikulova D-SAVO Praha B
END:VEVENT
BEGIN:VEVENT
UID:31353365-6634-4534-b938-366165363162
DTSTAMP:20260423T004352Z
DESCRIPTION:6/6 SAVO Praha B - Horní Počernice B 0:2 (-10\,-18)
DTSTART;TZID=Europe/Berlin:20240303T140000
DTEND;TZID=Europe/Berlin:20240303T160000
LOCATION:Tělocvična ZŠ Na Šutce\, Na Šutce 440 Praha - Troja
SUMMARY:PP-U16Z-5-I: SAVO Praha B-Horní Počernice B
END:VEVENT
BEGIN:VEVENT
UID:62666264-6432-4264-b635-356362666137
DTSTAMP:20260423T004352Z
DESCRIPTION:2/2 Kometa Praha D - SAVO Praha B 2:0 (18\,12)
DTSTART;TZID=Europe/Berlin:20240303T100000
DTEND;TZID=Europe/Berlin:20240303T120000
LOCATION:Tělocvična ZŠ Na Šutce\, Na Šutce 440 Praha - Troja
SUMMARY:PP-U16Z-5-I: Kometa Praha D-SAVO Praha B
END:VEVENT
BEGIN:VEVENT
UID:61663265-3637-4333-b862-643530373434
DTSTAMP:20260423T004352Z
DESCRIPTION:3/3 Kometa Praha E - SAVO Praha B 0:2 (-17\,-10)
DTSTART;TZID=Europe/Berlin:20240303T110000
DTEND;TZID=Europe/Berlin:20240303T130000
LOCATION:Tělocvična ZŠ Na Šutce\, Na Šutce 440 Praha - Troja
SUMMARY:PP-U16Z-5-I: Kometa Praha E-SAVO Praha B
END:VEVENT
BEGIN:VEVENT
UID:61643036-3162-4932-b634-346337623736
DTSTAMP:20260423T004352Z
DESCRIPTION:6/6 SAVO Praha B - Mikulova D 0:2 (-16\,-17)
DTSTART;TZID=Europe/Berlin:20240407T140000
DTEND;TZID=Europe/Berlin:20240407T160000
LOCATION:MZŠ Polesná 1690\, Praha 21\, Polesná 1690 Praha - Újezd nad Lesy
SUMMARY:PP-U16Z-6-I: SAVO Praha B-Mikulova D
END:VEVENT
BEGIN:VEVENT
UID:62336531-3431-4631-a530-343137363538
DTSTAMP:20260423T004352Z
DESCRIPTION:2/2 Horní Počernice B - SAVO Praha B 2:0 (14\,9)
DTSTART;TZID=Europe/Berlin:20240407T100000
DTEND;TZID=Europe/Berlin:20240407T120000
LOCATION:MZŠ Polesná 1690\, Praha 21\, Polesná 1690 Praha - Újezd nad Lesy
SUMMARY:PP-U16Z-6-I: Horní Počernice B-SAVO Praha B
END:VEVENT
BEGIN:VEVENT
UID:63343435-3562-4238-b865-373065663361
DTSTAMP:20260423T004352Z
DESCRIPTION:3/3 SK JOKY B - SAVO Praha B 2:0 (14\,17)
DTSTART;TZID=Europe/Berlin:20240407T110000
DTEND;TZID=Europe/Berlin:20240407T130000
LOCATION:MZŠ Polesná 1690\, Praha 21\, Polesná 1690 Praha - Újezd nad Lesy
SUMMARY:PP-U16Z-6-I: SK JOKY B-SAVO Praha B
END:VEVENT
END:VCALENDAR
