BEGIN:VCALENDAR
VERSION:2.0
PRODID:-//Slavia Praha A83471//NONSGML kigkonsult.se iCalcreator 2.41.80//
CALSCALE:GREGORIAN
UID:35653936-6432-4561-a139-303835646635
BEGIN:VEVENT
UID:31383235-3466-4362-b935-343864383031
DTSTAMP:20260423T044352Z
DESCRIPTION:3/3 Slavia Praha A - OLYMP Praha C 0:2 (-11\,-17)
DTSTART;TZID=Europe/Berlin:20231105T110000
DTEND;TZID=Europe/Berlin:20231105T130000
LOCATION:MZŠ Polesná 1690\, Praha 21\, Polesná 1690 Praha - Újezd nad Lesy
SUMMARY:PP-U16Z-1-E: Slavia Praha A-OLYMP Praha C
END:VEVENT
BEGIN:VEVENT
UID:34323834-6361-4939-b139-383462323465
DTSTAMP:20260423T044352Z
DESCRIPTION:1/1 BVŠP - Slavia Praha A 0:2 (-19\,-24)
DTSTART;TZID=Europe/Berlin:20231105T090000
DTEND;TZID=Europe/Berlin:20231105T110000
LOCATION:MZŠ Polesná 1690\, Praha 21\, Polesná 1690 Praha - Újezd nad Lesy
SUMMARY:PP-U16Z-1-E: BVŠP-Slavia Praha A
END:VEVENT
BEGIN:VEVENT
UID:66356335-3264-4735-b132-343136646461
DTSTAMP:20260423T044352Z
DESCRIPTION:5/5 SK JOKY A - Slavia Praha A 2:1 (25\,-22\,3)
DTSTART;TZID=Europe/Berlin:20231105T130000
DTEND;TZID=Europe/Berlin:20231105T150000
LOCATION:MZŠ Polesná 1690\, Praha 21\, Polesná 1690 Praha - Újezd nad Lesy
SUMMARY:PP-U16Z-1-E: SK JOKY A-Slavia Praha A
END:VEVENT
BEGIN:VEVENT
UID:37353839-6364-4331-b230-636464306638
DTSTAMP:20260423T044352Z
DESCRIPTION:3/6 Slavia Praha A - Mikulova C 2:1 (23\,-21\,11)
DTSTART;TZID=Europe/Berlin:20231203T143000
DTEND;TZID=Europe/Berlin:20231203T163000
LOCATION:SKŠ ZŠ Mikulova Praha\, Mikulova 1594 Praha - Chodov
SUMMARY:PP-U16Z-2-E: Slavia Praha A-Mikulova C
END:VEVENT
BEGIN:VEVENT
UID:32323131-6466-4133-b236-666263636230
DTSTAMP:20260423T044352Z
DESCRIPTION:1/2 BVŠP - Slavia Praha A 0:2 (-20\,-14)
DTSTART;TZID=Europe/Berlin:20231203T123000
DTEND;TZID=Europe/Berlin:20231203T143000
LOCATION:SKŠ ZŠ Mikulova Praha\, Mikulova 1594 Praha - Chodov
SUMMARY:PP-U16Z-2-E: BVŠP-Slavia Praha A
END:VEVENT
BEGIN:VEVENT
UID:37363838-3735-4337-b036-333035333062
DTSTAMP:20260423T044352Z
DESCRIPTION:2/3 Studio Sport - Slavia Praha A 2:0 (18\,12)
DTSTART;TZID=Europe/Berlin:20231203T133000
DTEND;TZID=Europe/Berlin:20231203T153000
LOCATION:SKŠ ZŠ Mikulova Praha\, Mikulova 1594 Praha - Chodov
SUMMARY:PP-U16Z-2-E: Studio Sport-Slavia Praha A
END:VEVENT
BEGIN:VEVENT
UID:38366638-3833-4431-a335-363238653835
DTSTAMP:20260423T044352Z
DESCRIPTION:2/2 Slavia Praha A - BVŠP 0:2 (-20\,-23)
DTSTART;TZID=Europe/Berlin:20240107T100000
DTEND;TZID=Europe/Berlin:20240107T120000
LOCATION:ZŠ Dolní Břežany\, Na Vršku 290 Dolní Břežany
SUMMARY:PP-U16Z-3-E: Slavia Praha A-BVŠP
END:VEVENT
BEGIN:VEVENT
UID:39353231-6564-4839-b764-316233343362
DTSTAMP:20260423T044352Z
DESCRIPTION:5/5 Slavia Praha A - SK JOKY A 2:0 (17\,21)
DTSTART;TZID=Europe/Berlin:20240107T130000
DTEND;TZID=Europe/Berlin:20240107T150000
LOCATION:ZŠ Dolní Břežany\, Na Vršku 290 Dolní Břežany
SUMMARY:PP-U16Z-3-E: Slavia Praha A-SK JOKY A
END:VEVENT
BEGIN:VEVENT
UID:61333936-3666-4135-b332-633733313763
DTSTAMP:20260423T044352Z
DESCRIPTION:4/4 Orion Praha B - Slavia Praha A 1:2 (15\,-21\,-11)
DTSTART;TZID=Europe/Berlin:20240107T120000
DTEND;TZID=Europe/Berlin:20240107T140000
LOCATION:ZŠ Dolní Břežany\, Na Vršku 290 Dolní Břežany
SUMMARY:PP-U16Z-3-E: Orion Praha B-Slavia Praha A
END:VEVENT
BEGIN:VEVENT
UID:61386463-3238-4462-b933-343632646435
DTSTAMP:20260423T044352Z
DESCRIPTION:1/2 Slavia Praha A - Orion Praha B 0:2 (-13\,-17)
DTSTART;TZID=Europe/Berlin:20240121T090000
DTEND;TZID=Europe/Berlin:20240121T110000
LOCATION:SKŠ ZŠ Mikulova Praha\, Mikulova 1594 Praha - Chodov
SUMMARY:PP-U16Z-4-E: Slavia Praha A-Orion Praha B
END:VEVENT
BEGIN:VEVENT
UID:35646365-3933-4364-b636-633866306535
DTSTAMP:20260423T044352Z
DESCRIPTION:3/5 Slavia Praha A - Mikulova C 2:0 (16\,17)
DTSTART;TZID=Europe/Berlin:20240121T110000
DTEND;TZID=Europe/Berlin:20240121T130000
LOCATION:SKŠ ZŠ Mikulova Praha\, Mikulova 1594 Praha - Chodov
SUMMARY:PP-U16Z-4-E: Slavia Praha A-Mikulova C
END:VEVENT
BEGIN:VEVENT
UID:34636164-3539-4231-b665-393966646639
DTSTAMP:20260423T044352Z
DESCRIPTION:2/4 SAVO Praha A - Slavia Praha A 0:2 (-17\,-9)
DTSTART;TZID=Europe/Berlin:20240121T100000
DTEND;TZID=Europe/Berlin:20240121T120000
LOCATION:SKŠ ZŠ Mikulova Praha\, Mikulova 1594 Praha - Chodov
SUMMARY:PP-U16Z-4-E: SAVO Praha A-Slavia Praha A
END:VEVENT
BEGIN:VEVENT
UID:30303732-3363-4334-b962-326362356661
DTSTAMP:20260423T044352Z
DESCRIPTION:2/2 Slavia Praha A - Mikulova C 2:0 (22\,22)
DTSTART;TZID=Europe/Berlin:20240303T100000
DTEND;TZID=Europe/Berlin:20240303T120000
LOCATION:MZŠ Polesná 1690\, Praha 21\, Polesná 1690 Praha - Újezd nad Lesy
SUMMARY:PP-U16Z-5-E: Slavia Praha A-Mikulova C
END:VEVENT
BEGIN:VEVENT
UID:61376361-3331-4964-b964-386164313066
DTSTAMP:20260423T044352Z
DESCRIPTION:5/5 Slavia Praha A - SK JOKY A 2:0 (23\,19)
DTSTART;TZID=Europe/Berlin:20240303T130000
DTEND;TZID=Europe/Berlin:20240303T150000
LOCATION:MZŠ Polesná 1690\, Praha 21\, Polesná 1690 Praha - Újezd nad Lesy
SUMMARY:PP-U16Z-5-E: Slavia Praha A-SK JOKY A
END:VEVENT
BEGIN:VEVENT
UID:30333561-6237-4435-b236-633434396537
DTSTAMP:20260423T044352Z
DESCRIPTION:4/4 Studio Sport - Slavia Praha A 2:1 (22\,-23\,12)
DTSTART;TZID=Europe/Berlin:20240303T120000
DTEND;TZID=Europe/Berlin:20240303T140000
LOCATION:MZŠ Polesná 1690\, Praha 21\, Polesná 1690 Praha - Újezd nad Lesy
SUMMARY:PP-U16Z-5-E: Studio Sport-Slavia Praha A
END:VEVENT
BEGIN:VEVENT
UID:38303964-3931-4964-b439-313530303337
DTSTAMP:20260423T044352Z
DESCRIPTION:2/2 Slavia Praha A - SK JOKY A 2:1 (-17\,31\,12)
DTSTART;TZID=Europe/Berlin:20240407T100000
DTEND;TZID=Europe/Berlin:20240407T120000
LOCATION:ZŠ Dolní Břežany\, Na Vršku 290 Dolní Břežany
SUMMARY:PP-U16Z-6-E: Slavia Praha A-SK JOKY A
END:VEVENT
BEGIN:VEVENT
UID:36343035-6562-4435-b162-616238623063
DTSTAMP:20260423T044352Z
DESCRIPTION:5/5 Slavia Praha A - SAVO Praha A 0:2 (-18\,-19)
DTSTART;TZID=Europe/Berlin:20240407T130000
DTEND;TZID=Europe/Berlin:20240407T150000
LOCATION:ZŠ Dolní Břežany\, Na Vršku 290 Dolní Břežany
SUMMARY:PP-U16Z-6-E: Slavia Praha A-SAVO Praha A
END:VEVENT
BEGIN:VEVENT
UID:30306339-3839-4362-b034-663933613666
DTSTAMP:20260423T044352Z
DESCRIPTION:4/4 Orion Praha B - Slavia Praha A 2:1 (-20\,16\,11)
DTSTART;TZID=Europe/Berlin:20240407T120000
DTEND;TZID=Europe/Berlin:20240407T140000
LOCATION:ZŠ Dolní Břežany\, Na Vršku 290 Dolní Břežany
SUMMARY:PP-U16Z-6-E: Orion Praha B-Slavia Praha A
END:VEVENT
END:VCALENDAR
