BEGIN:VCALENDAR
VERSION:2.0
PRODID:-//TJ Sokol Jehnice83520//NONSGML kigkonsult.se iCalcreator 2.41.80//
CALSCALE:GREGORIAN
UID:34326435-6136-4064-b062-323335616266
BEGIN:VEVENT
UID:33373536-3735-4238-b433-653036396365
DTSTAMP:20260423T121616Z
DESCRIPTION:1/3 TJ Sokol Jehnice - TJ Sokol Hodonín 3:0 (20\,15\,14)
DTSTART;TZID=Europe/Berlin:20231001T100000
DTEND;TZID=Europe/Berlin:20231001T120000
LOCATION:TJ Sokol Jehnice\, Blanenská 1 Brno - Jehnice
SUMMARY:JM-Z-1A: TJ Sokol Jehnice-TJ Sokol Hodonín
END:VEVENT
BEGIN:VEVENT
UID:31393631-3031-4533-b139-333263353365
DTSTAMP:20260423T121616Z
DESCRIPTION:2/6 TJ Sokol Jehnice - TJ Sokol Hodonín 3:1 (19\,-23\,10\,17)
DTSTART;TZID=Europe/Berlin:20231001T130000
DTEND;TZID=Europe/Berlin:20231001T150000
LOCATION:TJ Sokol Jehnice\, Blanenská 1 Brno - Jehnice
SUMMARY:JM-Z-1A: TJ Sokol Jehnice-TJ Sokol Hodonín
END:VEVENT
BEGIN:VEVENT
UID:66323066-3034-4331-b564-383938623030
DTSTAMP:20260423T121616Z
DESCRIPTION:5/14 TJ Sokol Jehnice - TJ Sokol Šlapanice u Brna B 0:3 (-17\,-
 24\,-23)
DTSTART;TZID=Europe/Berlin:20231014T100000
DTEND;TZID=Europe/Berlin:20231014T120000
LOCATION:TJ Sokol Jehnice\, Blanenská 1 Brno - Jehnice
SUMMARY:JM-Z-1A: TJ Sokol Jehnice-TJ Sokol Šlapanice u Brna B
END:VEVENT
BEGIN:VEVENT
UID:61336566-3731-4631-a534-623331623332
DTSTAMP:20260423T121616Z
DESCRIPTION:6/17 TJ Sokol Jehnice - TJ Sokol Šlapanice u Brna B 1:3 (23\,-1
 4\,-23\,-17)
DTSTART;TZID=Europe/Berlin:20231014T130000
DTEND;TZID=Europe/Berlin:20231014T150000
LOCATION:TJ Sokol Jehnice\, Blanenská 1 Brno - Jehnice
SUMMARY:JM-Z-1A: TJ Sokol Jehnice-TJ Sokol Šlapanice u Brna B
END:VEVENT
BEGIN:VEVENT
UID:34663831-3139-4861-b465-366538656434
DTSTAMP:20260423T121616Z
DESCRIPTION:9/25 TJ Sokol Jehnice - Junior Brno 0:3 (-17\,-19\,-18)
DTSTART;TZID=Europe/Berlin:20231028T100000
DTEND;TZID=Europe/Berlin:20231028T120000
LOCATION:TJ Sokol Jehnice\, Blanenská 1 Brno - Jehnice
SUMMARY:JM-Z-1A: TJ Sokol Jehnice-Junior Brno
END:VEVENT
BEGIN:VEVENT
UID:32373862-3563-4034-a462-383131386337
DTSTAMP:20260423T121616Z
DESCRIPTION:10/28 TJ Sokol Jehnice - Junior Brno 0:3 (-12\,-12\,-17)
DTSTART;TZID=Europe/Berlin:20231028T130000
DTEND;TZID=Europe/Berlin:20231028T150000
LOCATION:TJ Sokol Jehnice\, Blanenská 1 Brno - Jehnice
SUMMARY:JM-Z-1A: TJ Sokol Jehnice-Junior Brno
END:VEVENT
BEGIN:VEVENT
UID:30633635-3735-4931-b037-353933376335
DTSTAMP:20260423T121616Z
DESCRIPTION:13/38 TJ Sokol Jehnice - VOLEJBAL VYŠKOV 0:3 (-15\,-20\,-19)
DTSTART;TZID=Europe/Berlin:20231125T100000
DTEND;TZID=Europe/Berlin:20231125T120000
LOCATION:TJ Sokol Jehnice\, Blanenská 1 Brno - Jehnice
SUMMARY:JM-Z-1A: TJ Sokol Jehnice-VOLEJBAL VYŠKOV
END:VEVENT
BEGIN:VEVENT
UID:38623565-6164-4332-a630-383531306261
DTSTAMP:20260423T121616Z
DESCRIPTION:14/41 TJ Sokol Jehnice - VOLEJBAL VYŠKOV 2:3 (-12\,22\,17\,-23\
 ,-7)
DTSTART;TZID=Europe/Berlin:20231125T130000
DTEND;TZID=Europe/Berlin:20231125T150000
LOCATION:TJ Sokol Jehnice\, Blanenská 1 Brno - Jehnice
SUMMARY:JM-Z-1A: TJ Sokol Jehnice-VOLEJBAL VYŠKOV
END:VEVENT
BEGIN:VEVENT
UID:66653236-6233-4364-a138-333433393336
DTSTAMP:20260423T121616Z
DESCRIPTION:17/51 TJ Sokol Jehnice - VK Znojmo - Přímětice 3:1 (21\,-23\,13
 \,23)
DTSTART;TZID=Europe/Berlin:20231209T090000
DTEND;TZID=Europe/Berlin:20231209T110000
LOCATION:TJ Sokol Jehnice\, Blanenská 1 Brno - Jehnice
SUMMARY:JM-Z-1A: TJ Sokol Jehnice-VK Znojmo - Přímětice
END:VEVENT
BEGIN:VEVENT
UID:61623433-6338-4639-b430-393634393466
DTSTAMP:20260423T121616Z
DESCRIPTION:18/54 TJ Sokol Jehnice - VK Znojmo - Přímětice 0:3 (-21\,-13\,-
 17)
DTSTART;TZID=Europe/Berlin:20231209T120000
DTEND;TZID=Europe/Berlin:20231209T140000
LOCATION:TJ Sokol Jehnice\, Blanenská 1 Brno - Jehnice
SUMMARY:JM-Z-1A: TJ Sokol Jehnice-VK Znojmo - Přímětice
END:VEVENT
BEGIN:VEVENT
UID:32373464-3836-4564-a463-633831643561
DTSTAMP:20260423T121616Z
DESCRIPTION:3/8 VOLEJBAL VYŠKOV - TJ Sokol Jehnice 3:1 (-23\,16\,12\,21)
DTSTART;TZID=Europe/Berlin:20231007T100000
DTEND;TZID=Europe/Berlin:20231007T120000
LOCATION:Tělocvična ZŠ Nádražní\, Nádražní 5 Vyškov - Vyškov-Město
SUMMARY:JM-Z-1A: VOLEJBAL VYŠKOV-TJ Sokol Jehnice
END:VEVENT
BEGIN:VEVENT
UID:30316366-3438-4761-b939-643038303934
DTSTAMP:20260423T121616Z
DESCRIPTION:4/11 VOLEJBAL VYŠKOV - TJ Sokol Jehnice 3:0 (18\,17\,16)
DTSTART;TZID=Europe/Berlin:20231007T130000
DTEND;TZID=Europe/Berlin:20231007T150000
LOCATION:Tělocvična ZŠ Nádražní\, Nádražní 5 Vyškov - Vyškov-Město
SUMMARY:JM-Z-1A: VOLEJBAL VYŠKOV-TJ Sokol Jehnice
END:VEVENT
BEGIN:VEVENT
UID:30353562-3261-4766-b364-313063373366
DTSTAMP:20260423T121616Z
DESCRIPTION:7/21 VK Znojmo - Přímětice - TJ Sokol Jehnice 3:2 (-17\,-16\,18
 \,27\,5)
DTSTART;TZID=Europe/Berlin:20231021T110000
DTEND;TZID=Europe/Berlin:20231021T130000
LOCATION:Tělocvična PSK Znojmo\, Pražská 2486 Znojmo
SUMMARY:JM-Z-1A: VK Znojmo - Přímětice-TJ Sokol Jehnice
END:VEVENT
BEGIN:VEVENT
UID:64366665-6236-4065-b562-306630623665
DTSTAMP:20260423T121616Z
DESCRIPTION:8/24 VK Znojmo - Přímětice - TJ Sokol Jehnice 3:0 (28\,16\,27)
DTSTART;TZID=Europe/Berlin:20231021T150000
DTEND;TZID=Europe/Berlin:20231021T170000
LOCATION:Tělocvična PSK Znojmo\, Pražská 2486 Znojmo
SUMMARY:JM-Z-1A: VK Znojmo - Přímětice-TJ Sokol Jehnice
END:VEVENT
BEGIN:VEVENT
UID:64613234-6538-4761-a336-373765636535
DTSTAMP:20260423T121616Z
DESCRIPTION:11/33 TJ Sokol Hodonín - TJ Sokol Jehnice 3:2 (19\,22\,-22\,-13
 \,9)
DTSTART;TZID=Europe/Berlin:20231112T100000
DTEND;TZID=Europe/Berlin:20231112T120000
LOCATION:Sokolovna\, Velkomoravská 2202 Hodonín
SUMMARY:JM-Z-1A: TJ Sokol Hodonín-TJ Sokol Jehnice
END:VEVENT
BEGIN:VEVENT
UID:33613263-3765-4636-b339-643761663436
DTSTAMP:20260423T121616Z
DESCRIPTION:12/36 TJ Sokol Hodonín - TJ Sokol Jehnice 3:1 (18\,-18\,21\,18)
DTSTART;TZID=Europe/Berlin:20231112T130000
DTEND;TZID=Europe/Berlin:20231112T150000
LOCATION:Sokolovna\, Velkomoravská 2202 Hodonín
SUMMARY:JM-Z-1A: TJ Sokol Hodonín-TJ Sokol Jehnice
END:VEVENT
BEGIN:VEVENT
UID:37333735-3563-4366-a165-363831653064
DTSTAMP:20260423T121616Z
DESCRIPTION:15/44 TJ Sokol Šlapanice u Brna B - TJ Sokol Jehnice 3:0 (16\,1
 3\,23)
DTSTART;TZID=Europe/Berlin:20231202T100000
DTEND;TZID=Europe/Berlin:20231202T120000
LOCATION:Tělocvična ZŠ Šlapanice\, Masarykovo náměstí 1594 Šlapanice
SUMMARY:JM-Z-1A: TJ Sokol Šlapanice u Brna B-TJ Sokol Jehnice
END:VEVENT
BEGIN:VEVENT
UID:31383235-3266-4030-a638-613135383933
DTSTAMP:20260423T121616Z
DESCRIPTION:16/47 TJ Sokol Šlapanice u Brna B - TJ Sokol Jehnice 3:0 (15\,1
 5\,19)
DTSTART;TZID=Europe/Berlin:20231202T130000
DTEND;TZID=Europe/Berlin:20231202T150000
LOCATION:Tělocvična ZŠ Šlapanice\, Masarykovo náměstí 1594 Šlapanice
SUMMARY:JM-Z-1A: TJ Sokol Šlapanice u Brna B-TJ Sokol Jehnice
END:VEVENT
BEGIN:VEVENT
UID:64323065-6566-4563-a631-323266383534
DTSTAMP:20260423T121616Z
DESCRIPTION:19/55 Junior Brno - TJ Sokol Jehnice 3:0 (12\,13\,18)
DTSTART;TZID=Europe/Berlin:20231216T090000
DTEND;TZID=Europe/Berlin:20231216T110000
LOCATION:ZŠ Holzova 1\, Holzova 1461 Brno - Líšeň
SUMMARY:JM-Z-1A: Junior Brno-TJ Sokol Jehnice
END:VEVENT
BEGIN:VEVENT
UID:62646135-6666-4537-a166-663865616532
DTSTAMP:20260423T121616Z
DESCRIPTION:20/58 Junior Brno - TJ Sokol Jehnice 3:1 (11\,-20\,21\,22)
DTSTART;TZID=Europe/Berlin:20231216T130000
DTEND;TZID=Europe/Berlin:20231216T150000
LOCATION:ZŠ Holzova 1\, Holzova 1461 Brno - Líšeň
SUMMARY:JM-Z-1A: Junior Brno-TJ Sokol Jehnice
END:VEVENT
BEGIN:VEVENT
UID:61323665-6231-4735-b065-643037643136
DTSTAMP:20260423T121616Z
DESCRIPTION:1/2 TJ Sokol Jehnice - VK Křenovice\, z.s. 3:1 (20\,16\,-22\,12
 )
DTSTART;TZID=Europe/Berlin:20240113T100000
DTEND;TZID=Europe/Berlin:20240113T120000
LOCATION:TJ Sokol Jehnice\, Blanenská 1 Brno - Jehnice
SUMMARY:JM-Z-1II: TJ Sokol Jehnice-VK Křenovice\, z.s.
END:VEVENT
BEGIN:VEVENT
UID:30613437-6437-4131-a332-346138336463
DTSTAMP:20260423T121616Z
DESCRIPTION:2/5 TJ Sokol Jehnice - VK Křenovice\, z.s. 3:1 (23\,-13\,14\,21
 )
DTSTART;TZID=Europe/Berlin:20240113T130000
DTEND;TZID=Europe/Berlin:20240113T150000
LOCATION:TJ Sokol Jehnice\, Blanenská 1 Brno - Jehnice
SUMMARY:JM-Z-1II: TJ Sokol Jehnice-VK Křenovice\, z.s.
END:VEVENT
BEGIN:VEVENT
UID:62653139-6131-4537-a465-333037303930
DTSTAMP:20260423T121616Z
DESCRIPTION:5/14 TJ Sokol Jehnice - VS Vydry Drásov 3:2 (12\,19\,-18\,-19\,
 11)
DTSTART;TZID=Europe/Berlin:20240127T100000
DTEND;TZID=Europe/Berlin:20240127T120000
LOCATION:TJ Sokol Jehnice\, Blanenská 1 Brno - Jehnice
SUMMARY:JM-Z-1II: TJ Sokol Jehnice-VS Vydry Drásov
END:VEVENT
BEGIN:VEVENT
UID:38333661-6463-4835-b064-356537343536
DTSTAMP:20260423T121616Z
DESCRIPTION:6/17 TJ Sokol Jehnice - VS Vydry Drásov 3:2 (12\,-22\,-14\,17\,
 10)
DTSTART;TZID=Europe/Berlin:20240127T130000
DTEND;TZID=Europe/Berlin:20240127T150000
LOCATION:TJ Sokol Jehnice\, Blanenská 1 Brno - Jehnice
SUMMARY:JM-Z-1II: TJ Sokol Jehnice-VS Vydry Drásov
END:VEVENT
BEGIN:VEVENT
UID:30393333-3431-4265-a565-646233396135
DTSTAMP:20260423T121616Z
DESCRIPTION:9/26 TJ Sokol Jehnice - TJ JUNIOR Brno 3:1 (19\,17\,-19\,18)
DTSTART;TZID=Europe/Berlin:20240224T100000
DTEND;TZID=Europe/Berlin:20240224T120000
LOCATION:TJ Sokol Jehnice\, Blanenská 1 Brno - Jehnice
SUMMARY:JM-Z-1II: TJ Sokol Jehnice-TJ JUNIOR Brno
END:VEVENT
BEGIN:VEVENT
UID:64393839-3065-4430-a534-656236633835
DTSTAMP:20260423T121616Z
DESCRIPTION:10/29 TJ Sokol Jehnice - TJ JUNIOR Brno 3:0 (10\,21\,21)
DTSTART;TZID=Europe/Berlin:20240224T130000
DTEND;TZID=Europe/Berlin:20240224T150000
LOCATION:TJ Sokol Jehnice\, Blanenská 1 Brno - Jehnice
SUMMARY:JM-Z-1II: TJ Sokol Jehnice-TJ JUNIOR Brno
END:VEVENT
BEGIN:VEVENT
UID:61663936-6535-4666-b533-376362376337
DTSTAMP:20260423T121616Z
DESCRIPTION:3/8 TJ JUNIOR Brno - TJ Sokol Jehnice 2:3 (-15\,-25\,23\,23\,-6
 )
DTSTART;TZID=Europe/Berlin:20240120T100000
DTEND;TZID=Europe/Berlin:20240120T120000
LOCATION:ZŠ Holzova 1\, Holzova 1461 Brno - Líšeň
SUMMARY:JM-Z-1II: TJ JUNIOR Brno-TJ Sokol Jehnice
END:VEVENT
BEGIN:VEVENT
UID:64386130-6339-4336-a466-366537326263
DTSTAMP:20260423T121616Z
DESCRIPTION:4/11 TJ JUNIOR Brno - TJ Sokol Jehnice 1:3 (-22\,18\,-17\,-15)
DTSTART;TZID=Europe/Berlin:20240120T130000
DTEND;TZID=Europe/Berlin:20240120T150000
LOCATION:ZŠ Holzova 1\, Holzova 1461 Brno - Líšeň
SUMMARY:JM-Z-1II: TJ JUNIOR Brno-TJ Sokol Jehnice
END:VEVENT
BEGIN:VEVENT
UID:63333939-6366-4331-b131-646238666237
DTSTAMP:20260423T121616Z
DESCRIPTION:7/20 VK Křenovice\, z.s. - TJ Sokol Jehnice 3:1 (14\,-17\,20\,2
 3)
DTSTART;TZID=Europe/Berlin:20240217T090000
DTEND;TZID=Europe/Berlin:20240217T110000
LOCATION:Sportovní hala Křenovice \, Bratří Mrázků 635 Křenovice
SUMMARY:JM-Z-1II: VK Křenovice\, z.s.-TJ Sokol Jehnice
END:VEVENT
BEGIN:VEVENT
UID:37633761-3361-4439-a337-363636303731
DTSTAMP:20260423T121616Z
DESCRIPTION:8/23 VK Křenovice\, z.s. - TJ Sokol Jehnice 0:3 (-20\,-23\,-17)
DTSTART;TZID=Europe/Berlin:20240217T120000
DTEND;TZID=Europe/Berlin:20240217T140000
LOCATION:Sportovní hala Křenovice \, Bratří Mrázků 635 Křenovice
SUMMARY:JM-Z-1II: VK Křenovice\, z.s.-TJ Sokol Jehnice
END:VEVENT
BEGIN:VEVENT
UID:30613436-3465-4633-b230-363132373765
DTSTAMP:20260423T121616Z
DESCRIPTION:11/32 VS Vydry Drásov - TJ Sokol Jehnice 0:3 (-20\,-12\,-20)
DTSTART;TZID=Europe/Berlin:20240303T100000
DTEND;TZID=Europe/Berlin:20240303T120000
LOCATION:Hala u ZŠ TGM Drásov\, Školní 167 Drásov
SUMMARY:JM-Z-1II: VS Vydry Drásov-TJ Sokol Jehnice
END:VEVENT
BEGIN:VEVENT
UID:62666632-3536-4666-a439-623661393965
DTSTAMP:20260423T121616Z
DESCRIPTION:12/35 VS Vydry Drásov - TJ Sokol Jehnice 0:3 (-17\,-22\,-9)
DTSTART;TZID=Europe/Berlin:20240303T130000
DTEND;TZID=Europe/Berlin:20240303T150000
LOCATION:Hala u ZŠ TGM Drásov\, Školní 167 Drásov
SUMMARY:JM-Z-1II: VS Vydry Drásov-TJ Sokol Jehnice
END:VEVENT
END:VCALENDAR
