BEGIN:VCALENDAR
VERSION:2.0
PRODID:-//USK Slavia Plzeň83522//NONSGML kigkonsult.se iCalcreator 2.41.80//
CALSCALE:GREGORIAN
UID:39663464-3233-4537-a363-616261613535
BEGIN:VEVENT
UID:33646538-3230-4434-a339-643433666163
DTSTAMP:20260421T134935Z
DESCRIPTION:1/2 Plzeň - Klatovy 2:0 (21\,16)
DTSTART;TZID=Europe/Berlin:20231022T100000
DTEND;TZID=Europe/Berlin:20231022T120000
LOCATION:Bolevecká základní škola ( 18.ZŠ)\, náměstí Odboje 550 Plzeň - Bol
 evec
SUMMARY:P-U16M: Plzeň-Klatovy
END:VEVENT
BEGIN:VEVENT
UID:65393865-6338-4038-b761-323930666463
DTSTAMP:20260421T134935Z
DESCRIPTION:2/5 Plzeň - Mirošov 2:0 (22\,9)
DTSTART;TZID=Europe/Berlin:20240114T100000
DTEND;TZID=Europe/Berlin:20240114T120000
LOCATION:Bolevecká základní škola ( 18.ZŠ)\, náměstí Odboje 550 Plzeň - Bol
 evec
SUMMARY:P-U16M: Plzeň-Mirošov
END:VEVENT
BEGIN:VEVENT
UID:34303038-3466-4433-a537-363931363765
DTSTAMP:20260421T134935Z
DESCRIPTION:3/9 Plzeň - Klatovy 2:0 (17\,4)
DTSTART;TZID=Europe/Berlin:20240407T110000
DTEND;TZID=Europe/Berlin:20240407T130000
LOCATION:Bolevecká základní škola ( 18.ZŠ)\, náměstí Odboje 550 Plzeň - Bol
 evec
SUMMARY:P-U16M: Plzeň-Klatovy
END:VEVENT
BEGIN:VEVENT
UID:64663530-3232-4732-a165-343939653337
DTSTAMP:20260421T134935Z
DESCRIPTION:1/1 Mirošov - Plzeň 0:2 (-8\,-10)\npořadatel Mirošov
DTSTART;TZID=Europe/Berlin:20231022T090000
DTEND;TZID=Europe/Berlin:20231022T110000
LOCATION:Sokolovna Mirošov\, Skořická 86 Mirošov
SUMMARY:P-U16M: Mirošov-Plzeň
END:VEVENT
BEGIN:VEVENT
UID:64323165-3666-4165-b538-313333646338
DTSTAMP:20260421T134935Z
DESCRIPTION:2/4 Klatovy - Plzeň 0:2 (-13\,-19)\npořadatel Klatovy
DTSTART;TZID=Europe/Berlin:20240114T090000
DTEND;TZID=Europe/Berlin:20240114T110000
LOCATION:Sportovní hala ZŠ Čapkova\, Čapkova 136 Klatovy - Klatovy V
SUMMARY:P-U16M: Klatovy-Plzeň
END:VEVENT
BEGIN:VEVENT
UID:31326465-6435-4662-a661-626262653631
DTSTAMP:20260421T134935Z
DESCRIPTION:3/7 Mirošov - Plzeň 0:2 (-9\,-9)\npořadatel Plzeň
DTSTART;TZID=Europe/Berlin:20240407T090000
DTEND;TZID=Europe/Berlin:20240407T110000
LOCATION:Sokolovna Mirošov\, Skořická 86 Mirošov
SUMMARY:P-U16M: Mirošov-Plzeň
END:VEVENT
BEGIN:VEVENT
UID:36666461-3664-4537-b934-666430613734
DTSTAMP:20260421T134935Z
DESCRIPTION:2/15 Plzeň - VK Litvínov\, z.s. 2:1 (-22\,12\,17)
DTSTART;TZID=Europe/Berlin:20231001T090100
DTEND;TZID=Europe/Berlin:20231001T110100
LOCATION:Bolevecká základní škola ( 18.ZŠ)\, náměstí Odboje 550 Plzeň - Bol
 evec
SUMMARY:US-U16M-K: Plzeň-VK Litvínov\, z.s.
END:VEVENT
BEGIN:VEVENT
UID:38306430-6539-4137-b666-343461326162
DTSTAMP:20260421T134935Z
DESCRIPTION:2/12 Sokolov - Plzeň 2:0 (15\,19)
DTSTART;TZID=Europe/Berlin:20231001T090100
DTEND;TZID=Europe/Berlin:20231001T110100
LOCATION:Jiskra\, Maxima Gorkého 280 Sokolov
SUMMARY:US-U16M-K: Sokolov-Plzeň
END:VEVENT
BEGIN:VEVENT
UID:39656139-3139-4136-b332-613265323633
DTSTAMP:20260421T134935Z
DESCRIPTION:2/17 Most - Plzeň 1:2 (-21\,22\,-16)
DTSTART;TZID=Europe/Berlin:20231001T090100
DTEND;TZID=Europe/Berlin:20231001T110100
LOCATION:14.ZŠ Most Rozmarýnová 1692\, 434 01 Most
SUMMARY:US-U16M-K: Most-Plzeň
END:VEVENT
BEGIN:VEVENT
UID:31636632-6432-4039-b635-623531363639
DTSTAMP:20260421T134935Z
DESCRIPTION:2/19 Ústí n. L. - Plzeň 2:0 (8\,9)
DTSTART;TZID=Europe/Berlin:20231001T090100
DTEND;TZID=Europe/Berlin:20231001T110100
LOCATION:ZŠ Rabasova Rabasova 3282/3\, Ústí nad Labem 40011
SUMMARY:US-U16M-K: Ústí n. L.-Plzeň
END:VEVENT
BEGIN:VEVENT
UID:31666465-6130-4333-a332-313537623763
DTSTAMP:20260421T134935Z
DESCRIPTION:2/11 Plzeň - Most 2:0 (11\,20)
DTSTART;TZID=Europe/Berlin:20231105T090100
DTEND;TZID=Europe/Berlin:20231105T110100
LOCATION:Bolevecká základní škola ( 18.ZŠ)\, náměstí Odboje 550 Plzeň - Bol
 evec
SUMMARY:US-U16M-1: Plzeň-Most
END:VEVENT
BEGIN:VEVENT
UID:65626634-3831-4031-b963-616565303533
DTSTAMP:20260421T134935Z
DESCRIPTION:2/16 Plzeň - Volejbalový klub Teplice z.s. 2:0 (5\,17)
DTSTART;TZID=Europe/Berlin:20231105T090100
DTEND;TZID=Europe/Berlin:20231105T110100
LOCATION:Bolevecká základní škola ( 18.ZŠ)\, náměstí Odboje 550 Plzeň - Bol
 evec
SUMMARY:US-U16M-1: Plzeň-Volejbalový klub Teplice z.s.
END:VEVENT
BEGIN:VEVENT
UID:39383238-6432-4339-a235-363535313965
DTSTAMP:20260421T134935Z
DESCRIPTION:2/19 Plzeň - Klatovy 2:0 (10\,21)
DTSTART;TZID=Europe/Berlin:20231105T090100
DTEND;TZID=Europe/Berlin:20231105T110100
LOCATION:Bolevecká základní škola ( 18.ZŠ)\, náměstí Odboje 550 Plzeň - Bol
 evec
SUMMARY:US-U16M-1: Plzeň-Klatovy
END:VEVENT
BEGIN:VEVENT
UID:37656536-3838-4263-a335-333739376636
DTSTAMP:20260421T134935Z
DESCRIPTION:2/13 VK Litvínov\, z.s. - Plzeň 0:2 (-7\,-19)
DTSTART;TZID=Europe/Berlin:20231105T090100
DTEND;TZID=Europe/Berlin:20231105T110100
LOCATION:Sportovní hala Litvínov U Koldomu 2049\, 436 01 Litvínov
SUMMARY:US-U16M-1: VK Litvínov\, z.s.-Plzeň
END:VEVENT
BEGIN:VEVENT
UID:33353530-3862-4535-b162-323136643263
DTSTAMP:20260421T134935Z
DESCRIPTION:1/4 Plzeň - Karlovarsko 0:2 (-9\,-15)
DTSTART;TZID=Europe/Berlin:20231210T090000
DTEND;TZID=Europe/Berlin:20231210T110000
LOCATION:Bolevecká základní škola ( 18.ZŠ)\, náměstí Odboje 550 Plzeň - Bol
 evec
SUMMARY:US-U16M-2: Plzeň-Karlovarsko
END:VEVENT
BEGIN:VEVENT
UID:36343639-6336-4164-a437-333732333563
DTSTAMP:20260421T134935Z
DESCRIPTION:1/7 Plzeň - Sokolov 2:1 (25\,-23\,8)
DTSTART;TZID=Europe/Berlin:20231210T090000
DTEND;TZID=Europe/Berlin:20231210T110000
LOCATION:Bolevecká základní škola ( 18.ZŠ)\, náměstí Odboje 550 Plzeň - Bol
 evec
SUMMARY:US-U16M-2: Plzeň-Sokolov
END:VEVENT
BEGIN:VEVENT
UID:36383139-6465-4337-a433-613731656338
DTSTAMP:20260421T134935Z
DESCRIPTION:1/10 Plzeň - Most 2:0 (22\,19)
DTSTART;TZID=Europe/Berlin:20231210T090000
DTEND;TZID=Europe/Berlin:20231210T110000
LOCATION:Bolevecká základní škola ( 18.ZŠ)\, náměstí Odboje 550 Plzeň - Bol
 evec
SUMMARY:US-U16M-2: Plzeň-Most
END:VEVENT
BEGIN:VEVENT
UID:37636531-6266-4230-b963-393735623832
DTSTAMP:20260421T134935Z
DESCRIPTION:1/1 Jirkov - Plzeň 2:1 (-22\,18\,7)
DTSTART;TZID=Europe/Berlin:20231210T090000
DTEND;TZID=Europe/Berlin:20231210T110000
LOCATION:sportovní hala MGZŠ Krušnohorská Krušnohorská 1675\, Jirkov
SUMMARY:US-U16M-2: Jirkov-Plzeň
END:VEVENT
BEGIN:VEVENT
UID:39326565-6431-4532-b764-643536643832
DTSTAMP:20260421T134935Z
DESCRIPTION:1/5 Plzeň - Volejbal Aš - Klokani z.s. 0:2 (-16\,-25)
DTSTART;TZID=Europe/Berlin:20240107T090000
DTEND;TZID=Europe/Berlin:20240107T110000
LOCATION:Bolevecká základní škola ( 18.ZŠ)\, náměstí Odboje 550 Plzeň - Bol
 evec
SUMMARY:US-U16M-3: Plzeň-Volejbal Aš - Klokani z.s.
END:VEVENT
BEGIN:VEVENT
UID:62636366-6337-4231-b934-303934666536
DTSTAMP:20260421T134935Z
DESCRIPTION:1/2 Sokolov - Plzeň 2:0 (25\,19)
DTSTART;TZID=Europe/Berlin:20240107T090000
DTEND;TZID=Europe/Berlin:20240107T110000
LOCATION:Jiskra\, Maxima Gorkého 280 Sokolov
SUMMARY:US-U16M-3: Sokolov-Plzeň
END:VEVENT
BEGIN:VEVENT
UID:30656565-6163-4434-a464-653638616432
DTSTAMP:20260421T134935Z
DESCRIPTION:1/7 Ústí n. L. - Plzeň 2:0 (11\,20)
DTSTART;TZID=Europe/Berlin:20240107T090000
DTEND;TZID=Europe/Berlin:20240107T110000
LOCATION:ZŠ Rabasova Rabasova 3282/3\, Ústí nad Labem 40011
SUMMARY:US-U16M-3: Ústí n. L.-Plzeň
END:VEVENT
BEGIN:VEVENT
UID:65646538-3466-4739-a235-316234613534
DTSTAMP:20260421T134935Z
DESCRIPTION:1/9 Karlovarsko - Plzeň 2:1 (-12\,18\,11)
DTSTART;TZID=Europe/Berlin:20240107T090000
DTEND;TZID=Europe/Berlin:20240107T110000
LOCATION:Mattoni Arena Hala míčových sportů\, Západní 1812 Karlovy Vary
SUMMARY:US-U16M-3: Karlovarsko-Plzeň
END:VEVENT
BEGIN:VEVENT
UID:31383932-6634-4263-b430-393362376264
DTSTAMP:20260421T134935Z
DESCRIPTION:2/11 Plzeň - Klatovy 2:0 (19\,10)
DTSTART;TZID=Europe/Berlin:20240204T090100
DTEND;TZID=Europe/Berlin:20240204T110100
LOCATION:Bolevecká základní škola ( 18.ZŠ)\, náměstí Odboje 550 Plzeň - Bol
 evec
SUMMARY:US-U16M-4: Plzeň-Klatovy
END:VEVENT
BEGIN:VEVENT
UID:30613536-3133-4761-b130-393035636339
DTSTAMP:20260421T134935Z
DESCRIPTION:2/16 Plzeň - Volejbal Aš - Klokani z.s. 1:2 (20\,-20\,-11)
DTSTART;TZID=Europe/Berlin:20240204T090100
DTEND;TZID=Europe/Berlin:20240204T110100
LOCATION:Bolevecká základní škola ( 18.ZŠ)\, náměstí Odboje 550 Plzeň - Bol
 evec
SUMMARY:US-U16M-4: Plzeň-Volejbal Aš - Klokani z.s.
END:VEVENT
BEGIN:VEVENT
UID:36343462-6364-4561-a261-376563353364
DTSTAMP:20260421T134935Z
DESCRIPTION:2/19 Plzeň - Volejbalový klub Teplice z.s. 2:1 (-21\,24\,7)
DTSTART;TZID=Europe/Berlin:20240204T090100
DTEND;TZID=Europe/Berlin:20240204T110100
LOCATION:Bolevecká základní škola ( 18.ZŠ)\, náměstí Odboje 550 Plzeň - Bol
 evec
SUMMARY:US-U16M-4: Plzeň-Volejbalový klub Teplice z.s.
END:VEVENT
BEGIN:VEVENT
UID:66653238-6632-4935-b861-343866393062
DTSTAMP:20260421T134935Z
DESCRIPTION:2/13 VK Litvínov\, z.s. - Plzeň 0:2 (-15\,-14)
DTSTART;TZID=Europe/Berlin:20240204T090100
DTEND;TZID=Europe/Berlin:20240204T110100
LOCATION:Sportovní hala Litvínov U Koldomu 2049\, 436 01 Litvínov
SUMMARY:US-U16M-4: VK Litvínov\, z.s.-Plzeň
END:VEVENT
BEGIN:VEVENT
UID:64666237-3532-4738-b036-393761343532
DTSTAMP:20260421T134935Z
DESCRIPTION:1/9 Plzeň - Ústí n. L. 0:2 (-22\,-22)
DTSTART;TZID=Europe/Berlin:20240427T160000
DTEND;TZID=Europe/Berlin:20240427T180000
LOCATION:ZŠ Oskara Nedbala České Budějovice\, O. Nedbala 882 České Budějovi
 ce - České Budějovice 2
SUMMARY:MCR-U16M-C: Plzeň-Ústí n. L.
END:VEVENT
BEGIN:VEVENT
UID:65663266-6131-4638-a639-333438376132
DTSTAMP:20260421T134935Z
DESCRIPTION:1/13 Plzeň - Svitavy 0:2 (-19\,-14)
DTSTART;TZID=Europe/Berlin:20240427T190000
DTEND;TZID=Europe/Berlin:20240427T210000
LOCATION:ZŠ Oskara Nedbala České Budějovice\, O. Nedbala 882 České Budějovi
 ce - České Budějovice 2
SUMMARY:MCR-U16M-C: Plzeň-Svitavy
END:VEVENT
BEGIN:VEVENT
UID:30326563-3164-4239-b764-663134633630
DTSTAMP:20260421T134935Z
DESCRIPTION:2/16 Plzeň - Opava 0:2 (-17\,-15)
DTSTART;TZID=Europe/Berlin:20240428T093000
DTEND;TZID=Europe/Berlin:20240428T113000
LOCATION:ZŠ Oskara Nedbala České Budějovice\, O. Nedbala 882 České Budějovi
 ce - České Budějovice 2
SUMMARY:MCR-U16M-C: Plzeň-Opava
END:VEVENT
BEGIN:VEVENT
UID:32333539-3933-4461-a262-303637396632
DTSTAMP:20260421T134935Z
DESCRIPTION:1/1 České Budějovice - Plzeň 2:0 (13\,6)
DTSTART;TZID=Europe/Berlin:20240427T100000
DTEND;TZID=Europe/Berlin:20240427T120000
LOCATION:ZŠ Oskara Nedbala České Budějovice\, O. Nedbala 882 České Budějovi
 ce - České Budějovice 2
SUMMARY:MCR-U16M-C: České Budějovice-Plzeň
END:VEVENT
BEGIN:VEVENT
UID:38353765-3035-4932-b262-633738643966
DTSTAMP:20260421T134935Z
DESCRIPTION:1/5 Velké Meziříčí - Plzeň 2:1 (22\,-18\,13)
DTSTART;TZID=Europe/Berlin:20240427T130000
DTEND;TZID=Europe/Berlin:20240427T150000
LOCATION:ZŠ Oskara Nedbala České Budějovice\, O. Nedbala 882 České Budějovi
 ce - České Budějovice 2
SUMMARY:MCR-U16M-C: Velké Meziříčí-Plzeň
END:VEVENT
BEGIN:VEVENT
UID:65623135-3436-4033-b730-346238346666
DTSTAMP:20260421T134935Z
DESCRIPTION:2/20 Lvi Praha - Plzeň 2:0 (4\,9)
DTSTART;TZID=Europe/Berlin:20240428T123000
DTEND;TZID=Europe/Berlin:20240428T143000
LOCATION:ZŠ Oskara Nedbala České Budějovice\, O. Nedbala 882 České Budějovi
 ce - České Budějovice 2
SUMMARY:MCR-U16M-C: Lvi Praha-Plzeň
END:VEVENT
END:VCALENDAR
