BEGIN:VCALENDAR
VERSION:2.0
PRODID:-//Tělocvičná jednota Sokol Brno - jih83539//NONSGML kigkonsult.se iCalcreator 2.41.80//
CALSCALE:GREGORIAN
UID:63383832-6236-4564-a634-346138383434
BEGIN:VEVENT
UID:65313432-3430-4562-b637-356237376231
DTSTAMP:20260423T094112Z
DESCRIPTION:7/27 Sokol Brno - jih B - VOLEJBAL VYŠKOV 2:3 (-23\,-24\,21\,13
 \,-11)
DTSTART;TZID=Europe/Berlin:20231104T090000
DTEND;TZID=Europe/Berlin:20231104T110000
LOCATION:ZŠ Tuháčkova\, Tuháčkova 23 Brno - Komárov
SUMMARY:JM-M-1: Sokol Brno - jih B-VOLEJBAL VYŠKOV
END:VEVENT
BEGIN:VEVENT
UID:36373738-3566-4636-b234-333536633434
DTSTAMP:20260423T094112Z
DESCRIPTION:8/31 Sokol Brno - jih B - VOLEJBAL VYŠKOV 2:3 (17\,-23\,-19\,12
 \,-12)
DTSTART;TZID=Europe/Berlin:20231104T130000
DTEND;TZID=Europe/Berlin:20231104T150000
LOCATION:ZŠ Tuháčkova\, Tuháčkova 23 Brno - Komárov
SUMMARY:JM-M-1: Sokol Brno - jih B-VOLEJBAL VYŠKOV
END:VEVENT
BEGIN:VEVENT
UID:36343866-3865-4333-a430-326332623361
DTSTAMP:20260423T094112Z
DESCRIPTION:15/57 Sokol Brno - jih B - TJ TESLA BRNO z.s. 3:0 (16\,15\,18)
DTSTART;TZID=Europe/Berlin:20240106T090000
DTEND;TZID=Europe/Berlin:20240106T110000
LOCATION:ZŠ Tuháčkova\, Tuháčkova 23 Brno - Komárov
SUMMARY:JM-M-1: Sokol Brno - jih B-TJ TESLA BRNO z.s.
END:VEVENT
BEGIN:VEVENT
UID:39373064-3663-4335-a437-373766613064
DTSTAMP:20260423T094112Z
DESCRIPTION:16/61 Sokol Brno - jih B - TJ TESLA BRNO z.s. 3:1 (-23\,21\,19\
 ,20)
DTSTART;TZID=Europe/Berlin:20240106T130000
DTEND;TZID=Europe/Berlin:20240106T150000
LOCATION:ZŠ Tuháčkova\, Tuháčkova 23 Brno - Komárov
SUMMARY:JM-M-1: Sokol Brno - jih B-TJ TESLA BRNO z.s.
END:VEVENT
BEGIN:VEVENT
UID:62326465-6538-4839-b834-346661616234
DTSTAMP:20260423T094112Z
DESCRIPTION:17/68 Sokol Brno - jih B - TJ Holubice C 3:0 (17\,23\,19)
DTSTART;TZID=Europe/Berlin:20240113T090000
DTEND;TZID=Europe/Berlin:20240113T110000
LOCATION:ZŠ Tuháčkova\, Tuháčkova 23 Brno - Komárov
SUMMARY:JM-M-1: Sokol Brno - jih B-TJ Holubice C
END:VEVENT
BEGIN:VEVENT
UID:33393038-6333-4536-a431-353030306537
DTSTAMP:20260423T094112Z
DESCRIPTION:18/72 Sokol Brno - jih B - TJ Holubice C 3:0 (18\,25\,24)
DTSTART;TZID=Europe/Berlin:20240113T130000
DTEND;TZID=Europe/Berlin:20240113T150000
LOCATION:ZŠ Tuháčkova\, Tuháčkova 23 Brno - Komárov
SUMMARY:JM-M-1: Sokol Brno - jih B-TJ Holubice C
END:VEVENT
BEGIN:VEVENT
UID:35666466-3465-4437-a632-323237346538
DTSTAMP:20260423T094112Z
DESCRIPTION:19/74 Sokol Brno - jih B - VK Žabovřesky 2:3 (22\,-22\,-19\,18\
 ,-10)
DTSTART;TZID=Europe/Berlin:20240120T090000
DTEND;TZID=Europe/Berlin:20240120T110000
LOCATION:ZŠ Tuháčkova\, Tuháčkova 23 Brno - Komárov
SUMMARY:JM-M-1: Sokol Brno - jih B-VK Žabovřesky
END:VEVENT
BEGIN:VEVENT
UID:31333536-3738-4162-b163-323736323764
DTSTAMP:20260423T094112Z
DESCRIPTION:20/78 Sokol Brno - jih B - VK Žabovřesky 1:3 (16\,-19\,-20\,-22
 )
DTSTART;TZID=Europe/Berlin:20240120T130000
DTEND;TZID=Europe/Berlin:20240120T150000
LOCATION:ZŠ Tuháčkova\, Tuháčkova 23 Brno - Komárov
SUMMARY:JM-M-1: Sokol Brno - jih B-VK Žabovřesky
END:VEVENT
BEGIN:VEVENT
UID:65633038-3834-4434-b563-306362383435
DTSTAMP:20260423T094112Z
DESCRIPTION:23/91 Sokol Brno - jih B - VK Znojmo - Přímětice 'A' 3:0 (17\,2
 0\,21)
DTSTART;TZID=Europe/Berlin:20240316T090000
DTEND;TZID=Europe/Berlin:20240316T110000
LOCATION:ZŠ Tuháčkova\, Tuháčkova 23 Brno - Komárov
SUMMARY:JM-M-1: Sokol Brno - jih B-VK Znojmo - Přímětice 'A'
END:VEVENT
BEGIN:VEVENT
UID:32393431-6165-4936-a166-633234343930
DTSTAMP:20260423T094112Z
DESCRIPTION:24/95 Sokol Brno - jih B - VK Znojmo - Přímětice 'A' 3:2 (18\,-
 17\,-24\,18\,14)
DTSTART;TZID=Europe/Berlin:20240316T130000
DTEND;TZID=Europe/Berlin:20240316T150000
LOCATION:ZŠ Tuháčkova\, Tuháčkova 23 Brno - Komárov
SUMMARY:JM-M-1: Sokol Brno - jih B-VK Znojmo - Přímětice 'A'
END:VEVENT
BEGIN:VEVENT
UID:66383363-3137-4065-a264-323265316631
DTSTAMP:20260423T094112Z
DESCRIPTION:25/98 Sokol Brno - jih B - LI Brno 1:3 (-22\,-19\,18\,-22)
DTSTART;TZID=Europe/Berlin:20240224T090000
DTEND;TZID=Europe/Berlin:20240224T110000
LOCATION:ZŠ Tuháčkova\, Tuháčkova 23 Brno - Komárov
SUMMARY:JM-M-1: Sokol Brno - jih B-LI Brno
END:VEVENT
BEGIN:VEVENT
UID:31373632-3138-4864-b035-336365303732
DTSTAMP:20260423T094112Z
DESCRIPTION:26/102 Sokol Brno - jih B - LI Brno 1:3 (21\,-19\,-18\,-14)
DTSTART;TZID=Europe/Berlin:20240224T130000
DTEND;TZID=Europe/Berlin:20240224T150000
LOCATION:ZŠ Tuháčkova\, Tuháčkova 23 Brno - Komárov
SUMMARY:JM-M-1: Sokol Brno - jih B-LI Brno
END:VEVENT
BEGIN:VEVENT
UID:32356131-3139-4364-b833-366364303736
DTSTAMP:20260423T094112Z
DESCRIPTION:27/108 Sokol Brno - jih B - TJ Sokol Šlapanice u Brna B 1:3 (-1
 6\,21\,-20\,-12)\nhraje se ZŠ Šlapanice
DTSTART;TZID=Europe/Berlin:20240110T194500
DTEND;TZID=Europe/Berlin:20240110T214500
LOCATION:ZŠ Tuháčkova\, Tuháčkova 23 Brno - Komárov
SUMMARY:JM-M-1: Sokol Brno - jih B-TJ Sokol Šlapanice u Brna B
END:VEVENT
BEGIN:VEVENT
UID:65666462-3262-4339-a636-306661323963
DTSTAMP:20260423T094112Z
DESCRIPTION:28/112 Sokol Brno - jih B - TJ Sokol Šlapanice u Brna B 0:3 (-2
 2\,-21\,-14)\nhraje se ZŠ Šlapanice
DTSTART;TZID=Europe/Berlin:20240117T194500
DTEND;TZID=Europe/Berlin:20240117T214500
LOCATION:ZŠ Tuháčkova\, Tuháčkova 23 Brno - Komárov
SUMMARY:JM-M-1: Sokol Brno - jih B-TJ Sokol Šlapanice u Brna B
END:VEVENT
BEGIN:VEVENT
UID:35663439-6631-4534-b030-313833393032
DTSTAMP:20260423T094112Z
DESCRIPTION:1/1 TJ TESLA BRNO z.s. - Sokol Brno - jih B 0:3 (-6\,-16\,-15)
DTSTART;TZID=Europe/Berlin:20231007T100000
DTEND;TZID=Europe/Berlin:20231007T120000
LOCATION:TJ Tesla Brno\, Halasovo náměstí 826 Brno - Lesná
SUMMARY:JM-M-1: TJ TESLA BRNO z.s.-Sokol Brno - jih B
END:VEVENT
BEGIN:VEVENT
UID:32386530-3234-4765-a265-393035643965
DTSTAMP:20260423T094112Z
DESCRIPTION:2/5 TJ TESLA BRNO z.s. - Sokol Brno - jih B 0:3 (-14\,-20\,-17)
DTSTART;TZID=Europe/Berlin:20231007T143000
DTEND;TZID=Europe/Berlin:20231007T163000
LOCATION:TJ Tesla Brno\, Halasovo náměstí 826 Brno - Lesná
SUMMARY:JM-M-1: TJ TESLA BRNO z.s.-Sokol Brno - jih B
END:VEVENT
BEGIN:VEVENT
UID:37313330-6230-4864-a361-646534663835
DTSTAMP:20260423T094112Z
DESCRIPTION:3/12 TJ Holubice C - Sokol Brno - jih B 2:3 (22\,-19\,-17\,21\,
 -12)
DTSTART;TZID=Europe/Berlin:20231014T100000
DTEND;TZID=Europe/Berlin:20231014T120000
LOCATION:Sportovní hala Holubice\,  Holubice299
SUMMARY:JM-M-1: TJ Holubice C-Sokol Brno - jih B
END:VEVENT
BEGIN:VEVENT
UID:38356561-3432-4539-b461-343238353330
DTSTAMP:20260423T094112Z
DESCRIPTION:4/16 TJ Holubice C - Sokol Brno - jih B 1:3 (-22\,-17\,16\,-15)
DTSTART;TZID=Europe/Berlin:20231014T130000
DTEND;TZID=Europe/Berlin:20231014T150000
LOCATION:Sportovní hala Holubice\,  Holubice299
SUMMARY:JM-M-1: TJ Holubice C-Sokol Brno - jih B
END:VEVENT
BEGIN:VEVENT
UID:33626134-6636-4539-a539-383836626238
DTSTAMP:20260423T094112Z
DESCRIPTION:5/18 VK Žabovřesky - Sokol Brno - jih B 3:2 (21\,15\,-25\,-19\,
 12)
DTSTART;TZID=Europe/Berlin:20231021T100000
DTEND;TZID=Europe/Berlin:20231021T120000
LOCATION:Gymnázium Matyáše Lercha\, Žižkova 980 Brno - Veveří
SUMMARY:JM-M-1: VK Žabovřesky-Sokol Brno - jih B
END:VEVENT
BEGIN:VEVENT
UID:33643966-6231-4938-a130-636562333733
DTSTAMP:20260423T094112Z
DESCRIPTION:6/22 VK Žabovřesky - Sokol Brno - jih B 3:2 (-17\,22\,-16\,14\,
 9)
DTSTART;TZID=Europe/Berlin:20231021T130000
DTEND;TZID=Europe/Berlin:20231021T150000
LOCATION:Gymnázium Matyáše Lercha\, Žižkova 980 Brno - Veveří
SUMMARY:JM-M-1: VK Žabovřesky-Sokol Brno - jih B
END:VEVENT
BEGIN:VEVENT
UID:37303735-6631-4934-b336-303234313432
DTSTAMP:20260423T094112Z
DESCRIPTION:9/35 VK Znojmo - Přímětice 'A' - Sokol Brno - jih B 2:3 (-20\,-
 22\,16\,22\,-11)
DTSTART;TZID=Europe/Berlin:20231111T100000
DTEND;TZID=Europe/Berlin:20231111T120000
LOCATION:Gymnázium Dr. Karla Polesného\, náměstí Komenského 945 Znojmo
SUMMARY:JM-M-1: VK Znojmo - Přímětice 'A'-Sokol Brno - jih B
END:VEVENT
BEGIN:VEVENT
UID:65633236-3034-4365-a563-653835383636
DTSTAMP:20260423T094112Z
DESCRIPTION:10/39 VK Znojmo - Přímětice 'A' - Sokol Brno - jih B 2:3 (-21\,
 23\,13\,-21\,-6)
DTSTART;TZID=Europe/Berlin:20231111T130000
DTEND;TZID=Europe/Berlin:20231111T150000
LOCATION:Gymnázium Dr. Karla Polesného\, náměstí Komenského 945 Znojmo
SUMMARY:JM-M-1: VK Znojmo - Přímětice 'A'-Sokol Brno - jih B
END:VEVENT
BEGIN:VEVENT
UID:38316564-3936-4261-a536-313536656166
DTSTAMP:20260423T094112Z
DESCRIPTION:11/42 LI Brno - Sokol Brno - jih B 3:0 (24\,12\,23)
DTSTART;TZID=Europe/Berlin:20231125T100000
DTEND;TZID=Europe/Berlin:20231125T120000
LOCATION:Sportovní hala VUT Purkyňova \, Purkyňova 2640 Brno - Královo Pole
SUMMARY:JM-M-1: LI Brno-Sokol Brno - jih B
END:VEVENT
BEGIN:VEVENT
UID:38393466-6230-4731-a535-393437656161
DTSTAMP:20260423T094112Z
DESCRIPTION:12/46 LI Brno - Sokol Brno - jih B 3:0 (21\,22\,17)
DTSTART;TZID=Europe/Berlin:20231125T130000
DTEND;TZID=Europe/Berlin:20231125T150000
LOCATION:Sportovní hala VUT Purkyňova \, Purkyňova 2640 Brno - Královo Pole
SUMMARY:JM-M-1: LI Brno-Sokol Brno - jih B
END:VEVENT
BEGIN:VEVENT
UID:32303435-6236-4962-a332-653830323062
DTSTAMP:20260423T094112Z
DESCRIPTION:13/52 TJ Sokol Šlapanice u Brna B - Sokol Brno - jih B 2:3 (22\
 ,-18\,-20\,19\,-13)
DTSTART;TZID=Europe/Berlin:20231203T100000
DTEND;TZID=Europe/Berlin:20231203T120000
LOCATION:ZŠ Na Zahrádkách \, Na Zahrádkách 1716 Šlapanice
SUMMARY:JM-M-1: TJ Sokol Šlapanice u Brna B-Sokol Brno - jih B
END:VEVENT
BEGIN:VEVENT
UID:34633464-3933-4264-a235-623265646538
DTSTAMP:20260423T094112Z
DESCRIPTION:14/56 TJ Sokol Šlapanice u Brna B - Sokol Brno - jih B 3:0 (21\
 ,13\,13)
DTSTART;TZID=Europe/Berlin:20231203T130000
DTEND;TZID=Europe/Berlin:20231203T150000
LOCATION:ZŠ Na Zahrádkách \, Na Zahrádkách 1716 Šlapanice
SUMMARY:JM-M-1: TJ Sokol Šlapanice u Brna B-Sokol Brno - jih B
END:VEVENT
BEGIN:VEVENT
UID:64626137-3138-4461-b331-663732366635
DTSTAMP:20260423T094112Z
DESCRIPTION:21/83 VOLEJBAL VYŠKOV - Sokol Brno - jih B 3:0 (18\,16\,16)
DTSTART;TZID=Europe/Berlin:20240127T100000
DTEND;TZID=Europe/Berlin:20240127T120000
LOCATION:Sportovní hala\, Mlýnská 737 Vyškov - Dědice
SUMMARY:JM-M-1: VOLEJBAL VYŠKOV-Sokol Brno - jih B
END:VEVENT
BEGIN:VEVENT
UID:61643962-3565-4036-b463-643965343931
DTSTAMP:20260423T094112Z
DESCRIPTION:22/87 VOLEJBAL VYŠKOV - Sokol Brno - jih B 3:1 (16\,18\,-23\,22
 )
DTSTART;TZID=Europe/Berlin:20240127T130000
DTEND;TZID=Europe/Berlin:20240127T150000
LOCATION:Sportovní hala\, Mlýnská 737 Vyškov - Dědice
SUMMARY:JM-M-1: VOLEJBAL VYŠKOV-Sokol Brno - jih B
END:VEVENT
END:VCALENDAR
