BEGIN:VCALENDAR
VERSION:2.0
PRODID:-//T.J. Sokol Geodézie Česká Třebová_U18Z83622//NONSGML kigkonsult.se iCalcreator 2.41.80//
CALSCALE:GREGORIAN
UID:39303930-6164-4739-a164-373630393464
BEGIN:VEVENT
UID:34333439-3962-4738-a532-366464616264
DTSTAMP:20260423T190834Z
DESCRIPTION:3/12 T.J. Sokol Česká Třebová_U18Z - TJ Pardubičky_U20Z 3:0 (13
 \,21\,10)
DTSTART;TZID=Europe/Berlin:20230923T100000
DTEND;TZID=Europe/Berlin:20230923T120000
LOCATION:Hala VDA\, Na Skále 573 Česká Třebová
SUMMARY:PA-U20Z: T.J. Sokol Česká Třebová_U18Z-TJ Pardubičky_U20Z
END:VEVENT
BEGIN:VEVENT
UID:39626466-6661-4536-b262-633939396435
DTSTAMP:20260423T190834Z
DESCRIPTION:4/17 T.J. Sokol Česká Třebová_U18Z - TJ Pardubičky_U20Z 3:0 (14
 \,15\,15)
DTSTART;TZID=Europe/Berlin:20230923T130000
DTEND;TZID=Europe/Berlin:20230923T150000
LOCATION:Hala VDA\, Na Skále 573 Česká Třebová
SUMMARY:PA-U20Z: T.J. Sokol Česká Třebová_U18Z-TJ Pardubičky_U20Z
END:VEVENT
BEGIN:VEVENT
UID:37393339-6233-4665-a463-653361626135
DTSTAMP:20260423T190834Z
DESCRIPTION:13/64 T.J. Sokol Česká Třebová_U18Z - T.J. Sokol Dolní Újezd_U2
 0Z 0:3 (-14\,-29\,-15)
DTSTART;TZID=Europe/Berlin:20231117T100000
DTEND;TZID=Europe/Berlin:20231117T120000
LOCATION:Hala VDA\, Na Skále 573 Česká Třebová
SUMMARY:PA-U20Z: T.J. Sokol Česká Třebová_U18Z-T.J. Sokol Dolní Újezd_U20Z
END:VEVENT
BEGIN:VEVENT
UID:33333537-6130-4863-b161-313737356164
DTSTAMP:20260423T190834Z
DESCRIPTION:14/69 T.J. Sokol Česká Třebová_U18Z - T.J. Sokol Dolní Újezd_U2
 0Z 0:3 (-18\,-17\,-13)
DTSTART;TZID=Europe/Berlin:20231117T130000
DTEND;TZID=Europe/Berlin:20231117T150000
LOCATION:Hala VDA\, Na Skále 573 Česká Třebová
SUMMARY:PA-U20Z: T.J. Sokol Česká Třebová_U18Z-T.J. Sokol Dolní Újezd_U20Z
END:VEVENT
BEGIN:VEVENT
UID:62316162-6231-4131-b033-393631333163
DTSTAMP:20260423T190834Z
DESCRIPTION:17/83 T.J. Sokol Česká Třebová_U18Z - VK Litomyšl_U20Z 0:3 (-18
 \,-20\,-18)
DTSTART;TZID=Europe/Berlin:20240406T100000
DTEND;TZID=Europe/Berlin:20240406T120000
LOCATION:Hala VDA\, Na Skále 573 Česká Třebová
SUMMARY:PA-U20Z: T.J. Sokol Česká Třebová_U18Z-VK Litomyšl_U20Z
END:VEVENT
BEGIN:VEVENT
UID:64313363-6130-4735-a664-313435623336
DTSTAMP:20260423T190834Z
DESCRIPTION:18/88 T.J. Sokol Česká Třebová_U18Z - VK Litomyšl_U20Z 0:3 (-20
 \,-22\,-17)
DTSTART;TZID=Europe/Berlin:20240406T130000
DTEND;TZID=Europe/Berlin:20240406T150000
LOCATION:Hala VDA\, Na Skále 573 Česká Třebová
SUMMARY:PA-U20Z: T.J. Sokol Česká Třebová_U18Z-VK Litomyšl_U20Z
END:VEVENT
BEGIN:VEVENT
UID:39336264-3031-4438-b439-633063623961
DTSTAMP:20260423T190834Z
DESCRIPTION:19/94 T.J. Sokol Česká Třebová_U18Z - TJ Spartak Polička_U20Z 0
 :3 (-4\,-13\,-14)
DTSTART;TZID=Europe/Berlin:20240107T100000
DTEND;TZID=Europe/Berlin:20240107T120000
LOCATION:Hala VDA\, Na Skále 573 Česká Třebová
SUMMARY:PA-U20Z: T.J. Sokol Česká Třebová_U18Z-TJ Spartak Polička_U20Z
END:VEVENT
BEGIN:VEVENT
UID:36356561-6637-4562-a265-356533306435
DTSTAMP:20260423T190834Z
DESCRIPTION:20/99 T.J. Sokol Česká Třebová_U18Z - TJ Spartak Polička_U20Z 0
 :3 (-13\,-17\,-14)
DTSTART;TZID=Europe/Berlin:20240107T130000
DTEND;TZID=Europe/Berlin:20240107T150000
LOCATION:Hala VDA\, Na Skále 573 Česká Třebová
SUMMARY:PA-U20Z: T.J. Sokol Česká Třebová_U18Z-TJ Spartak Polička_U20Z
END:VEVENT
BEGIN:VEVENT
UID:32373734-6663-4337-a661-666133633839
DTSTAMP:20260423T190834Z
DESCRIPTION:23/115 T.J. Sokol Česká Třebová_U18Z - TJ Svitavy_U20Z 0:3 (-20
 \,-23\,-18)
DTSTART;TZID=Europe/Berlin:20240307T160000
DTEND;TZID=Europe/Berlin:20240307T180000
LOCATION:Hala VDA\, Na Skále 573 Česká Třebová
SUMMARY:PA-U20Z: T.J. Sokol Česká Třebová_U18Z-TJ Svitavy_U20Z
END:VEVENT
BEGIN:VEVENT
UID:66383835-3265-4138-a661-666637323263
DTSTAMP:20260423T190834Z
DESCRIPTION:24/120 T.J. Sokol Česká Třebová_U18Z - TJ Svitavy_U20Z 0:3 (-23
 \,-21\,-21)
DTSTART;TZID=Europe/Berlin:20240307T190000
DTEND;TZID=Europe/Berlin:20240307T210000
LOCATION:Hala VDA\, Na Skále 573 Česká Třebová
SUMMARY:PA-U20Z: T.J. Sokol Česká Třebová_U18Z-TJ Svitavy_U20Z
END:VEVENT
BEGIN:VEVENT
UID:62643930-3237-4762-b535-306264336537
DTSTAMP:20260423T190834Z
DESCRIPTION:25/121 T.J. Sokol Česká Třebová_U18Z - TJ Slovan Moravská Třebo
 vá_U18Z 3:0 (23\,19\,17)
DTSTART;TZID=Europe/Berlin:20240120T100000
DTEND;TZID=Europe/Berlin:20240120T120000
LOCATION:Hala VDA\, Na Skále 573 Česká Třebová
SUMMARY:PA-U20Z: T.J. Sokol Česká Třebová_U18Z-TJ Slovan Moravská Třebová_U
 18Z
END:VEVENT
BEGIN:VEVENT
UID:36366632-6531-4232-b135-643330346465
DTSTAMP:20260423T190834Z
DESCRIPTION:26/126 T.J. Sokol Česká Třebová_U18Z - TJ Slovan Moravská Třebo
 vá_U18Z 1:3 (-14\,-23\,22\,-20)
DTSTART;TZID=Europe/Berlin:20240120T130000
DTEND;TZID=Europe/Berlin:20240120T150000
LOCATION:Hala VDA\, Na Skále 573 Česká Třebová
SUMMARY:PA-U20Z: T.J. Sokol Česká Třebová_U18Z-TJ Slovan Moravská Třebová_U
 18Z
END:VEVENT
BEGIN:VEVENT
UID:31376465-6636-4462-b631-616432313738
DTSTAMP:20260423T190834Z
DESCRIPTION:29/142 T.J. Sokol Česká Třebová_U18Z - VK Choceň _U18Z 1:3 (-23
 \,21\,-17\,-17)
DTSTART;TZID=Europe/Berlin:20240210T100000
DTEND;TZID=Europe/Berlin:20240210T120000
LOCATION:Hala VDA\, Na Skále 573 Česká Třebová
SUMMARY:PA-U20Z: T.J. Sokol Česká Třebová_U18Z-VK Choceň _U18Z
END:VEVENT
BEGIN:VEVENT
UID:63663763-3864-4639-b237-343237373232
DTSTAMP:20260423T190834Z
DESCRIPTION:30/147 T.J. Sokol Česká Třebová_U18Z - VK Choceň _U18Z 1:3 (-15
 \,23\,-16\,-16)
DTSTART;TZID=Europe/Berlin:20240210T130000
DTEND;TZID=Europe/Berlin:20240210T150000
LOCATION:Hala VDA\, Na Skále 573 Česká Třebová
SUMMARY:PA-U20Z: T.J. Sokol Česká Třebová_U18Z-VK Choceň _U18Z
END:VEVENT
BEGIN:VEVENT
UID:62613637-3862-4930-a636-323535303639
DTSTAMP:20260423T190834Z
DESCRIPTION:33/163 T.J. Sokol Česká Třebová_U18Z - Choceň 0:3 (-21\,-14\,-2
 3)
DTSTART;TZID=Europe/Berlin:20240303T100000
DTEND;TZID=Europe/Berlin:20240303T120000
LOCATION:Hala VDA\, Na Skále 573 Česká Třebová
SUMMARY:PA-U20Z: T.J. Sokol Česká Třebová_U18Z-Choceň
END:VEVENT
BEGIN:VEVENT
UID:34646634-6337-4461-b931-336433323832
DTSTAMP:20260423T190834Z
DESCRIPTION:34/168 T.J. Sokol Česká Třebová_U18Z - Choceň 0:3 (-20\,-18\,-2
 2)
DTSTART;TZID=Europe/Berlin:20240303T130000
DTEND;TZID=Europe/Berlin:20240303T150000
LOCATION:Hala VDA\, Na Skále 573 Česká Třebová
SUMMARY:PA-U20Z: T.J. Sokol Česká Třebová_U18Z-Choceň
END:VEVENT
BEGIN:VEVENT
UID:37643031-6664-4364-a566-633531626637
DTSTAMP:20260423T190834Z
DESCRIPTION:1/4 TJ Spartak Polička_U20Z - T.J. Sokol Česká Třebová_U18Z 3:0
  (8\,7\,9)
DTSTART;TZID=Europe/Berlin:20230916T150000
DTEND;TZID=Europe/Berlin:20230916T170000
LOCATION:TJ Spartak Polička\, z.s. \, nábř. Svobody 447 Polička - Horní Pře
 dměstí
SUMMARY:PA-U20Z: TJ Spartak Polička_U20Z-T.J. Sokol Česká Třebová_U18Z
END:VEVENT
BEGIN:VEVENT
UID:35326166-3935-4137-a632-663563656436
DTSTAMP:20260423T190834Z
DESCRIPTION:2/9 TJ Spartak Polička_U20Z - T.J. Sokol Česká Třebová_U18Z 3:0
  (14\,16\,18)
DTSTART;TZID=Europe/Berlin:20230916T170000
DTEND;TZID=Europe/Berlin:20230916T190000
LOCATION:TJ Spartak Polička\, z.s. \, nábř. Svobody 447 Polička - Horní Pře
 dměstí
SUMMARY:PA-U20Z: TJ Spartak Polička_U20Z-T.J. Sokol Česká Třebová_U18Z
END:VEVENT
BEGIN:VEVENT
UID:36343130-6633-4638-b534-303034616331
DTSTAMP:20260423T190834Z
DESCRIPTION:5/25 TJ Svitavy_U20Z - T.J. Sokol Česká Třebová_U18Z 1:3 (-22\,
 15\,-25\,-20)
DTSTART;TZID=Europe/Berlin:20231007T100000
DTEND;TZID=Europe/Berlin:20231007T120000
LOCATION:Sportovní hala Na Střelnici\, Pražská 2162 Svitavy - Předměstí
SUMMARY:PA-U20Z: TJ Svitavy_U20Z-T.J. Sokol Česká Třebová_U18Z
END:VEVENT
BEGIN:VEVENT
UID:34363762-6262-4161-b735-333833623162
DTSTAMP:20260423T190834Z
DESCRIPTION:6/30 TJ Svitavy_U20Z - T.J. Sokol Česká Třebová_U18Z 2:3 (-22\,
 22\,-22\,11\,-6)
DTSTART;TZID=Europe/Berlin:20231007T130000
DTEND;TZID=Europe/Berlin:20231007T150000
LOCATION:Sportovní hala Na Střelnici\, Pražská 2162 Svitavy - Předměstí
SUMMARY:PA-U20Z: TJ Svitavy_U20Z-T.J. Sokol Česká Třebová_U18Z
END:VEVENT
BEGIN:VEVENT
UID:62353432-3736-4261-b762-646530626464
DTSTAMP:20260423T190834Z
DESCRIPTION:7/31 TJ Slovan Moravská Třebová_U18Z - T.J. Sokol Česká Třebová
 _U18Z 0:3 (-22\,-14\,-24)
DTSTART;TZID=Europe/Berlin:20231014T100000
DTEND;TZID=Europe/Berlin:20231014T120000
LOCATION:Sportovní hala SOŠ OU\, J. K. Tyla 1275 Moravská Třebová - Předměs
 tí
SUMMARY:PA-U20Z: TJ Slovan Moravská Třebová_U18Z-T.J. Sokol Česká Třebová_U
 18Z
END:VEVENT
BEGIN:VEVENT
UID:66396230-3639-4431-b437-663662393430
DTSTAMP:20260423T190834Z
DESCRIPTION:8/36 TJ Slovan Moravská Třebová_U18Z - T.J. Sokol Česká Třebová
 _U18Z 2:3 (-13\,21\,22\,-13\,-11)
DTSTART;TZID=Europe/Berlin:20231014T130000
DTEND;TZID=Europe/Berlin:20231014T150000
LOCATION:Sportovní hala SOŠ OU\, J. K. Tyla 1275 Moravská Třebová - Předměs
 tí
SUMMARY:PA-U20Z: TJ Slovan Moravská Třebová_U18Z-T.J. Sokol Česká Třebová_U
 18Z
END:VEVENT
BEGIN:VEVENT
UID:30366331-6339-4561-b462-396334633163
DTSTAMP:20260423T190834Z
DESCRIPTION:11/52 VK Choceň _U18Z - T.J. Sokol Česká Třebová_U18Z 3:2 (-19\
 ,14\,16\,-19\,13)
DTSTART;TZID=Europe/Berlin:20231111T090000
DTEND;TZID=Europe/Berlin:20231111T110000
LOCATION:Volejbalová hala \, U Koupaliště 1734 Choceň
SUMMARY:PA-U20Z: VK Choceň _U18Z-T.J. Sokol Česká Třebová_U18Z
END:VEVENT
BEGIN:VEVENT
UID:64663431-3166-4633-b336-306661343664
DTSTAMP:20260423T190834Z
DESCRIPTION:12/57 VK Choceň _U18Z - T.J. Sokol Česká Třebová_U18Z 3:0 (21\,
 17\,23)
DTSTART;TZID=Europe/Berlin:20231111T120000
DTEND;TZID=Europe/Berlin:20231111T140000
LOCATION:Volejbalová hala \, U Koupaliště 1734 Choceň
SUMMARY:PA-U20Z: VK Choceň _U18Z-T.J. Sokol Česká Třebová_U18Z
END:VEVENT
BEGIN:VEVENT
UID:65323865-3038-4934-b039-313663343536
DTSTAMP:20260423T190834Z
DESCRIPTION:15/73 Choceň - T.J. Sokol Česká Třebová_U18Z 3:0 (21\,19\,12)
DTSTART;TZID=Europe/Berlin:20240105T170000
DTEND;TZID=Europe/Berlin:20240105T190000
LOCATION:Volejbalová hala \, U Koupaliště 1734 Choceň
SUMMARY:PA-U20Z: Choceň-T.J. Sokol Česká Třebová_U18Z
END:VEVENT
BEGIN:VEVENT
UID:31653163-3664-4664-a264-383439303838
DTSTAMP:20260423T190834Z
DESCRIPTION:16/78 Choceň - T.J. Sokol Česká Třebová_U18Z 3:0 (2\,16\,12)
DTSTART;TZID=Europe/Berlin:20230105T190000
DTEND;TZID=Europe/Berlin:20230105T210000
LOCATION:Volejbalová hala \, U Koupaliště 1734 Choceň
SUMMARY:PA-U20Z: Choceň-T.J. Sokol Česká Třebová_U18Z
END:VEVENT
BEGIN:VEVENT
UID:32623930-3166-4865-b266-333963613964
DTSTAMP:20260423T190834Z
DESCRIPTION:21/102 TJ Pardubičky_U20Z - T.J. Sokol Česká Třebová_U18Z 2:3 (
 -17\,-16\,16\,17\,-13)
DTSTART;TZID=Europe/Berlin:20240218T100000
DTEND;TZID=Europe/Berlin:20240218T120000
LOCATION:Tělocvična TJ Pardubičky\, Bokova 364 Pardubice - Pardubičky
SUMMARY:PA-U20Z: TJ Pardubičky_U20Z-T.J. Sokol Česká Třebová_U18Z
END:VEVENT
BEGIN:VEVENT
UID:33616539-3539-4737-b236-623539326137
DTSTAMP:20260423T190834Z
DESCRIPTION:22/107 TJ Pardubičky_U20Z - T.J. Sokol Česká Třebová_U18Z 1:3 (
 23\,-23\,-10\,-12)
DTSTART;TZID=Europe/Berlin:20240218T130000
DTEND;TZID=Europe/Berlin:20240218T150000
LOCATION:Tělocvična TJ Pardubičky\, Bokova 364 Pardubice - Pardubičky
SUMMARY:PA-U20Z: TJ Pardubičky_U20Z-T.J. Sokol Česká Třebová_U18Z
END:VEVENT
BEGIN:VEVENT
UID:62666236-6464-4561-a265-343330313835
DTSTAMP:20260423T190834Z
DESCRIPTION:31/154 T.J. Sokol Dolní Újezd_U20Z - T.J. Sokol Česká Třebová_U
 18Z 3:0 (16\,17\,9)
DTSTART;TZID=Europe/Berlin:20240217T100000
DTEND;TZID=Europe/Berlin:20240217T120000
LOCATION:tělocvična Základní školy\,  Dolní Újezd342
SUMMARY:PA-U20Z: T.J. Sokol Dolní Újezd_U20Z-T.J. Sokol Česká Třebová_U18Z
END:VEVENT
BEGIN:VEVENT
UID:34373263-3539-4233-b338-306265303563
DTSTAMP:20260423T190834Z
DESCRIPTION:32/159 T.J. Sokol Dolní Újezd_U20Z - T.J. Sokol Česká Třebová_U
 18Z 3:0 (12\,16\,19)
DTSTART;TZID=Europe/Berlin:20240217T130000
DTEND;TZID=Europe/Berlin:20240217T150000
LOCATION:tělocvična Základní školy\,  Dolní Újezd342
SUMMARY:PA-U20Z: T.J. Sokol Dolní Újezd_U20Z-T.J. Sokol Česká Třebová_U18Z
END:VEVENT
BEGIN:VEVENT
UID:66643239-3239-4565-b937-343632393237
DTSTAMP:20260423T190834Z
DESCRIPTION:35/173 VK Litomyšl_U20Z - T.J. Sokol Česká Třebová_U18Z 3:1 (19
 \,21\,-10\,22)
DTSTART;TZID=Europe/Berlin:20240405T170000
DTEND;TZID=Europe/Berlin:20240405T190000
LOCATION:Městská sportovní hala\, T. G. Masaryka 1145 Litomyšl - Litomyšl-M
 ěsto
SUMMARY:PA-U20Z: VK Litomyšl_U20Z-T.J. Sokol Česká Třebová_U18Z
END:VEVENT
BEGIN:VEVENT
UID:30333030-6632-4231-b566-373331323439
DTSTAMP:20260423T190834Z
DESCRIPTION:36/178 VK Litomyšl_U20Z - T.J. Sokol Česká Třebová_U18Z 3:1 (19
 \,-20\,20\,20)
DTSTART;TZID=Europe/Berlin:20240405T190000
DTEND;TZID=Europe/Berlin:20240405T210000
LOCATION:Městská sportovní hala\, T. G. Masaryka 1145 Litomyšl - Litomyšl-M
 ěsto
SUMMARY:PA-U20Z: VK Litomyšl_U20Z-T.J. Sokol Česká Třebová_U18Z
END:VEVENT
END:VCALENDAR
