BEGIN:VCALENDAR
VERSION:2.0
PRODID:-//SK Ještědská Liberec83633//NONSGML kigkonsult.se iCalcreator 2.41.80//
CALSCALE:GREGORIAN
UID:34616364-6534-4561-a337-396662313232
BEGIN:VEVENT
UID:37323434-3064-4264-a433-363665393433
DTSTAMP:20260422T033928Z
DESCRIPTION:2/3 TJ ABC Braník - SK Ještědská Liberec 2:1 (-20\,17\,8)\nkurt
  č.4
DTSTART;TZID=Europe/Berlin:20230923T110000
DTEND;TZID=Europe/Berlin:20230923T130000
LOCATION:Sokolovna Braník\, Branická 275 Praha - Braník
SUMMARY:CP-U16Z-Z1G: TJ ABC Braník-SK Ještědská Liberec
END:VEVENT
BEGIN:VEVENT
UID:35613164-3239-4334-a639-393837613733
DTSTAMP:20260422T033928Z
DESCRIPTION:4/5 TJ Sokol Brandýs n. L. - SK Ještědská Liberec 1:2 (-15\,25\
 ,-8)\nkurt č.1
DTSTART;TZID=Europe/Berlin:20230923T133000
DTEND;TZID=Europe/Berlin:20230923T153000
LOCATION:Sokolovna\, Zápská 329 Brandýs nad Labem-Stará Boleslav - Brandýs 
 nad Labem
SUMMARY:CP-U16Z-Z1G: TJ Sokol Brandýs n. L.-SK Ještědská Liberec
END:VEVENT
BEGIN:VEVENT
UID:33316265-6439-4132-b030-343832313965
DTSTAMP:20260422T033928Z
DESCRIPTION:5/7 Nymburské BOMBY - SK Ještědská Liberec 2:1 (-20\,9\,12)\nku
 rt č.1
DTSTART;TZID=Europe/Berlin:20230923T143000
DTEND;TZID=Europe/Berlin:20230923T163000
LOCATION:Bios\, V Kolonii 1804 Nymburk
SUMMARY:CP-U16Z-Z1G: Nymburské BOMBY-SK Ještědská Liberec
END:VEVENT
BEGIN:VEVENT
UID:64383566-3534-4562-a131-333563333939
DTSTAMP:20260422T033928Z
DESCRIPTION:7/12 VK Dukla Liberec - SK Ještědská Liberec 2:0 (10\,8)\nkurt 
 č.5
DTSTART;TZID=Europe/Berlin:20230924T090000
DTEND;TZID=Europe/Berlin:20230924T110000
LOCATION:Dukla Liberec\, Jeronýmova 558 Liberec - Liberec VII-Horní Růžodol
SUMMARY:CP-U16Z-Z1G: VK Dukla Liberec-SK Ještědská Liberec
END:VEVENT
BEGIN:VEVENT
UID:66633462-6532-4136-b930-613536336130
DTSTAMP:20260422T033928Z
DESCRIPTION:8/14 TJ EMĚ Mělník - SK Ještědská Liberec 2:1 (-19\,19\,12)\nku
 rt č.4
DTSTART;TZID=Europe/Berlin:20230924T110000
DTEND;TZID=Europe/Berlin:20230924T130000
LOCATION:Tělocvična ZŠ J. Matiegky\, Pražská 2817 Mělník
SUMMARY:CP-U16Z-Z1G: TJ EMĚ Mělník-SK Ještědská Liberec
END:VEVENT
BEGIN:VEVENT
UID:36313736-3164-4638-b534-623062333137
DTSTAMP:20260422T033928Z
DESCRIPTION:2/4 VK Madeta - SK Ještědská Liberec 0:2 (-19\,-16)\nSv.Čecha 1
 180\, Žatec
DTSTART;TZID=Europe/Berlin:20231014T102000
DTEND;TZID=Europe/Berlin:20231014T122000
LOCATION:Sportovní hala\, Stromovka 1216 České Budějovice - České Budějovic
 e 2
SUMMARY:CP-U16Z-Z2E: VK Madeta-SK Ještědská Liberec
END:VEVENT
BEGIN:VEVENT
UID:38653963-3733-4166-a165-613663643534
DTSTAMP:20260422T033928Z
DESCRIPTION:3/6 SC SPIRIT Říčany - SK Ještědská Liberec 2:1 (24\,-15\,5)\nS
 v.Čecha 1180\, Žatec
DTSTART;TZID=Europe/Berlin:20231014T114000
DTEND;TZID=Europe/Berlin:20231014T134000
LOCATION:Sportovní hala Světice\, U Hřiště 151 Světice
SUMMARY:CP-U16Z-Z2E: SC SPIRIT Říčany-SK Ještědská Liberec
END:VEVENT
BEGIN:VEVENT
UID:62306534-6665-4663-a431-626637623637
DTSTAMP:20260422T033928Z
DESCRIPTION:5/9 Žatec - SK Ještědská Liberec 2:1 (20\,-22\,4)\nPlzeňská 278
 7\, Žatec
DTSTART;TZID=Europe/Berlin:20231014T142000
DTEND;TZID=Europe/Berlin:20231014T162000
LOCATION:Sportovní hala TJ Sever Žatec\, Plzeňská 2787 Žatec
SUMMARY:CP-U16Z-Z2E: Žatec-SK Ještědská Liberec
END:VEVENT
BEGIN:VEVENT
UID:34363861-3363-4537-a264-316530313866
DTSTAMP:20260422T033928Z
DESCRIPTION:6/11 VK Tuchlovice - SK Ještědská Liberec 0:2 (-11\,-12)\nPlzeň
 ská 2787\, Žatec
DTSTART;TZID=Europe/Berlin:20231014T154000
DTEND;TZID=Europe/Berlin:20231014T174000
LOCATION:Přetlaková sportovní hala Brjanská\, Severní 3127 Kladno
SUMMARY:CP-U16Z-Z2E: VK Tuchlovice-SK Ještědská Liberec
END:VEVENT
BEGIN:VEVENT
UID:38316565-6434-4830-b037-363738353461
DTSTAMP:20260422T033928Z
DESCRIPTION:9/17 Škola volejbalu - SK Ještědská Liberec 1:2 (22\,-21\,-14)
 \nPlzeňská 2787\, Žatec
DTSTART;TZID=Europe/Berlin:20231015T103000
DTEND;TZID=Europe/Berlin:20231015T123000
LOCATION:Sportovní hala Hrdějovice\,  Hrdějovice597
SUMMARY:CP-U16Z-Z2E: Škola volejbalu-SK Ještědská Liberec
END:VEVENT
BEGIN:VEVENT
UID:34643830-3137-4533-b930-333436646638
DTSTAMP:20260422T033928Z
DESCRIPTION:10/20 Loko Plzeň   B - SK Ještědská Liberec 0:2 (-15\,-22)\nSv.
 Čecha 1180\, Žatec
DTSTART;TZID=Europe/Berlin:20231015T123000
DTEND;TZID=Europe/Berlin:20231015T143000
LOCATION:Městská sportovní hala  -  hala 2\, Úslavská 2357 Plzeň - Východní
  Předměstí
SUMMARY:CP-U16Z-Z2E: Loko Plzeň   B-SK Ještědská Liberec
END:VEVENT
BEGIN:VEVENT
UID:62393835-3065-4132-b639-316331663461
DTSTAMP:20260422T033928Z
DESCRIPTION:2/4 TJ ABC Braník - SK Ještědská Liberec 2:1 (-22\,17\,12)\nPlz
 eňská 2787\, Žatec
DTSTART;TZID=Europe/Berlin:20231118T102000
DTEND;TZID=Europe/Berlin:20231118T122000
LOCATION:Sokolovna Braník\, Branická 275 Praha - Braník
SUMMARY:CP-U16Z-Z3D: TJ ABC Braník-SK Ještědská Liberec
END:VEVENT
BEGIN:VEVENT
UID:33663132-6537-4936-b435-326238646438
DTSTAMP:20260422T033928Z
DESCRIPTION:4/8 SK Španielka Řepy - SK Ještědská Liberec 2:0 (27\,13)\nPlze
 ňská 2787\, Žatec
DTSTART;TZID=Europe/Berlin:20231118T130000
DTEND;TZID=Europe/Berlin:20231118T150000
LOCATION:Tělocvična ZŠ\, Španielova 1111 Praha - Řepy
SUMMARY:CP-U16Z-Z3D: SK Španielka Řepy-SK Ještědská Liberec
END:VEVENT
BEGIN:VEVENT
UID:30633738-3730-4133-b266-653634393635
DTSTAMP:20260422T033928Z
DESCRIPTION:5/9 Žatec - SK Ještědská Liberec 2:0 (13\,17)\nPlzeňská 2787\, 
 Žatec
DTSTART;TZID=Europe/Berlin:20231118T142000
DTEND;TZID=Europe/Berlin:20231118T162000
LOCATION:Sportovní hala TJ Sever Žatec\, Plzeňská 2787 Žatec
SUMMARY:CP-U16Z-Z3D: Žatec-SK Ještědská Liberec
END:VEVENT
BEGIN:VEVENT
UID:62396365-3461-4436-a162-386166326232
DTSTAMP:20260422T033928Z
DESCRIPTION:7/14 SK Slavia Praha - volejbal - SK Ještědská Liberec 0:2 (-22
 \,-20)\nPlzeňská 2787\, Žatec
DTSTART;TZID=Europe/Berlin:20231118T170000
DTEND;TZID=Europe/Berlin:20231118T190000
LOCATION:Jana\, Vladivostocká 1460 Praha - Vršovice
SUMMARY:CP-U16Z-Z3D: SK Slavia Praha - volejbal-SK Ještědská Liberec
END:VEVENT
BEGIN:VEVENT
UID:36373361-3734-4336-b830-313136656635
DTSTAMP:20260422T033928Z
DESCRIPTION:8/16 Střešovice - SK Ještědská Liberec 2:1 (-22\,17\,8)\nPlzeňs
 ká 2787\, Žatec
DTSTART;TZID=Europe/Berlin:20231119T090000
DTEND;TZID=Europe/Berlin:20231119T110000
LOCATION:TJ Tatran Střešovice\, Sibeliova 368 Praha - Střešovice
SUMMARY:CP-U16Z-Z3D: Střešovice-SK Ještědská Liberec
END:VEVENT
BEGIN:VEVENT
UID:35333630-3234-4362-a162-343934326264
DTSTAMP:20260422T033928Z
DESCRIPTION:9/17 Neratovice - SK Ještědská Liberec 2:0 (19\,22)\nPlzeňská 2
 787\, Žatec
DTSTART;TZID=Europe/Berlin:20231119T103000
DTEND;TZID=Europe/Berlin:20231119T123000
LOCATION:sportovní hala TJ Neratovice \, Kpt. Jaroše 233 Neratovice
SUMMARY:CP-U16Z-Z3D: Neratovice-SK Ještědská Liberec
END:VEVENT
BEGIN:VEVENT
UID:65376634-3163-4561-a265-396632666431
DTSTAMP:20260422T033928Z
DESCRIPTION:4/7 SK Ještědská Liberec - Lokomotiva Fosfa Břeclav 2:0 (18\,18
 )
DTSTART;TZID=Europe/Berlin:20240127T124500
DTEND;TZID=Europe/Berlin:20240127T144500
LOCATION:ZŠ Ještědská\, Ještědská 354 Liberec - Liberec VIII-Dolní Hanychov
SUMMARY:CP-U16Z-F1H: SK Ještědská Liberec-Lokomotiva Fosfa Břeclav
END:VEVENT
BEGIN:VEVENT
UID:62313366-3933-4337-b935-616339306335
DTSTAMP:20260422T033928Z
DESCRIPTION:7/14 SK Ještědská Liberec - VK Karlovy Vary B 2:0 (7\,23)
DTSTART;TZID=Europe/Berlin:20240127T163000
DTEND;TZID=Europe/Berlin:20240127T183000
LOCATION:ZŠ Ještědská\, Ještědská 354 Liberec - Liberec VIII-Dolní Hanychov
SUMMARY:CP-U16Z-F1H: SK Ještědská Liberec-VK Karlovy Vary B
END:VEVENT
BEGIN:VEVENT
UID:63376133-6665-4139-a166-346431363663
DTSTAMP:20260422T033928Z
DESCRIPTION:11/21 SK Ještědská Liberec - Sokol Pouchov 2:0 (13\,15)
DTSTART;TZID=Europe/Berlin:20240128T101500
DTEND;TZID=Europe/Berlin:20240128T121500
LOCATION:ZŠ Ještědská\, Ještědská 354 Liberec - Liberec VIII-Dolní Hanychov
SUMMARY:CP-U16Z-F1H: SK Ještědská Liberec-Sokol Pouchov
END:VEVENT
BEGIN:VEVENT
UID:39356534-6137-4736-b765-633735653361
DTSTAMP:20260422T033928Z
DESCRIPTION:1/2 Volejbal Vyškov D - SK Ještědská Liberec 2:1 (-23\,17\,7)
DTSTART;TZID=Europe/Berlin:20240127T090000
DTEND;TZID=Europe/Berlin:20240127T110000
LOCATION:Tělocvična ZŠ Nádražní\, Nádražní 5 Vyškov - Vyškov-Město
SUMMARY:CP-U16Z-F1H: Volejbal Vyškov D-SK Ještědská Liberec
END:VEVENT
BEGIN:VEVENT
UID:37336365-3530-4939-b561-373666306263
DTSTAMP:20260422T033928Z
DESCRIPTION:5/9 VO TJ Lanškroun B - SK Ještědská Liberec 0:2 (-21\,-20)
DTSTART;TZID=Europe/Berlin:20240127T140000
DTEND;TZID=Europe/Berlin:20240127T160000
LOCATION:SOŠ a SOU Lanškroun\, Sokolská 288 Lanškroun - Ostrovské Předměstí
SUMMARY:CP-U16Z-F1H: VO TJ Lanškroun B-SK Ještědská Liberec
END:VEVENT
BEGIN:VEVENT
UID:61653132-3339-4733-b634-626262613636
DTSTAMP:20260422T033928Z
DESCRIPTION:9/18 SC SPIRIT Říčany - SK Ještědská Liberec 0:2 (-22\,-10)
DTSTART;TZID=Europe/Berlin:20240127T190000
DTEND;TZID=Europe/Berlin:20240127T210000
LOCATION:Sportovní hala Světice\, U Hřiště 151 Světice
SUMMARY:CP-U16Z-F1H: SC SPIRIT Říčany-SK Ještědská Liberec
END:VEVENT
BEGIN:VEVENT
UID:63333039-3664-4333-a565-313463656661
DTSTAMP:20260422T033928Z
DESCRIPTION:13/26 VK Madeta - SK Ještědská Liberec 1:2 (14\,-19\,-7)
DTSTART;TZID=Europe/Berlin:20240128T124500
DTEND;TZID=Europe/Berlin:20240128T144500
LOCATION:Sportovní hala\, Stromovka 1216 České Budějovice - České Budějovic
 e 2
SUMMARY:CP-U16Z-F1H: VK Madeta-SK Ještědská Liberec
END:VEVENT
BEGIN:VEVENT
UID:30383433-6233-4239-b439-363566633863
DTSTAMP:20260422T033928Z
DESCRIPTION:2/3 SK Ještědská Liberec - TJ Sokol Předklášteří 2:0 (18\,16)\n
 velká hala
DTSTART;TZID=Europe/Berlin:20240217T101000
DTEND;TZID=Europe/Berlin:20240217T121000
LOCATION:ZŠ Ještědská\, Ještědská 354 Liberec - Liberec VIII-Dolní Hanychov
SUMMARY:CP-U16Z-F2G: SK Ještědská Liberec-TJ Sokol Předklášteří
END:VEVENT
BEGIN:VEVENT
UID:61303439-6231-4239-b461-666562636332
DTSTAMP:20260422T033928Z
DESCRIPTION:12/22 SK Ještědská Liberec - TJ Jiskra Havlíčkův Brod 2:0 (21\,
 24)\nvelká hala
DTSTART;TZID=Europe/Berlin:20240218T112000
DTEND;TZID=Europe/Berlin:20240218T132000
LOCATION:ZŠ Ještědská\, Ještědská 354 Liberec - Liberec VIII-Dolní Hanychov
SUMMARY:CP-U16Z-F2G: SK Ještědská Liberec-TJ Jiskra Havlíčkův Brod
END:VEVENT
BEGIN:VEVENT
UID:62386634-6465-4138-b939-303634633032
DTSTAMP:20260422T033928Z
DESCRIPTION:14/26 SK Ještědská Liberec - VoCe 0:2 (-13\,-18)\nvelká hala
DTSTART;TZID=Europe/Berlin:20240218T134000
DTEND;TZID=Europe/Berlin:20240218T154000
LOCATION:ZŠ Ještědská\, Ještědská 354 Liberec - Liberec VIII-Dolní Hanychov
SUMMARY:CP-U16Z-F2G: SK Ještědská Liberec-VoCe
END:VEVENT
BEGIN:VEVENT
UID:62353335-6162-4536-a632-326233353436
DTSTAMP:20260422T033928Z
DESCRIPTION:3/5 Žatec - SK Ještědská Liberec 2:0 (23\,19)\nvelká hala
DTSTART;TZID=Europe/Berlin:20240217T112000
DTEND;TZID=Europe/Berlin:20240217T132000
LOCATION:Sportovní hala TJ Sever Žatec\, Plzeňská 2787 Žatec
SUMMARY:CP-U16Z-F2G: Žatec-SK Ještědská Liberec
END:VEVENT
BEGIN:VEVENT
UID:33386430-6233-4439-a538-633938613430
DTSTAMP:20260422T033928Z
DESCRIPTION:6/11 Neratovice - SK Ještědská Liberec 1:2 (21\,-17\,-3)\nvelká
  hala
DTSTART;TZID=Europe/Berlin:20240217T145000
DTEND;TZID=Europe/Berlin:20240217T165000
LOCATION:sportovní hala TJ Neratovice \, Kpt. Jaroše 233 Neratovice
SUMMARY:CP-U16Z-F2G: Neratovice-SK Ještědská Liberec
END:VEVENT
BEGIN:VEVENT
UID:30643035-6439-4662-b737-373133623562
DTSTAMP:20260422T033928Z
DESCRIPTION:8/16 Volejbal Vyškov D - SK Ještědská Liberec 1:2 (18\,-17\,-13
 )\nmalá hala
DTSTART;TZID=Europe/Berlin:20240217T171000
DTEND;TZID=Europe/Berlin:20240217T191000
LOCATION:Tělocvična ZŠ Nádražní\, Nádražní 5 Vyškov - Vyškov-Město
SUMMARY:CP-U16Z-F2G: Volejbal Vyškov D-SK Ještědská Liberec
END:VEVENT
BEGIN:VEVENT
UID:30616538-6564-4136-a636-313066633763
DTSTAMP:20260422T033928Z
DESCRIPTION:11/21 TJ Slovácká Slavia U. Hradiště - SK Ještědská Liberec 1:2
  (-20\,10\,-10)\nmalá hala
DTSTART;TZID=Europe/Berlin:20240218T101000
DTEND;TZID=Europe/Berlin:20240218T121000
LOCATION:Městská sportovní hala\, Stonky 860 Uherské Hradiště
SUMMARY:CP-U16Z-F2G: TJ Slovácká Slavia U. Hradiště-SK Ještědská Liberec
END:VEVENT
BEGIN:VEVENT
UID:66303139-6466-4963-b439-396561366164
DTSTAMP:20260422T033928Z
DESCRIPTION:2/5 SK Ještědská Liberec - TJ Slovácká Slavia U. Hradiště 0:2 (
 -20\,-21)
DTSTART;TZID=Europe/Berlin:20240316T101500
DTEND;TZID=Europe/Berlin:20240316T121500
LOCATION:ZŠ Ještědská\, Ještědská 354 Liberec - Liberec VIII-Dolní Hanychov
SUMMARY:CP-U16Z-F3G: SK Ještědská Liberec-TJ Slovácká Slavia U. Hradiště
END:VEVENT
BEGIN:VEVENT
UID:30656238-3636-4761-a637-353062313331
DTSTAMP:20260422T033928Z
DESCRIPTION:5/13 SK Ještědská Liberec - VK Madeta 0:2 (-21\,-21)
DTSTART;TZID=Europe/Berlin:20240316T144500
DTEND;TZID=Europe/Berlin:20240316T164500
LOCATION:ZŠ Ještědská\, Ještědská 354 Liberec - Liberec VIII-Dolní Hanychov
SUMMARY:CP-U16Z-F3G: SK Ještědská Liberec-VK Madeta
END:VEVENT
BEGIN:VEVENT
UID:34626165-6131-4337-b635-646638616665
DTSTAMP:20260422T033928Z
DESCRIPTION:10/28 SK Ještědská Liberec - Volejbal Znojmo 2:0 (19\,23)
DTSTART;TZID=Europe/Berlin:20240317T113000
DTEND;TZID=Europe/Berlin:20240317T133000
LOCATION:ZŠ Ještědská\, Ještědská 354 Liberec - Liberec VIII-Dolní Hanychov
SUMMARY:CP-U16Z-F3G: SK Ještědská Liberec-Volejbal Znojmo
END:VEVENT
BEGIN:VEVENT
UID:38366134-6566-4430-a239-336531666665
DTSTAMP:20260422T033928Z
DESCRIPTION:1/1 Volejbal Přerov - SK Ještědská Liberec 2:0 (19\,19)
DTSTART;TZID=Europe/Berlin:20240316T090000
DTEND;TZID=Europe/Berlin:20240316T110000
LOCATION:Městská sportovní hala\, Petřivalského 2884 Přerov - Přerov I-Měst
 o
SUMMARY:CP-U16Z-F3G: Volejbal Přerov-SK Ještědská Liberec
END:VEVENT
BEGIN:VEVENT
UID:37353631-6563-4537-b335-316333333863
DTSTAMP:20260422T033928Z
DESCRIPTION:3/9 Volejbal Vyškov D - SK Ještědská Liberec 2:0 (9\,24)
DTSTART;TZID=Europe/Berlin:20240316T113000
DTEND;TZID=Europe/Berlin:20240316T133000
LOCATION:Tělocvična ZŠ Nádražní\, Nádražní 5 Vyškov - Vyškov-Město
SUMMARY:CP-U16Z-F3G: Volejbal Vyškov D-SK Ještědská Liberec
END:VEVENT
BEGIN:VEVENT
UID:61666539-3238-4235-b664-663963343363
DTSTAMP:20260422T033928Z
DESCRIPTION:6/17 Střešovice - SK Ještědská Liberec 2:1 (16\,-27\,9)
DTSTART;TZID=Europe/Berlin:20240316T160000
DTEND;TZID=Europe/Berlin:20240316T180000
LOCATION:TJ Tatran Střešovice\, Sibeliova 368 Praha - Střešovice
SUMMARY:CP-U16Z-F3G: Střešovice-SK Ještědská Liberec
END:VEVENT
BEGIN:VEVENT
UID:64326261-6638-4332-b461-616561356561
DTSTAMP:20260422T033928Z
DESCRIPTION:9/24 Neratovice - SK Ještědská Liberec 2:0 (17\,17)
DTSTART;TZID=Europe/Berlin:20240317T101500
DTEND;TZID=Europe/Berlin:20240317T121500
LOCATION:sportovní hala TJ Neratovice \, Kpt. Jaroše 233 Neratovice
SUMMARY:CP-U16Z-F3G: Neratovice-SK Ještědská Liberec
END:VEVENT
END:VCALENDAR
