BEGIN:VCALENDAR
VERSION:2.0
PRODID:-//Tělocvičná jednota Sokol Poruba83690//NONSGML kigkonsult.se iCalcreator 2.41.80//
CALSCALE:GREGORIAN
UID:39636532-6233-4430-b839-656662633665
BEGIN:VEVENT
UID:33663462-3032-4230-b234-626532633737
DTSTAMP:20260421T171404Z
DESCRIPTION:2/6 Sokol Poruba B - TJ Sokol Svinov A 0:3 (-15\,-18\,-9)
DTSTART;TZID=Europe/Berlin:20231012T190000
DTEND;TZID=Europe/Berlin:20231012T210000
LOCATION:TJ Sokol Poruba\, Vřesinská 121 Ostrava - Poruba
SUMMARY:OV-Z: Sokol Poruba B-TJ Sokol Svinov A
END:VEVENT
BEGIN:VEVENT
UID:35663631-3437-4232-a561-303736363839
DTSTAMP:20260421T171404Z
DESCRIPTION:5/20 Sokol Poruba B - TJ Sokol Stará Bělá 'A' 1:3 (15\,-14\,-12
 \,-24)
DTSTART;TZID=Europe/Berlin:20231102T190000
DTEND;TZID=Europe/Berlin:20231102T210000
LOCATION:TJ Sokol Poruba\, Vřesinská 121 Ostrava - Poruba
SUMMARY:OV-Z: Sokol Poruba B-TJ Sokol Stará Bělá 'A'
END:VEVENT
BEGIN:VEVENT
UID:61326566-3236-4462-b436-326636336266
DTSTAMP:20260421T171404Z
DESCRIPTION:7/27 Sokol Poruba B - VK Vratimov 0:3 (-22\,-21\,-16)
DTSTART;TZID=Europe/Berlin:20231123T190000
DTEND;TZID=Europe/Berlin:20231123T210000
LOCATION:TJ Sokol Poruba\, Vřesinská 121 Ostrava - Poruba
SUMMARY:OV-Z: Sokol Poruba B-VK Vratimov
END:VEVENT
BEGIN:VEVENT
UID:30643032-3731-4535-b232-366338613234
DTSTAMP:20260421T171404Z
DESCRIPTION:8/31 Sokol Poruba B - TJ Sokol Svinov B 0:3 (-10\,-12\,-11)
DTSTART;TZID=Europe/Berlin:20240215T190000
DTEND;TZID=Europe/Berlin:20240215T210000
LOCATION:TJ Sokol Poruba\, Vřesinská 121 Ostrava - Poruba
SUMMARY:OV-Z: Sokol Poruba B-TJ Sokol Svinov B
END:VEVENT
BEGIN:VEVENT
UID:31633633-6466-4436-a536-643963316264
DTSTAMP:20260421T171404Z
DESCRIPTION:10/40 Sokol Poruba B - VK Polanka nad Odrou 0:3 (-17\,-22\,-23)
DTSTART;TZID=Europe/Berlin:20240229T190000
DTEND;TZID=Europe/Berlin:20240229T210000
LOCATION:TJ Sokol Poruba\, Vřesinská 121 Ostrava - Poruba
SUMMARY:OV-Z: Sokol Poruba B-VK Polanka nad Odrou
END:VEVENT
BEGIN:VEVENT
UID:36393265-3239-4633-b831-323638396363
DTSTAMP:20260421T171404Z
DESCRIPTION:11/41 Sokol Poruba B - TJ Sokol Bohumín 0:3 (-16\,-7\,-12)
DTSTART;TZID=Europe/Berlin:20240307T190000
DTEND;TZID=Europe/Berlin:20240307T210000
LOCATION:TJ Sokol Poruba\, Vřesinská 121 Ostrava - Poruba
SUMMARY:OV-Z: Sokol Poruba B-TJ Sokol Bohumín
END:VEVENT
BEGIN:VEVENT
UID:66633637-3530-4131-a133-626537363735
DTSTAMP:20260421T171404Z
DESCRIPTION:13/50 Sokol Poruba B - TJ Sokol Stará Bělá 'B' 3:1 (23\,18\,-18
 \,18)
DTSTART;TZID=Europe/Berlin:20240321T190000
DTEND;TZID=Europe/Berlin:20240321T210000
LOCATION:TJ Sokol Poruba\, Vřesinská 121 Ostrava - Poruba
SUMMARY:OV-Z: Sokol Poruba B-TJ Sokol Stará Bělá 'B'
END:VEVENT
BEGIN:VEVENT
UID:35353930-3339-4133-a336-646463323062
DTSTAMP:20260421T171404Z
DESCRIPTION:1/3 TJ Sokol Svinov B - Sokol Poruba B 3:0 (13\,8\,9)
DTSTART;TZID=Europe/Berlin:20230927T191500
DTEND;TZID=Europe/Berlin:20230927T211500
LOCATION:MH Svinov\, Stanislavského 1270 Ostrava - Svinov
SUMMARY:OV-Z: TJ Sokol Svinov B-Sokol Poruba B
END:VEVENT
BEGIN:VEVENT
UID:62333537-3834-4832-a337-303739643235
DTSTAMP:20260421T171404Z
DESCRIPTION:3/12 VK Polanka nad Odrou - Sokol Poruba B 3:0 (11\,13\,13)
DTSTART;TZID=Europe/Berlin:20231017T181500
DTEND;TZID=Europe/Berlin:20231017T201500
LOCATION:Sportovní hala\, Heleny Salichové 1275 Ostrava - Polanka nad Odrou
SUMMARY:OV-Z: VK Polanka nad Odrou-Sokol Poruba B
END:VEVENT
BEGIN:VEVENT
UID:32313335-3762-4338-b565-313362383639
DTSTAMP:20260421T171404Z
DESCRIPTION:4/13 TJ Sokol Bohumín - Sokol Poruba B 3:0 (15\,11\,14)
DTSTART;TZID=Europe/Berlin:20231024T200000
DTEND;TZID=Europe/Berlin:20231024T220000
LOCATION:Dům dětí a mládeže Bohumín\, Janáčkova 715 Bohumín - Nový Bohumín
SUMMARY:OV-Z: TJ Sokol Bohumín-Sokol Poruba B
END:VEVENT
BEGIN:VEVENT
UID:30633261-3864-4630-b831-356664323966
DTSTAMP:20260421T171404Z
DESCRIPTION:6/22 TJ Sokol Stará Bělá 'B' - Sokol Poruba B 3:0 (21\,14\,22)
DTSTART;TZID=Europe/Berlin:20231108T182000
DTEND;TZID=Europe/Berlin:20231108T202000
LOCATION:Sportovní hala Nová Bělá\, Krmelínská 750 Ostrava - Nová Bělá
SUMMARY:OV-Z: TJ Sokol Stará Bělá 'B'-Sokol Poruba B
END:VEVENT
BEGIN:VEVENT
UID:32653061-6566-4431-b865-616436616330
DTSTAMP:20260421T171404Z
DESCRIPTION:9/34 TJ Sokol Svinov A - Sokol Poruba B 3:0 (15\,17\,9)
DTSTART;TZID=Europe/Berlin:20240221T191500
DTEND;TZID=Europe/Berlin:20240221T211500
LOCATION:MH Svinov\, Stanislavského 1270 Ostrava - Svinov
SUMMARY:OV-Z: TJ Sokol Svinov A-Sokol Poruba B
END:VEVENT
BEGIN:VEVENT
UID:35393566-3237-4732-b737-633530303833
DTSTAMP:20260421T171404Z
DESCRIPTION:12/48 TJ Sokol Stará Bělá 'A' - Sokol Poruba B 3:0 (24\,24\,20)
DTSTART;TZID=Europe/Berlin:20240424T200000
DTEND;TZID=Europe/Berlin:20240424T220000
LOCATION:Hala mládeže\, Gajdošova 1893 Ostrava - Moravská Ostrava
SUMMARY:OV-Z: TJ Sokol Stará Bělá 'A'-Sokol Poruba B
END:VEVENT
BEGIN:VEVENT
UID:62616165-6262-4933-a131-376539366562
DTSTAMP:20260421T171404Z
DESCRIPTION:14/55 VK Vratimov - Sokol Poruba B 3:1 (-22\,13\,23\,17)
DTSTART;TZID=Europe/Berlin:20240507T184500
DTEND;TZID=Europe/Berlin:20240507T204500
LOCATION:Sportovní hala Nová Bělá\, Krmelínská 750 Ostrava - Nová Bělá
SUMMARY:OV-Z: VK Vratimov-Sokol Poruba B
END:VEVENT
END:VCALENDAR
