BEGIN:VCALENDAR
VERSION:2.0
PRODID:-//Volejbal Ústí nad Labem B83712//NONSGML kigkonsult.se iCalcreator 2.41.80//
CALSCALE:GREGORIAN
UID:61323739-6337-4039-b765-313065643161
BEGIN:VEVENT
UID:35653030-3633-4838-a264-343033393865
DTSTAMP:20260423T190836Z
DESCRIPTION:9/36 Volejbal Ústí n. L. B - VTK Čížkovice\, z.s. 2:3 (-23\,-18
 \,19\,20\,-14)
DTSTART;TZID=Europe/Berlin:20231112T100000
DTEND;TZID=Europe/Berlin:20231112T120000
LOCATION:Gymnázium a Střední odborná škola dr. Václava Šmejkala\, Ústí nad 
 Labem Stará 99\, 400 11 Ústí nad Labem-Severní Terasa
SUMMARY:US-U20Z: Volejbal Ústí n. L. B-VTK Čížkovice\, z.s.
END:VEVENT
BEGIN:VEVENT
UID:38376239-3161-4930-b931-633538316638
DTSTAMP:20260423T190836Z
DESCRIPTION:10/40 Volejbal Ústí n. L. B - VTK Čížkovice\, z.s. 1:3 (-22\,-1
 4\,17\,-22)
DTSTART;TZID=Europe/Berlin:20231112T140000
DTEND;TZID=Europe/Berlin:20231112T160000
LOCATION:Gymnázium a Střední odborná škola dr. Václava Šmejkala\, Ústí nad 
 Labem Stará 99\, 400 11 Ústí nad Labem-Severní Terasa
SUMMARY:US-U20Z: Volejbal Ústí n. L. B-VTK Čížkovice\, z.s.
END:VEVENT
BEGIN:VEVENT
UID:31353438-6238-4239-b462-623030643739
DTSTAMP:20260423T190836Z
DESCRIPTION:13/51 Volejbal Ústí n. L. B - SK VOLEJBAL Ústí nad Labem\, z.s.
  B 3:0 (14\,16\,8)
DTSTART;TZID=Europe/Berlin:20231126T100000
DTEND;TZID=Europe/Berlin:20231126T120000
LOCATION:Gymnázium a Střední odborná škola dr. Václava Šmejkala\, Ústí nad 
 Labem Stará 99\, 400 11 Ústí nad Labem-Severní Terasa
SUMMARY:US-U20Z: Volejbal Ústí n. L. B-SK VOLEJBAL Ústí nad Labem\, z.s. B
END:VEVENT
BEGIN:VEVENT
UID:38323262-3064-4965-b666-376262326162
DTSTAMP:20260423T190836Z
DESCRIPTION:14/55 Volejbal Ústí n. L. B - SK VOLEJBAL Ústí nad Labem\, z.s.
  B 3:0 (8\,17\,8)
DTSTART;TZID=Europe/Berlin:20231126T140000
DTEND;TZID=Europe/Berlin:20231126T160000
LOCATION:Gymnázium a Střední odborná škola dr. Václava Šmejkala\, Ústí nad 
 Labem Stará 99\, 400 11 Ústí nad Labem-Severní Terasa
SUMMARY:US-U20Z: Volejbal Ústí n. L. B-SK VOLEJBAL Ústí nad Labem\, z.s. B
END:VEVENT
BEGIN:VEVENT
UID:31616435-3566-4437-b932-666463646537
DTSTAMP:20260423T190836Z
DESCRIPTION:15/59 Volejbal Ústí n. L. B - Volejbal Duchcov z.s. 0:3 (-20\,-
 19\,-18)
DTSTART;TZID=Europe/Berlin:20231203T100000
DTEND;TZID=Europe/Berlin:20231203T120000
LOCATION:Gymnázium a Střední odborná škola dr. Václava Šmejkala\, Ústí nad 
 Labem Stará 99\, 400 11 Ústí nad Labem-Severní Terasa
SUMMARY:US-U20Z: Volejbal Ústí n. L. B-Volejbal Duchcov z.s.
END:VEVENT
BEGIN:VEVENT
UID:31363035-6332-4430-b934-663036396431
DTSTAMP:20260423T190836Z
DESCRIPTION:16/63 Volejbal Ústí n. L. B - Volejbal Duchcov z.s. 0:3 (-19\,-
 14\,-19)
DTSTART;TZID=Europe/Berlin:20231203T140000
DTEND;TZID=Europe/Berlin:20231203T160000
LOCATION:Gymnázium a Střední odborná škola dr. Václava Šmejkala\, Ústí nad 
 Labem Stará 99\, 400 11 Ústí nad Labem-Severní Terasa
SUMMARY:US-U20Z: Volejbal Ústí n. L. B-Volejbal Duchcov z.s.
END:VEVENT
BEGIN:VEVENT
UID:32333261-3164-4664-a466-346238313037
DTSTAMP:20260423T190836Z
DESCRIPTION:19/76 Volejbal Ústí n. L. B - Žatec 0:3 (-4\,-4\,-9)
DTSTART;TZID=Europe/Berlin:20240107T100000
DTEND;TZID=Europe/Berlin:20240107T120000
LOCATION:Gymnázium a Střední odborná škola dr. Václava Šmejkala\, Ústí nad 
 Labem Stará 99\, 400 11 Ústí nad Labem-Severní Terasa
SUMMARY:US-U20Z: Volejbal Ústí n. L. B-Žatec
END:VEVENT
BEGIN:VEVENT
UID:63393338-3361-4431-b438-663132303532
DTSTAMP:20260423T190836Z
DESCRIPTION:20/80 Volejbal Ústí n. L. B - Žatec 0:3 (-15\,-7\,-13)
DTSTART;TZID=Europe/Berlin:20240107T140000
DTEND;TZID=Europe/Berlin:20240107T160000
LOCATION:Gymnázium a Střední odborná škola dr. Václava Šmejkala\, Ústí nad 
 Labem Stará 99\, 400 11 Ústí nad Labem-Severní Terasa
SUMMARY:US-U20Z: Volejbal Ústí n. L. B-Žatec
END:VEVENT
BEGIN:VEVENT
UID:61323033-6534-4733-b763-663464623563
DTSTAMP:20260423T190836Z
DESCRIPTION:21/81 Volejbal Ústí n. L. B - Tělovýchovná jednota Baník Most\,
  z.s. 2:3 (21\,18\,-21\,-10\,-13)
DTSTART;TZID=Europe/Berlin:20240114T100000
DTEND;TZID=Europe/Berlin:20240114T120000
LOCATION:Gymnázium a Střední odborná škola dr. Václava Šmejkala\, Ústí nad 
 Labem Stará 99\, 400 11 Ústí nad Labem-Severní Terasa
SUMMARY:US-U20Z: Volejbal Ústí n. L. B-Tělovýchovná jednota Baník Most\, z.
 s.
END:VEVENT
BEGIN:VEVENT
UID:38386534-6236-4439-b861-353735383634
DTSTAMP:20260423T190836Z
DESCRIPTION:22/85 Volejbal Ústí n. L. B - Tělovýchovná jednota Baník Most\,
  z.s. 0:3 (-21\,-21\,-13)
DTSTART;TZID=Europe/Berlin:20240114T140000
DTEND;TZID=Europe/Berlin:20240114T160000
LOCATION:Gymnázium a Střední odborná škola dr. Václava Šmejkala\, Ústí nad 
 Labem Stará 99\, 400 11 Ústí nad Labem-Severní Terasa
SUMMARY:US-U20Z: Volejbal Ústí n. L. B-Tělovýchovná jednota Baník Most\, z.
 s.
END:VEVENT
BEGIN:VEVENT
UID:64323864-3566-4034-b761-636232373630
DTSTAMP:20260423T190836Z
DESCRIPTION:25/98 Volejbal Ústí n. L. B - Ústí n. L. 1:3 (-21\,23\,-9\,-8)
DTSTART;TZID=Europe/Berlin:20240128T100000
DTEND;TZID=Europe/Berlin:20240128T120000
LOCATION:Gymnázium a Střední odborná škola dr. Václava Šmejkala\, Ústí nad 
 Labem Stará 99\, 400 11 Ústí nad Labem-Severní Terasa
SUMMARY:US-U20Z: Volejbal Ústí n. L. B-Ústí n. L.
END:VEVENT
BEGIN:VEVENT
UID:30613736-3563-4232-b438-346366616266
DTSTAMP:20260423T190836Z
DESCRIPTION:26/102 Volejbal Ústí n. L. B - Ústí n. L. 0:3 (-15\,-13\,-15)
DTSTART;TZID=Europe/Berlin:20240128T140000
DTEND;TZID=Europe/Berlin:20240128T160000
LOCATION:Gymnázium a Střední odborná škola dr. Václava Šmejkala\, Ústí nad 
 Labem Stará 99\, 400 11 Ústí nad Labem-Severní Terasa
SUMMARY:US-U20Z: Volejbal Ústí n. L. B-Ústí n. L.
END:VEVENT
BEGIN:VEVENT
UID:37643261-3135-4261-a664-386534303935
DTSTAMP:20260423T190836Z
DESCRIPTION:1/3 Volejbal Duchcov z.s. - Volejbal Ústí n. L. B 3:0 (10\,21\,
 22)
DTSTART;TZID=Europe/Berlin:20231001T100000
DTEND;TZID=Europe/Berlin:20231001T120000
LOCATION:Tělocvična ZŠ J. Pešaty Duchcov ZŠ J. Pešaty 1313/11 Duchcov Těloc
 vična ZŠ J. Pešaty Duchcov ZŠ J. Pešaty 1313/11 Duchcov
SUMMARY:US-U20Z: Volejbal Duchcov z.s.-Volejbal Ústí n. L. B
END:VEVENT
BEGIN:VEVENT
UID:66623235-6532-4734-a133-333436336364
DTSTAMP:20260423T190836Z
DESCRIPTION:2/7 Volejbal Duchcov z.s. - Volejbal Ústí n. L. B 3:0 (21\,19\,
 21)
DTSTART;TZID=Europe/Berlin:20231001T140000
DTEND;TZID=Europe/Berlin:20231001T160000
LOCATION:Tělocvična ZŠ J. Pešaty Duchcov ZŠ J. Pešaty 1313/11 Duchcov Těloc
 vična ZŠ J. Pešaty Duchcov ZŠ J. Pešaty 1313/11 Duchcov
SUMMARY:US-U20Z: Volejbal Duchcov z.s.-Volejbal Ústí n. L. B
END:VEVENT
BEGIN:VEVENT
UID:37396465-3833-4137-a334-356462313736
DTSTAMP:20260423T190836Z
DESCRIPTION:5/20 Žatec - Volejbal Ústí n. L. B 3:0 (12\,17\,11)
DTSTART;TZID=Europe/Berlin:20231029T100000
DTEND;TZID=Europe/Berlin:20231029T120000
LOCATION:TJ Sever Žatec Plzeňská 2787\, 438 01 Žatec
SUMMARY:US-U20Z: Žatec-Volejbal Ústí n. L. B
END:VEVENT
BEGIN:VEVENT
UID:61356235-6238-4937-a234-383865613631
DTSTAMP:20260423T190836Z
DESCRIPTION:6/24 Žatec - Volejbal Ústí n. L. B 3:0 (17\,27\,21)
DTSTART;TZID=Europe/Berlin:20231029T140000
DTEND;TZID=Europe/Berlin:20231029T160000
LOCATION:TJ Sever Žatec Plzeňská 2787\, 438 01 Žatec
SUMMARY:US-U20Z: Žatec-Volejbal Ústí n. L. B
END:VEVENT
BEGIN:VEVENT
UID:32373363-3363-4033-b731-373263323237
DTSTAMP:20260423T190836Z
DESCRIPTION:7/25 Tělovýchovná jednota Baník Most\, z.s. - Volejbal Ústí n. 
 L. B 0:3 (-24\,-17\,-24)
DTSTART;TZID=Europe/Berlin:20231105T100000
DTEND;TZID=Europe/Berlin:20231105T120000
LOCATION:Sportovní Hala Most Budovatelů 112/7
SUMMARY:US-U20Z: Tělovýchovná jednota Baník Most\, z.s.-Volejbal Ústí n. L.
  B
END:VEVENT
BEGIN:VEVENT
UID:66393837-3533-4335-b833-636133343137
DTSTAMP:20260423T190836Z
DESCRIPTION:8/29 Tělovýchovná jednota Baník Most\, z.s. - Volejbal Ústí n. 
 L. B 1:3 (13\,-17\,-13\,-12)
DTSTART;TZID=Europe/Berlin:20231105T140000
DTEND;TZID=Europe/Berlin:20231105T160000
LOCATION:Sportovní Hala Most Budovatelů 112/7
SUMMARY:US-U20Z: Tělovýchovná jednota Baník Most\, z.s.-Volejbal Ústí n. L.
  B
END:VEVENT
BEGIN:VEVENT
UID:61363539-3333-4763-a535-323335653263
DTSTAMP:20260423T190836Z
DESCRIPTION:11/42 Ústí n. L. - Volejbal Ústí n. L. B 3:0 (13\,14\,19)
DTSTART;TZID=Europe/Berlin:20231119T100000
DTEND;TZID=Europe/Berlin:20231119T120000
LOCATION:ZŠ Stříbrnická Stříbrnická 3031\, Ústí nad Labem
SUMMARY:US-U20Z: Ústí n. L.-Volejbal Ústí n. L. B
END:VEVENT
BEGIN:VEVENT
UID:61613237-3361-4430-b263-313530383830
DTSTAMP:20260423T190836Z
DESCRIPTION:12/46 Ústí n. L. - Volejbal Ústí n. L. B 3:0 (20\,18\,11)
DTSTART;TZID=Europe/Berlin:20231119T140000
DTEND;TZID=Europe/Berlin:20231119T160000
LOCATION:ZŠ Stříbrnická Stříbrnická 3031\, Ústí nad Labem
SUMMARY:US-U20Z: Ústí n. L.-Volejbal Ústí n. L. B
END:VEVENT
BEGIN:VEVENT
UID:34656662-3563-4566-b631-356639376636
DTSTAMP:20260423T190836Z
DESCRIPTION:23/92 VTK Čížkovice\, z.s. - Volejbal Ústí n. L. B 3:0 (13\,18\
 ,10)
DTSTART;TZID=Europe/Berlin:20240121T100000
DTEND;TZID=Europe/Berlin:20240121T120000
LOCATION:Hala při ZŠ Benešova 65\, 41112 Čížkovice
SUMMARY:US-U20Z: VTK Čížkovice\, z.s.-Volejbal Ústí n. L. B
END:VEVENT
BEGIN:VEVENT
UID:34383563-3238-4163-b436-653431626638
DTSTAMP:20260423T190836Z
DESCRIPTION:24/96 VTK Čížkovice\, z.s. - Volejbal Ústí n. L. B 3:0 (18\,14\
 ,19)
DTSTART;TZID=Europe/Berlin:20240121T140000
DTEND;TZID=Europe/Berlin:20240121T160000
LOCATION:Hala při ZŠ Benešova 65\, 41112 Čížkovice
SUMMARY:US-U20Z: VTK Čížkovice\, z.s.-Volejbal Ústí n. L. B
END:VEVENT
BEGIN:VEVENT
UID:30623030-6631-4330-a632-383966313461
DTSTAMP:20260423T190836Z
DESCRIPTION:27/107 SK VOLEJBAL Ústí nad Labem\, z.s. B - Volejbal Ústí n. L
 . B 3:0 (22\,20\,26)
DTSTART;TZID=Europe/Berlin:20240317T100000
DTEND;TZID=Europe/Berlin:20240317T120000
LOCATION:ZŠ Stříbrnická Stříbrnická 3031\, Ústí nad Labem
SUMMARY:US-U20Z: SK VOLEJBAL Ústí nad Labem\, z.s. B-Volejbal Ústí n. L. B
END:VEVENT
BEGIN:VEVENT
UID:34623265-6535-4361-a533-626264333837
DTSTAMP:20260423T190836Z
DESCRIPTION:28/111 SK VOLEJBAL Ústí nad Labem\, z.s. B - Volejbal Ústí n. L
 . B 3:1 (13\,-21\,19\,15)
DTSTART;TZID=Europe/Berlin:20240317T140000
DTEND;TZID=Europe/Berlin:20240317T160000
LOCATION:ZŠ Stříbrnická Stříbrnická 3031\, Ústí nad Labem
SUMMARY:US-U20Z: SK VOLEJBAL Ústí nad Labem\, z.s. B-Volejbal Ústí n. L. B
END:VEVENT
END:VCALENDAR
