BEGIN:VCALENDAR
VERSION:2.0
PRODID:-//VTK Čížkovice83722//NONSGML kigkonsult.se iCalcreator 2.41.80//
CALSCALE:GREGORIAN
UID:33613538-6330-4566-b538-306464306232
BEGIN:VEVENT
UID:35343361-3331-4561-b866-636664643835
DTSTAMP:20260422T085208Z
DESCRIPTION:7/26 Čížkovice - Volejbal Duchcov z.s. 3:0 (7\,14\,22)
DTSTART;TZID=Europe/Berlin:20231104T100000
DTEND;TZID=Europe/Berlin:20231104T120000
LOCATION:Hala při ZŠ Benešova 65\, 41112 Čížkovice
SUMMARY:US-U18Z: Čížkovice-Volejbal Duchcov z.s.
END:VEVENT
BEGIN:VEVENT
UID:61306334-6234-4531-a562-396433303234
DTSTAMP:20260422T085208Z
DESCRIPTION:8/30 Čížkovice - Volejbal Duchcov z.s. 3:0 (11\,6\,16)
DTSTART;TZID=Europe/Berlin:20231104T140000
DTEND;TZID=Europe/Berlin:20231104T160000
LOCATION:Hala při ZŠ Benešova 65\, 41112 Čížkovice
SUMMARY:US-U18Z: Čížkovice-Volejbal Duchcov z.s.
END:VEVENT
BEGIN:VEVENT
UID:35643734-6464-4262-a561-643366343330
DTSTAMP:20260422T085208Z
DESCRIPTION:13/52 Čížkovice - SK VOLEJBAL Ústí nad Labem\, z.s. B 3:0 (13\,
 17\,12)\nZŠ Stříbrnická Stříbrnická 3031\, Ústí nad Labem
DTSTART;TZID=Europe/Berlin:20231202T100000
DTEND;TZID=Europe/Berlin:20231202T120000
LOCATION:Hala při ZŠ Benešova 65\, 41112 Čížkovice
SUMMARY:US-U18Z: Čížkovice-SK VOLEJBAL Ústí nad Labem\, z.s. B
END:VEVENT
BEGIN:VEVENT
UID:38646133-3236-4862-a638-336235326336
DTSTAMP:20260422T085208Z
DESCRIPTION:14/56 Čížkovice - SK VOLEJBAL Ústí nad Labem\, z.s. B 3:0 (18\,
 20\,13)\nZŠ Stříbrnická Stříbrnická 3031\, Ústí nad Labem
DTSTART;TZID=Europe/Berlin:20231202T140000
DTEND;TZID=Europe/Berlin:20231202T160000
LOCATION:Hala při ZŠ Benešova 65\, 41112 Čížkovice
SUMMARY:US-U18Z: Čížkovice-SK VOLEJBAL Ústí nad Labem\, z.s. B
END:VEVENT
BEGIN:VEVENT
UID:39353538-3763-4765-b533-643334323732
DTSTAMP:20260422T085208Z
DESCRIPTION:15/58 Čížkovice - VK Šanov Teplice\, z.s. 3:0 (17\,22\,19)
DTSTART;TZID=Europe/Berlin:20231216T100000
DTEND;TZID=Europe/Berlin:20231216T120000
LOCATION:Hala při ZŠ Benešova 65\, 41112 Čížkovice
SUMMARY:US-U18Z: Čížkovice-VK Šanov Teplice\, z.s.
END:VEVENT
BEGIN:VEVENT
UID:32643361-6338-4538-a462-643330333537
DTSTAMP:20260422T085208Z
DESCRIPTION:16/62 Čížkovice - VK Šanov Teplice\, z.s. 3:0 (21\,21\,20)
DTSTART;TZID=Europe/Berlin:20231216T140000
DTEND;TZID=Europe/Berlin:20231216T160000
LOCATION:Hala při ZŠ Benešova 65\, 41112 Čížkovice
SUMMARY:US-U18Z: Čížkovice-VK Šanov Teplice\, z.s.
END:VEVENT
BEGIN:VEVENT
UID:33383463-6265-4439-a133-323366313038
DTSTAMP:20260422T085208Z
DESCRIPTION:19/75 Čížkovice - Chomutov 0:3 (-26\,-20\,-20)
DTSTART;TZID=Europe/Berlin:20240113T100000
DTEND;TZID=Europe/Berlin:20240113T120000
LOCATION:Hala při ZŠ Benešova 65\, 41112 Čížkovice
SUMMARY:US-U18Z: Čížkovice-Chomutov
END:VEVENT
BEGIN:VEVENT
UID:31336639-3339-4633-a237-393833383731
DTSTAMP:20260422T085208Z
DESCRIPTION:20/79 Čížkovice - Chomutov 2:3 (11\,-24\,19\,-24\,-14)
DTSTART;TZID=Europe/Berlin:20240113T140000
DTEND;TZID=Europe/Berlin:20240113T160000
LOCATION:Hala při ZŠ Benešova 65\, 41112 Čížkovice
SUMMARY:US-U18Z: Čížkovice-Chomutov
END:VEVENT
BEGIN:VEVENT
UID:66383762-3533-4139-a362-376534313738
DTSTAMP:20260422T085208Z
DESCRIPTION:23/92 Čížkovice - Volejbal Ústí n. L. B 3:0 (14\,9\,10)
DTSTART;TZID=Europe/Berlin:20240203T100000
DTEND;TZID=Europe/Berlin:20240203T120000
LOCATION:Hala při ZŠ Benešova 65\, 41112 Čížkovice
SUMMARY:US-U18Z: Čížkovice-Volejbal Ústí n. L. B
END:VEVENT
BEGIN:VEVENT
UID:66393837-3036-4738-a163-626631313134
DTSTAMP:20260422T085208Z
DESCRIPTION:24/96 Čížkovice - Volejbal Ústí n. L. B 3:0 (16\,11\,16)
DTSTART;TZID=Europe/Berlin:20240203T140000
DTEND;TZID=Europe/Berlin:20240203T160000
LOCATION:Hala při ZŠ Benešova 65\, 41112 Čížkovice
SUMMARY:US-U18Z: Čížkovice-Volejbal Ústí n. L. B
END:VEVENT
BEGIN:VEVENT
UID:36333363-3038-4266-b736-656135613133
DTSTAMP:20260422T085208Z
DESCRIPTION:25/97 Čížkovice - VK Litvínov\, z.s. 3:0 (5\,9\,6)
DTSTART;TZID=Europe/Berlin:20240127T100000
DTEND;TZID=Europe/Berlin:20240127T120000
LOCATION:Hala při ZŠ Benešova 65\, 41112 Čížkovice
SUMMARY:US-U18Z: Čížkovice-VK Litvínov\, z.s.
END:VEVENT
BEGIN:VEVENT
UID:36336164-6133-4935-a262-346663616565
DTSTAMP:20260422T085208Z
DESCRIPTION:26/101 Čížkovice - VK Litvínov\, z.s. 3:0 (11\,14\,12)
DTSTART;TZID=Europe/Berlin:20240127T140000
DTEND;TZID=Europe/Berlin:20240127T160000
LOCATION:Hala při ZŠ Benešova 65\, 41112 Čížkovice
SUMMARY:US-U18Z: Čížkovice-VK Litvínov\, z.s.
END:VEVENT
BEGIN:VEVENT
UID:37346263-6364-4464-a162-383037363666
DTSTAMP:20260422T085208Z
DESCRIPTION:1/2 VK Šanov Teplice\, z.s. - Čížkovice 0:3 (-9\,-13\,-7)
DTSTART;TZID=Europe/Berlin:20230924T100000
DTEND;TZID=Europe/Berlin:20230924T120000
LOCATION:ZŠ Koperníkova Koperníkova 2452
SUMMARY:US-U18Z: VK Šanov Teplice\, z.s.-Čížkovice
END:VEVENT
BEGIN:VEVENT
UID:65643464-3538-4537-b230-363962326539
DTSTAMP:20260422T085208Z
DESCRIPTION:2/6 VK Šanov Teplice\, z.s. - Čížkovice 1:3 (19\,-6\,-20\,-16)
DTSTART;TZID=Europe/Berlin:20230924T140000
DTEND;TZID=Europe/Berlin:20230924T160000
LOCATION:ZŠ Koperníkova Koperníkova 2452
SUMMARY:US-U18Z: VK Šanov Teplice\, z.s.-Čížkovice
END:VEVENT
BEGIN:VEVENT
UID:65353638-3065-4938-b039-656265396362
DTSTAMP:20260422T085208Z
DESCRIPTION:5/19 Chomutov - Čížkovice 2:3 (24\,-10\,17\,-19\,-12)
DTSTART;TZID=Europe/Berlin:20231007T100000
DTEND;TZID=Europe/Berlin:20231007T120000
LOCATION:ZŠ Akademika Heyrovského Základní škola Chomutov\, Akademika Heyro
 vského 4539
SUMMARY:US-U18Z: Chomutov-Čížkovice
END:VEVENT
BEGIN:VEVENT
UID:65633831-6135-4038-b933-356536346236
DTSTAMP:20260422T085208Z
DESCRIPTION:6/23 Chomutov - Čížkovice 0:3 (-20\,-20\,-23)
DTSTART;TZID=Europe/Berlin:20231007T140000
DTEND;TZID=Europe/Berlin:20231007T160000
LOCATION:ZŠ Akademika Heyrovského Základní škola Chomutov\, Akademika Heyro
 vského 4539
SUMMARY:US-U18Z: Chomutov-Čížkovice
END:VEVENT
BEGIN:VEVENT
UID:33323763-6137-4562-a665-323266373236
DTSTAMP:20260422T085208Z
DESCRIPTION:9/36 Volejbal Ústí n. L. B - Čížkovice 0:3 (-12\,-12\,-9)
DTSTART;TZID=Europe/Berlin:20231111T090000
DTEND;TZID=Europe/Berlin:20231111T110000
LOCATION:Gymnázium a Střední odborná škola dr. Václava Šmejkala\, Ústí nad 
 Labem Stará 99\, 400 11 Ústí nad Labem-Severní Terasa
SUMMARY:US-U18Z: Volejbal Ústí n. L. B-Čížkovice
END:VEVENT
BEGIN:VEVENT
UID:39653534-3663-4161-b530-366366326332
DTSTAMP:20260422T085208Z
DESCRIPTION:10/40 Volejbal Ústí n. L. B - Čížkovice 0:3 (-15\,-8\,-19)
DTSTART;TZID=Europe/Berlin:20231111T130000
DTEND;TZID=Europe/Berlin:20231111T150000
LOCATION:Gymnázium a Střední odborná škola dr. Václava Šmejkala\, Ústí nad 
 Labem Stará 99\, 400 11 Ústí nad Labem-Severní Terasa
SUMMARY:US-U18Z: Volejbal Ústí n. L. B-Čížkovice
END:VEVENT
BEGIN:VEVENT
UID:62336466-3839-4162-b136-633137333239
DTSTAMP:20260422T085208Z
DESCRIPTION:11/41 VK Litvínov\, z.s. - Čížkovice 0:3 (-10\,-22\,-11)
DTSTART;TZID=Europe/Berlin:20231125T100000
DTEND;TZID=Europe/Berlin:20231125T120000
LOCATION:hala u 3. ZŠ\, Podkrušnohorská 1589\, 436 01 Litvínov
SUMMARY:US-U18Z: VK Litvínov\, z.s.-Čížkovice
END:VEVENT
BEGIN:VEVENT
UID:36333235-3837-4833-b130-363466386134
DTSTAMP:20260422T085208Z
DESCRIPTION:12/45 VK Litvínov\, z.s. - Čížkovice 0:3 (-11\,-14\,-15)
DTSTART;TZID=Europe/Berlin:20231125T140000
DTEND;TZID=Europe/Berlin:20231125T160000
LOCATION:hala u 3. ZŠ\, Podkrušnohorská 1589\, 436 01 Litvínov
SUMMARY:US-U18Z: VK Litvínov\, z.s.-Čížkovice
END:VEVENT
BEGIN:VEVENT
UID:61646432-3039-4535-b863-346263633930
DTSTAMP:20260422T085208Z
DESCRIPTION:21/82 Volejbal Duchcov z.s. - Čížkovice 0:3 (-8\,-9\,-15)
DTSTART;TZID=Europe/Berlin:20240120T100000
DTEND;TZID=Europe/Berlin:20240120T120000
LOCATION:Tělocvična ZŠ J. Pešaty Duchcov ZŠ J. Pešaty 1313/11 Duchcov Těloc
 vična ZŠ J. Pešaty Duchcov ZŠ J. Pešaty 1313/11 Duchcov
SUMMARY:US-U18Z: Volejbal Duchcov z.s.-Čížkovice
END:VEVENT
BEGIN:VEVENT
UID:61633636-3033-4133-b964-356430613037
DTSTAMP:20260422T085208Z
DESCRIPTION:22/86 Volejbal Duchcov z.s. - Čížkovice 0:3 (-14\,-14\,-13)
DTSTART;TZID=Europe/Berlin:20240120T140000
DTEND;TZID=Europe/Berlin:20240120T160000
LOCATION:Tělocvična ZŠ J. Pešaty Duchcov ZŠ J. Pešaty 1313/11 Duchcov Těloc
 vična ZŠ J. Pešaty Duchcov ZŠ J. Pešaty 1313/11 Duchcov
SUMMARY:US-U18Z: Volejbal Duchcov z.s.-Čížkovice
END:VEVENT
BEGIN:VEVENT
UID:31333562-3633-4231-b563-656163393235
DTSTAMP:20260422T085208Z
DESCRIPTION:27/108 SK VOLEJBAL Ústí nad Labem\, z.s. B - Čížkovice 0:3 (-12
 \,-14\,-8)
DTSTART;TZID=Europe/Berlin:20240316T100000
DTEND;TZID=Europe/Berlin:20240316T120000
LOCATION:ZŠ Stříbrnická Stříbrnická 3031\, Ústí nad Labem
SUMMARY:US-U18Z: SK VOLEJBAL Ústí nad Labem\, z.s. B-Čížkovice
END:VEVENT
BEGIN:VEVENT
UID:39373264-6639-4162-b637-353439346332
DTSTAMP:20260422T085208Z
DESCRIPTION:28/112 SK VOLEJBAL Ústí nad Labem\, z.s. B - Čížkovice 0:3 (-10
 \,-11\,-14)
DTSTART;TZID=Europe/Berlin:20240316T140000
DTEND;TZID=Europe/Berlin:20240316T160000
LOCATION:ZŠ Stříbrnická Stříbrnická 3031\, Ústí nad Labem
SUMMARY:US-U18Z: SK VOLEJBAL Ústí nad Labem\, z.s. B-Čížkovice
END:VEVENT
BEGIN:VEVENT
UID:35333332-3765-4162-b465-323863326134
DTSTAMP:20260422T085208Z
DESCRIPTION:1/1 Čížkovice - Kladno 0:3 (-13\,-18\,-18)
DTSTART;TZID=Europe/Berlin:20240427T100000
DTEND;TZID=Europe/Berlin:20240427T120000
LOCATION:Kladenská sportovní hala\, Sportovců 817 Kladno - Rozdělov
SUMMARY:2-U18Z-KC: Čížkovice-Kladno
END:VEVENT
BEGIN:VEVENT
UID:31366465-3230-4232-b732-303063333731
DTSTAMP:20260422T085208Z
DESCRIPTION:2/6 Čížkovice - Rtyně 3:1 (17\,-23\,23\,24)
DTSTART;TZID=Europe/Berlin:20240428T100000
DTEND;TZID=Europe/Berlin:20240428T120000
LOCATION:Kladenská sportovní hala\, Sportovců 817 Kladno - Rozdělov
SUMMARY:2-U18Z-KC: Čížkovice-Rtyně
END:VEVENT
BEGIN:VEVENT
UID:36666332-6162-4764-b737-353238323630
DTSTAMP:20260422T085208Z
DESCRIPTION:1/3 Třebín - Čížkovice 0:3 (-19\,-19\,-20)
DTSTART;TZID=Europe/Berlin:20240427T130000
DTEND;TZID=Europe/Berlin:20240427T150000
LOCATION:Kladenská sportovní hala\, Sportovců 817 Kladno - Rozdělov
SUMMARY:2-U18Z-KC: Třebín-Čížkovice
END:VEVENT
BEGIN:VEVENT
UID:30623633-3632-4235-a530-306336616634
DTSTAMP:20260422T085208Z
DESCRIPTION:2/8 Choceň - Čížkovice 1:3 (-23\,-22\,15\,-15)
DTSTART;TZID=Europe/Berlin:20240428T130000
DTEND;TZID=Europe/Berlin:20240428T150000
LOCATION:Kladenská sportovní hala\, Sportovců 817 Kladno - Rozdělov
SUMMARY:2-U18Z-KC: Choceň-Čížkovice
END:VEVENT
END:VCALENDAR
