BEGIN:VCALENDAR
VERSION:2.0
PRODID:-//VSK Spartak Děčín83735//NONSGML kigkonsult.se iCalcreator 2.41.80//
CALSCALE:GREGORIAN
UID:32366130-3939-4464-b364-633962653761
BEGIN:VEVENT
UID:64623962-3463-4230-a461-333734623037
DTSTAMP:20260426T000551Z
DESCRIPTION:4/23 Děčín - Volejbal Duchcov z.s. 2:0 (23\,9)
DTSTART;TZID=Europe/Berlin:20231001T090300
DTEND;TZID=Europe/Berlin:20231001T110300
LOCATION:SPŠ Strojní a stavební Děčín Čsl.armády
SUMMARY:US-U16Z-KVAL: Děčín-Volejbal Duchcov z.s.
END:VEVENT
BEGIN:VEVENT
UID:34636632-6338-4635-b231-313365373265
DTSTAMP:20260426T000551Z
DESCRIPTION:4/26 Děčín - VK Šanov Teplice\, z.s. 2:0 (20\,23)
DTSTART;TZID=Europe/Berlin:20231001T090300
DTEND;TZID=Europe/Berlin:20231001T110300
LOCATION:SPŠ Strojní a stavební Děčín Čsl.armády
SUMMARY:US-U16Z-KVAL: Děčín-VK Šanov Teplice\, z.s.
END:VEVENT
BEGIN:VEVENT
UID:39313134-3538-4937-b263-663532333034
DTSTAMP:20260426T000551Z
DESCRIPTION:4/28 Volejbal Ústí n. L. B - Děčín 0:2 (-10\,-18)
DTSTART;TZID=Europe/Berlin:20231001T090300
DTEND;TZID=Europe/Berlin:20231001T110300
LOCATION:Gymnázium a Střední odborná škola dr. Václava Šmejkala\, Ústí nad 
 Labem Stará 99\, 400 11 Ústí nad Labem-Severní Terasa
SUMMARY:US-U16Z-KVAL: Volejbal Ústí n. L. B-Děčín
END:VEVENT
BEGIN:VEVENT
UID:62313064-3763-4334-a663-333138373632
DTSTAMP:20260426T000551Z
DESCRIPTION:1/2 Děčín - Volejbal Ústí n. L. A 2:0 (18\,24)
DTSTART;TZID=Europe/Berlin:20231105T090000
DTEND;TZID=Europe/Berlin:20231105T110000
LOCATION:SPŠ Strojní a stavební Děčín Čsl.armády
SUMMARY:US-U16Z-1: Děčín-Volejbal Ústí n. L. A
END:VEVENT
BEGIN:VEVENT
UID:37316530-3738-4037-a430-613735356334
DTSTAMP:20260426T000551Z
DESCRIPTION:1/4 SK VOLEJBAL Ústí nad Labem\, z.s. - Děčín 0:2 (-15\,-17)
DTSTART;TZID=Europe/Berlin:20231105T090000
DTEND;TZID=Europe/Berlin:20231105T110000
LOCATION:ZŠ Stříbrnická Stříbrnická 3031\, 40011 Ústí nad Labem
SUMMARY:US-U16Z-1: SK VOLEJBAL Ústí nad Labem\, z.s.-Děčín
END:VEVENT
BEGIN:VEVENT
UID:34353336-3739-4130-a433-333031636631
DTSTAMP:20260426T000551Z
DESCRIPTION:1/6 Jirkov - Děčín 0:2 (-19\,-23)
DTSTART;TZID=Europe/Berlin:20231105T090000
DTEND;TZID=Europe/Berlin:20231105T110000
LOCATION:sportovní hala MGZŠ Krušnohorská Krušnohorská 1675\, Jirkov
SUMMARY:US-U16Z-1: Jirkov-Děčín
END:VEVENT
BEGIN:VEVENT
UID:39643265-3464-4037-a138-653163633465
DTSTAMP:20260426T000551Z
DESCRIPTION:1/8 Žatec B - Děčín 0:2 (-15\,-7)
DTSTART;TZID=Europe/Berlin:20231105T090000
DTEND;TZID=Europe/Berlin:20231105T110000
LOCATION:TJ Sever Žatec Plzeňská 2787
SUMMARY:US-U16Z-1: Žatec B-Děčín
END:VEVENT
BEGIN:VEVENT
UID:30613261-3165-4063-b465-616465643365
DTSTAMP:20260426T000551Z
DESCRIPTION:1/2 Děčín - Volejbal Ústí n. L. A 2:0 (26\,23)
DTSTART;TZID=Europe/Berlin:20231203T090000
DTEND;TZID=Europe/Berlin:20231203T110000
LOCATION:SPŠ Strojní a stavební Děčín Čsl.armády
SUMMARY:US-U16Z-2: Děčín-Volejbal Ústí n. L. A
END:VEVENT
BEGIN:VEVENT
UID:63333162-3135-4835-b437-346339613536
DTSTAMP:20260426T000551Z
DESCRIPTION:1/4 VK Šanov Teplice\, z.s. - Děčín 0:2 (-7\,-21)
DTSTART;TZID=Europe/Berlin:20231203T090000
DTEND;TZID=Europe/Berlin:20231203T110000
LOCATION:ZŠ Koperníkova Koperníkova 2452
SUMMARY:US-U16Z-2: VK Šanov Teplice\, z.s.-Děčín
END:VEVENT
BEGIN:VEVENT
UID:33353739-6266-4637-b064-666466663932
DTSTAMP:20260426T000551Z
DESCRIPTION:1/6 Jirkov - Děčín 0:2 (-15\,-22)
DTSTART;TZID=Europe/Berlin:20231203T090000
DTEND;TZID=Europe/Berlin:20231203T110000
LOCATION:sportovní hala MGZŠ Krušnohorská Krušnohorská 1675\, Jirkov
SUMMARY:US-U16Z-2: Jirkov-Děčín
END:VEVENT
BEGIN:VEVENT
UID:33633761-6561-4136-a637-626165383330
DTSTAMP:20260426T000551Z
DESCRIPTION:1/8 Žatec B - Děčín 0:2 (-8\,-15)
DTSTART;TZID=Europe/Berlin:20231203T090000
DTEND;TZID=Europe/Berlin:20231203T110000
LOCATION:TJ Sever Žatec Plzeňská 2787
SUMMARY:US-U16Z-2: Žatec B-Děčín
END:VEVENT
BEGIN:VEVENT
UID:33643331-6465-4265-a463-316638313262
DTSTAMP:20260426T000551Z
DESCRIPTION:1/5 Děčín - Žatec B 2:0 (20\,14)
DTSTART;TZID=Europe/Berlin:20231217T090000
DTEND;TZID=Europe/Berlin:20231217T110000
LOCATION:SPŠ Strojní a stavební Děčín Čsl.armády
SUMMARY:US-U16Z-3: Děčín-Žatec B
END:VEVENT
BEGIN:VEVENT
UID:38656661-6338-4436-a365-356366656530
DTSTAMP:20260426T000551Z
DESCRIPTION:1/2 Jirkov - Děčín 0:2 (-14\,-19)
DTSTART;TZID=Europe/Berlin:20231217T090000
DTEND;TZID=Europe/Berlin:20231217T110000
LOCATION:sportovní hala MGZŠ Krušnohorská Krušnohorská 1675\, Jirkov
SUMMARY:US-U16Z-3: Jirkov-Děčín
END:VEVENT
BEGIN:VEVENT
UID:65386666-3438-4936-b639-636532333863
DTSTAMP:20260426T000551Z
DESCRIPTION:1/7 Volejbal Ústí n. L. A - Děčín 2:0 (20\,20)
DTSTART;TZID=Europe/Berlin:20231217T090000
DTEND;TZID=Europe/Berlin:20231217T110000
LOCATION:Gymnázium a Střední odborná škola dr. Václava Šmejkala\, Ústí nad 
 Labem Stará 99\, 400 11 Ústí nad Labem-Severní Terasa
SUMMARY:US-U16Z-3: Volejbal Ústí n. L. A-Děčín
END:VEVENT
BEGIN:VEVENT
UID:35373334-3038-4338-b236-333533333038
DTSTAMP:20260426T000551Z
DESCRIPTION:1/9 SK VOLEJBAL Ústí nad Labem\, z.s. - Děčín 0:2 (-17\,-20)
DTSTART;TZID=Europe/Berlin:20231217T090000
DTEND;TZID=Europe/Berlin:20231217T110000
LOCATION:ZŠ Stříbrnická Stříbrnická 3031\, 40011 Ústí nad Labem
SUMMARY:US-U16Z-3: SK VOLEJBAL Ústí nad Labem\, z.s.-Děčín
END:VEVENT
BEGIN:VEVENT
UID:32353233-3065-4165-a637-373761353065
DTSTAMP:20260426T000551Z
DESCRIPTION:1/5 Děčín - Volejbal Duchcov z.s. 2:0 (15\,12)
DTSTART;TZID=Europe/Berlin:20240107T090000
DTEND;TZID=Europe/Berlin:20240107T110000
LOCATION:SPŠ Strojní a stavební Děčín Čsl.armády
SUMMARY:US-U16Z-4: Děčín-Volejbal Duchcov z.s.
END:VEVENT
BEGIN:VEVENT
UID:31316535-6264-4962-b836-313933366234
DTSTAMP:20260426T000551Z
DESCRIPTION:1/2 SK VOLEJBAL Ústí nad Labem\, z.s. - Děčín 1:2 (-22\,23\,-7)
DTSTART;TZID=Europe/Berlin:20240107T090000
DTEND;TZID=Europe/Berlin:20240107T110000
LOCATION:ZŠ Stříbrnická Stříbrnická 3031\, 40011 Ústí nad Labem
SUMMARY:US-U16Z-4: SK VOLEJBAL Ústí nad Labem\, z.s.-Děčín
END:VEVENT
BEGIN:VEVENT
UID:63393737-3836-4161-a633-386537343236
DTSTAMP:20260426T000551Z
DESCRIPTION:1/7 Volejbal Ústí n. L. A - Děčín 0:2 (-11\,-21)
DTSTART;TZID=Europe/Berlin:20240107T090000
DTEND;TZID=Europe/Berlin:20240107T110000
LOCATION:Gymnázium a Střední odborná škola dr. Václava Šmejkala\, Ústí nad 
 Labem Stará 99\, 400 11 Ústí nad Labem-Severní Terasa
SUMMARY:US-U16Z-4: Volejbal Ústí n. L. A-Děčín
END:VEVENT
BEGIN:VEVENT
UID:33326162-3365-4135-b161-656464303762
DTSTAMP:20260426T000551Z
DESCRIPTION:1/9 Jirkov - Děčín 2:0 (23\,20)
DTSTART;TZID=Europe/Berlin:20240107T090000
DTEND;TZID=Europe/Berlin:20240107T110000
LOCATION:sportovní hala MGZŠ Krušnohorská Krušnohorská 1675\, Jirkov
SUMMARY:US-U16Z-4: Jirkov-Děčín
END:VEVENT
BEGIN:VEVENT
UID:35383439-3838-4530-a630-303135383835
DTSTAMP:20260426T000551Z
DESCRIPTION:1/4 Děčín - Jirkov 2:0 (19\,22)
DTSTART;TZID=Europe/Berlin:20240121T090000
DTEND;TZID=Europe/Berlin:20240121T110000
LOCATION:SPŠ Strojní a stavební Děčín Čsl.armády
SUMMARY:US-U16Z-5: Děčín-Jirkov
END:VEVENT
BEGIN:VEVENT
UID:31366636-3761-4231-b035-313738346639
DTSTAMP:20260426T000551Z
DESCRIPTION:1/7 Děčín - SK VOLEJBAL Ústí nad Labem\, z.s. 1:2 (-15\,18\,-6)
DTSTART;TZID=Europe/Berlin:20240121T090000
DTEND;TZID=Europe/Berlin:20240121T110000
LOCATION:SPŠ Strojní a stavební Děčín Čsl.armády
SUMMARY:US-U16Z-5: Děčín-SK VOLEJBAL Ústí nad Labem\, z.s.
END:VEVENT
BEGIN:VEVENT
UID:37633137-3332-4366-b337-633561653438
DTSTAMP:20260426T000551Z
DESCRIPTION:1/10 Děčín - Žatec B 2:0 (13\,14)
DTSTART;TZID=Europe/Berlin:20240121T090000
DTEND;TZID=Europe/Berlin:20240121T110000
LOCATION:SPŠ Strojní a stavební Děčín Čsl.armády
SUMMARY:US-U16Z-5: Děčín-Žatec B
END:VEVENT
BEGIN:VEVENT
UID:63343932-3634-4063-b232-646463356565
DTSTAMP:20260426T000551Z
DESCRIPTION:1/1 Volejbal Ústí n. L. A - Děčín 1:2 (-14\,25\,-9)
DTSTART;TZID=Europe/Berlin:20240121T090000
DTEND;TZID=Europe/Berlin:20240121T110000
LOCATION:Gymnázium a Střední odborná škola dr. Václava Šmejkala\, Ústí nad 
 Labem Stará 99\, 400 11 Ústí nad Labem-Severní Terasa
SUMMARY:US-U16Z-5: Volejbal Ústí n. L. A-Děčín
END:VEVENT
BEGIN:VEVENT
UID:62666261-3862-4935-b661-323634633039
DTSTAMP:20260426T000551Z
DESCRIPTION:1/4 Děčín - Volejbal Ústí n. L. A 0:2 (-25\,-20)
DTSTART;TZID=Europe/Berlin:20240324T090000
DTEND;TZID=Europe/Berlin:20240324T110000
LOCATION:SPŠ Strojní a stavební Děčín Čsl.armády
SUMMARY:US-U16Z-6: Děčín-Volejbal Ústí n. L. A
END:VEVENT
BEGIN:VEVENT
UID:39373638-6566-4362-b762-373161653964
DTSTAMP:20260426T000551Z
DESCRIPTION:1/7 Děčín - SK VOLEJBAL Ústí nad Labem\, z.s. 2:1 (-20\,23\,6)
DTSTART;TZID=Europe/Berlin:20240324T090000
DTEND;TZID=Europe/Berlin:20240324T110000
LOCATION:SPŠ Strojní a stavební Děčín Čsl.armády
SUMMARY:US-U16Z-6: Děčín-SK VOLEJBAL Ústí nad Labem\, z.s.
END:VEVENT
BEGIN:VEVENT
UID:66316139-3637-4238-b136-316239613862
DTSTAMP:20260426T000551Z
DESCRIPTION:1/10 Děčín - VK Šanov Teplice\, z.s. 2:0 (9\,8)
DTSTART;TZID=Europe/Berlin:20240324T090000
DTEND;TZID=Europe/Berlin:20240324T110000
LOCATION:SPŠ Strojní a stavební Děčín Čsl.armády
SUMMARY:US-U16Z-6: Děčín-VK Šanov Teplice\, z.s.
END:VEVENT
BEGIN:VEVENT
UID:30626538-6430-4533-a230-383665323238
DTSTAMP:20260426T000551Z
DESCRIPTION:1/1 Jirkov - Děčín 2:1 (-21\,22\,6)
DTSTART;TZID=Europe/Berlin:20240324T090000
DTEND;TZID=Europe/Berlin:20240324T110000
LOCATION:sportovní hala MGZŠ Krušnohorská Krušnohorská 1675\, Jirkov
SUMMARY:US-U16Z-6: Jirkov-Děčín
END:VEVENT
BEGIN:VEVENT
UID:37336563-3263-4166-b637-393635616132
DTSTAMP:20260426T000551Z
DESCRIPTION:3/9 Děčín - Jihlava 1:2 (-11\,17\,-11)
DTSTART;TZID=Europe/Berlin:20240420T120000
DTEND;TZID=Europe/Berlin:20240420T140000
LOCATION:ZŠ Dolní Břežany\, Na Vršku 290 Dolní Břežany
SUMMARY:MCR-U16Z-A: Děčín-Jihlava
END:VEVENT
BEGIN:VEVENT
UID:65376266-3566-4236-b861-393235363934
DTSTAMP:20260426T000551Z
DESCRIPTION:5/15 Děčín - Uherské Hradiště 2:0 (16\,8)
DTSTART;TZID=Europe/Berlin:20240420T143000
DTEND;TZID=Europe/Berlin:20240420T163000
LOCATION:ZŠ Dolní Břežany\, Na Vršku 290 Dolní Břežany
SUMMARY:MCR-U16Z-A: Děčín-Uherské Hradiště
END:VEVENT
BEGIN:VEVENT
UID:36336464-3666-4161-a536-633335373336
DTSTAMP:20260426T000551Z
DESCRIPTION:8/22 Děčín - Břeclav 2:0 (16\,13)
DTSTART;TZID=Europe/Berlin:20240421T101500
DTEND;TZID=Europe/Berlin:20240421T121500
LOCATION:ZŠ Dolní Břežany\, Na Vršku 290 Dolní Břežany
SUMMARY:MCR-U16Z-A: Děčín-Břeclav
END:VEVENT
BEGIN:VEVENT
UID:31356664-6639-4264-a337-383863343937
DTSTAMP:20260426T000551Z
DESCRIPTION:9/25 Děčín - Ostrava 2:0 (20\,14)
DTSTART;TZID=Europe/Berlin:20240421T113000
DTEND;TZID=Europe/Berlin:20240421T133000
LOCATION:ZŠ Dolní Břežany\, Na Vršku 290 Dolní Břežany
SUMMARY:MCR-U16Z-A: Děčín-Ostrava
END:VEVENT
BEGIN:VEVENT
UID:34653261-3036-4264-a636-616365353866
DTSTAMP:20260426T000551Z
DESCRIPTION:10/27 Děčín - VAM Olomouc 2:0 (14\,19)
DTSTART;TZID=Europe/Berlin:20240421T124500
DTEND;TZID=Europe/Berlin:20240421T144500
LOCATION:ZŠ Dolní Břežany\, Na Vršku 290 Dolní Břežany
SUMMARY:MCR-U16Z-A: Děčín-VAM Olomouc
END:VEVENT
BEGIN:VEVENT
UID:34393933-6634-4232-b130-623336353365
DTSTAMP:20260426T000551Z
DESCRIPTION:1/2 Lanškroun - Děčín 2:1 (22\,-16\,13)
DTSTART;TZID=Europe/Berlin:20240420T093000
DTEND;TZID=Europe/Berlin:20240420T113000
LOCATION:ZŠ Dolní Břežany\, Na Vršku 290 Dolní Břežany
SUMMARY:MCR-U16Z-A: Lanškroun-Děčín
END:VEVENT
BEGIN:VEVENT
UID:38313837-6464-4835-b166-623766333734
DTSTAMP:20260426T000551Z
DESCRIPTION:4/10 Orion Praha - Děčín 2:0 (14\,10)
DTSTART;TZID=Europe/Berlin:20240420T131500
DTEND;TZID=Europe/Berlin:20240420T151500
LOCATION:ZŠ Dolní Břežany\, Na Vršku 290 Dolní Břežany
SUMMARY:MCR-U16Z-A: Orion Praha-Děčín
END:VEVENT
BEGIN:VEVENT
UID:64633565-3065-4637-a462-633536323861
DTSTAMP:20260426T000551Z
DESCRIPTION:1/2 Děčín - Karlovy Vary 1:2 (22\,-20\,-5)
DTSTART;TZID=Europe/Berlin:20240503T121500
DTEND;TZID=Europe/Berlin:20240503T141500
LOCATION:Městská sportovní hala\, Petřivalského 2884 Přerov - Přerov I-Měst
 o
SUMMARY:MCR-U16Z-FD: Děčín-Karlovy Vary
END:VEVENT
BEGIN:VEVENT
UID:38646363-3662-4362-b165-393230636266
DTSTAMP:20260426T000551Z
DESCRIPTION:3/5 Děčín - Jirkov 2:0 (16\,17)
DTSTART;TZID=Europe/Berlin:20240503T171500
DTEND;TZID=Europe/Berlin:20240503T191500
LOCATION:Městská sportovní hala\, Petřivalského 2884 Přerov - Přerov I-Měst
 o
SUMMARY:MCR-U16Z-FD: Děčín-Jirkov
END:VEVENT
BEGIN:VEVENT
UID:39333934-3734-4634-a639-613638613061
DTSTAMP:20260426T000551Z
DESCRIPTION:2/4 Olymp Praha - Děčín 2:0 (23\,10)
DTSTART;TZID=Europe/Berlin:20240503T144500
DTEND;TZID=Europe/Berlin:20240503T164500
LOCATION:Městská sportovní hala\, Petřivalského 2884 Přerov - Přerov I-Měst
 o
SUMMARY:MCR-U16Z-FD: Olymp Praha-Děčín
END:VEVENT
BEGIN:VEVENT
UID:30383965-3465-4161-a337-393337663232
DTSTAMP:20260426T000551Z
DESCRIPTION:2/4 Děčín - Rudolfov 0:2 (-21\,-24)
DTSTART;TZID=Europe/Berlin:20240504T113000
DTEND;TZID=Europe/Berlin:20240504T133000
LOCATION:Městská sportovní hala\, Petřivalského 2884 Přerov - Přerov I-Měst
 o
SUMMARY:MCR-U16Z-FF: Děčín-Rudolfov
END:VEVENT
BEGIN:VEVENT
UID:36366137-6166-4334-b531-326433653830
DTSTAMP:20260426T000551Z
DESCRIPTION:1/1 Liberec - Děčín 2:0 (22\,21)
DTSTART;TZID=Europe/Berlin:20240504T090000
DTEND;TZID=Europe/Berlin:20240504T110000
LOCATION:Městská sportovní hala\, Petřivalského 2884 Přerov - Přerov I-Měst
 o
SUMMARY:MCR-U16Z-FF: Liberec-Děčín
END:VEVENT
BEGIN:VEVENT
UID:66356663-3030-4262-b464-303930636437
DTSTAMP:20260426T000551Z
DESCRIPTION:3/7 Jihlava - Děčín 1:2 (19\,-24\,-11)
DTSTART;TZID=Europe/Berlin:20240504T151500
DTEND;TZID=Europe/Berlin:20240504T171500
LOCATION:Městská sportovní hala\, Petřivalského 2884 Přerov - Přerov I-Měst
 o
SUMMARY:MCR-U16Z-FF: Jihlava-Děčín
END:VEVENT
BEGIN:VEVENT
UID:35643765-3261-4537-b231-636330313934
DTSTAMP:20260426T000551Z
DESCRIPTION:1/3 KP Brno - Děčín 1:2 (19\,-6\,-14)\n5FE - 6FF
DTSTART;TZID=Europe/Berlin:20240505T090000
DTEND;TZID=Europe/Berlin:20240505T110000
LOCATION:Sportovní gymnázium Ludvíka Daňka\, Botanická 63 Brno - Ponava
SUMMARY:MCR-U16Z-FI: KP Brno-Děčín
END:VEVENT
BEGIN:VEVENT
UID:63386339-6462-4462-a438-636137636264
DTSTAMP:20260426T000551Z
DESCRIPTION:2/10 Jihlava - Děčín 1:2 (-14\,19\,-8)\no 9.-10. místo\, hráno 
 v NH
DTSTART;TZID=Europe/Berlin:20240505T124500
DTEND;TZID=Europe/Berlin:20240505T144500
LOCATION:ZŠ Jihlava Demlova\, Demlova 4178 Jihlava
SUMMARY:MCR-U16Z-FI: Jihlava-Děčín
END:VEVENT
END:VCALENDAR
