BEGIN:VCALENDAR
VERSION:2.0
PRODID:-//TJ Slavia Hradec Králové B83815//NONSGML kigkonsult.se iCalcreator 2.41.80//
CALSCALE:GREGORIAN
UID:35346138-3330-4562-b633-653631653263
BEGIN:VEVENT
UID:64616361-3235-4338-b563-393133363764
DTSTAMP:20260426T034121Z
DESCRIPTION:1/5 TJ Slavia Hradec Králové B - TJ Slavia Hradec Králové C 3:1
  (16\,22\,-21\,22)
DTSTART;TZID=Europe/Berlin:20231007T100000
DTEND;TZID=Europe/Berlin:20231007T120000
LOCATION:TJ Slavia Hradec Králové\, Víta Nejedlého 1216 Hradec Králové
SUMMARY:HK-Z-1: TJ Slavia Hradec Králové B-TJ Slavia Hradec Králové C
END:VEVENT
BEGIN:VEVENT
UID:39616532-6236-4232-b665-366139393063
DTSTAMP:20260426T034121Z
DESCRIPTION:2/10 TJ Slavia Hradec Králové B - TJ Slavia Hradec Králové C 3:
 1 (-24\,19\,22\,19)
DTSTART;TZID=Europe/Berlin:20231007T130000
DTEND;TZID=Europe/Berlin:20231007T150000
LOCATION:TJ Slavia Hradec Králové\, Víta Nejedlého 1216 Hradec Králové
SUMMARY:HK-Z-1: TJ Slavia Hradec Králové B-TJ Slavia Hradec Králové C
END:VEVENT
BEGIN:VEVENT
UID:34323363-3061-4466-b936-373731613435
DTSTAMP:20260426T034121Z
DESCRIPTION:9/43 TJ Slavia Hradec Králové B - TJ Sokol Bílá Třemešná 1:3 (-
 16\,23\,-16\,-19)
DTSTART;TZID=Europe/Berlin:20231111T090000
DTEND;TZID=Europe/Berlin:20231111T110000
LOCATION:TJ Slavia Hradec Králové\, Víta Nejedlého 1216 Hradec Králové
SUMMARY:HK-Z-1: TJ Slavia Hradec Králové B-TJ Sokol Bílá Třemešná
END:VEVENT
BEGIN:VEVENT
UID:33636366-3030-4337-a536-323764346536
DTSTAMP:20260426T034121Z
DESCRIPTION:10/48 TJ Slavia Hradec Králové B - TJ Sokol Bílá Třemešná 1:3 (
 -22\,21\,-15\,-11)
DTSTART;TZID=Europe/Berlin:20231111T130000
DTEND;TZID=Europe/Berlin:20231111T150000
LOCATION:TJ Slavia Hradec Králové\, Víta Nejedlého 1216 Hradec Králové
SUMMARY:HK-Z-1: TJ Slavia Hradec Králové B-TJ Sokol Bílá Třemešná
END:VEVENT
BEGIN:VEVENT
UID:33623364-6663-4332-b038-336332313263
DTSTAMP:20260426T034121Z
DESCRIPTION:13/62 TJ Slavia Hradec Králové B - Tělocvičná jednota Sokol Jil
 emnice 3:1 (-26\,6\,14\,20)
DTSTART;TZID=Europe/Berlin:20231202T090000
DTEND;TZID=Europe/Berlin:20231202T110000
LOCATION:ZŠ Bezručova\, Bezručova 1468 Hradec Králové - Pražské Předměstí
SUMMARY:HK-Z-1: TJ Slavia Hradec Králové B-Tělocvičná jednota Sokol Jilemni
 ce
END:VEVENT
BEGIN:VEVENT
UID:36313032-3530-4865-a564-353462396161
DTSTAMP:20260426T034121Z
DESCRIPTION:14/67 TJ Slavia Hradec Králové B - Tělocvičná jednota Sokol Jil
 emnice 3:0 (11\,13\,15)
DTSTART;TZID=Europe/Berlin:20231202T130000
DTEND;TZID=Europe/Berlin:20231202T150000
LOCATION:ZŠ Bezručova\, Bezručova 1468 Hradec Králové - Pražské Předměstí
SUMMARY:HK-Z-1: TJ Slavia Hradec Králové B-Tělocvičná jednota Sokol Jilemni
 ce
END:VEVENT
BEGIN:VEVENT
UID:32343036-6362-4536-b139-666533303764
DTSTAMP:20260426T034121Z
DESCRIPTION:17/81 TJ Slavia Hradec Králové B - Orel jednota Hradec Králové 
 2:3 (-23\,28\,25\,-22\,-16)
DTSTART;TZID=Europe/Berlin:20231216T100000
DTEND;TZID=Europe/Berlin:20231216T120000
LOCATION:TJ Slavia Hradec Králové\, Víta Nejedlého 1216 Hradec Králové
SUMMARY:HK-Z-1: TJ Slavia Hradec Králové B-Orel jednota Hradec Králové
END:VEVENT
BEGIN:VEVENT
UID:39336466-3035-4265-b464-636662303164
DTSTAMP:20260426T034121Z
DESCRIPTION:18/86 TJ Slavia Hradec Králové B - Orel jednota Hradec Králové 
 0:3 (-19\,-11\,-12)
DTSTART;TZID=Europe/Berlin:20231216T130000
DTEND;TZID=Europe/Berlin:20231216T150000
LOCATION:TJ Slavia Hradec Králové\, Víta Nejedlého 1216 Hradec Králové
SUMMARY:HK-Z-1: TJ Slavia Hradec Králové B-Orel jednota Hradec Králové
END:VEVENT
BEGIN:VEVENT
UID:33326436-3662-4761-b332-383464653831
DTSTAMP:20260426T034121Z
DESCRIPTION:21/102 TJ Slavia Hradec Králové B - Volejbalový klub Hronov\, z
 .s. B 1:3 (-8\,-18\,18\,-20)
DTSTART;TZID=Europe/Berlin:20240120T090000
DTEND;TZID=Europe/Berlin:20240120T110000
LOCATION:TJ Slavia Hradec Králové\, Víta Nejedlého 1216 Hradec Králové
SUMMARY:HK-Z-1: TJ Slavia Hradec Králové B-Volejbalový klub Hronov\, z.s. B
END:VEVENT
BEGIN:VEVENT
UID:66333630-3731-4333-a166-333334316431
DTSTAMP:20260426T034121Z
DESCRIPTION:22/107 TJ Slavia Hradec Králové B - Volejbalový klub Hronov\, z
 .s. B 0:3 (-23\,-18\,-15)
DTSTART;TZID=Europe/Berlin:20240120T130000
DTEND;TZID=Europe/Berlin:20240120T150000
LOCATION:TJ Slavia Hradec Králové\, Víta Nejedlého 1216 Hradec Králové
SUMMARY:HK-Z-1: TJ Slavia Hradec Králové B-Volejbalový klub Hronov\, z.s. B
END:VEVENT
BEGIN:VEVENT
UID:36356637-3734-4761-a138-636634633934
DTSTAMP:20260426T034121Z
DESCRIPTION:23/114 TJ Slavia Hradec Králové B - Staré Město - Náchod 2:3 (2
 9\,-12\,-21\,23\,-11)
DTSTART;TZID=Europe/Berlin:20240127T100000
DTEND;TZID=Europe/Berlin:20240127T120000
LOCATION:TJ Slavia Hradec Králové\, Víta Nejedlého 1216 Hradec Králové
SUMMARY:HK-Z-1: TJ Slavia Hradec Králové B-Staré Město - Náchod
END:VEVENT
BEGIN:VEVENT
UID:30616637-3863-4234-a462-323437623737
DTSTAMP:20260426T034121Z
DESCRIPTION:24/119 TJ Slavia Hradec Králové B - Staré Město - Náchod 0:3 (-
 11\,-25\,-20)
DTSTART;TZID=Europe/Berlin:20240127T130000
DTEND;TZID=Europe/Berlin:20240127T150000
LOCATION:TJ Slavia Hradec Králové\, Víta Nejedlého 1216 Hradec Králové
SUMMARY:HK-Z-1: TJ Slavia Hradec Králové B-Staré Město - Náchod
END:VEVENT
BEGIN:VEVENT
UID:65393238-3637-4664-b730-623165626465
DTSTAMP:20260426T034121Z
DESCRIPTION:25/123 TJ Slavia Hradec Králové B - Volejbalový klub Dvůr Králo
 vé nad Labem\, z.s. 3:0 (11\,11\,11)
DTSTART;TZID=Europe/Berlin:20240203T110000
DTEND;TZID=Europe/Berlin:20240203T130000
LOCATION:TJ Slavia Hradec Králové\, Víta Nejedlého 1216 Hradec Králové
SUMMARY:HK-Z-1: TJ Slavia Hradec Králové B-Volejbalový klub Dvůr Králové na
 d Labem\, z.s.
END:VEVENT
BEGIN:VEVENT
UID:33663962-6166-4134-a263-663962633134
DTSTAMP:20260426T034121Z
DESCRIPTION:26/128 TJ Slavia Hradec Králové B - Volejbalový klub Dvůr Králo
 vé nad Labem\, z.s. 3:1 (14\,16\,-22\,14)
DTSTART;TZID=Europe/Berlin:20240203T150000
DTEND;TZID=Europe/Berlin:20240203T170000
LOCATION:TJ Slavia Hradec Králové\, Víta Nejedlého 1216 Hradec Králové
SUMMARY:HK-Z-1: TJ Slavia Hradec Králové B-Volejbalový klub Dvůr Králové na
 d Labem\, z.s.
END:VEVENT
BEGIN:VEVENT
UID:63323835-3638-4362-b462-396262323136
DTSTAMP:20260426T034121Z
DESCRIPTION:29/144 TJ Slavia Hradec Králové B - Orel jednota Studenec 3:0 (
 11\,13\,22)
DTSTART;TZID=Europe/Berlin:20240302T090000
DTEND;TZID=Europe/Berlin:20240302T110000
LOCATION:TJ Slavia Hradec Králové\, Víta Nejedlého 1216 Hradec Králové
SUMMARY:HK-Z-1: TJ Slavia Hradec Králové B-Orel jednota Studenec
END:VEVENT
BEGIN:VEVENT
UID:31313235-3633-4235-b530-333633373938
DTSTAMP:20260426T034121Z
DESCRIPTION:30/149 TJ Slavia Hradec Králové B - Orel jednota Studenec 3:0 (
 15\,22\,8)
DTSTART;TZID=Europe/Berlin:20240302T130000
DTEND;TZID=Europe/Berlin:20240302T150000
LOCATION:TJ Slavia Hradec Králové\, Víta Nejedlého 1216 Hradec Králové
SUMMARY:HK-Z-1: TJ Slavia Hradec Králové B-Orel jednota Studenec
END:VEVENT
BEGIN:VEVENT
UID:33303439-3733-4434-b061-326666643233
DTSTAMP:20260426T034121Z
DESCRIPTION:3/12 Volejbalový klub Hronov\, z.s. B - TJ Slavia Hradec Králov
 é B 0:3 (-23\,-23\,-25)
DTSTART;TZID=Europe/Berlin:20231014T090000
DTEND;TZID=Europe/Berlin:20231014T110000
LOCATION:ZŠ Hronov\, Palackého 162 Hronov
SUMMARY:HK-Z-1: Volejbalový klub Hronov\, z.s. B-TJ Slavia Hradec Králové B
END:VEVENT
BEGIN:VEVENT
UID:37383561-3931-4161-b761-323064393363
DTSTAMP:20260426T034121Z
DESCRIPTION:4/17 Volejbalový klub Hronov\, z.s. B - TJ Slavia Hradec Králov
 é B 3:1 (21\,-19\,17\,21)
DTSTART;TZID=Europe/Berlin:20231014T130000
DTEND;TZID=Europe/Berlin:20231014T150000
LOCATION:ZŠ Hronov\, Palackého 162 Hronov
SUMMARY:HK-Z-1: Volejbalový klub Hronov\, z.s. B-TJ Slavia Hradec Králové B
END:VEVENT
BEGIN:VEVENT
UID:30613531-3733-4035-b865-386236653963
DTSTAMP:20260426T034121Z
DESCRIPTION:5/24 Staré Město - Náchod - TJ Slavia Hradec Králové B 3:0 (21\
 ,17\,16)
DTSTART;TZID=Europe/Berlin:20231021T100000
DTEND;TZID=Europe/Berlin:20231021T120000
LOCATION:Sportovni hala TJ. Sokol Staré Město - Náchod\, Na Skalce 263 Nách
 od - Staré Město nad Metují
SUMMARY:HK-Z-1: Staré Město - Náchod-TJ Slavia Hradec Králové B
END:VEVENT
BEGIN:VEVENT
UID:62356365-3931-4630-b133-653730333835
DTSTAMP:20260426T034121Z
DESCRIPTION:6/29 Staré Město - Náchod - TJ Slavia Hradec Králové B 3:1 (-21
 \,17\,20\,21)
DTSTART;TZID=Europe/Berlin:20231021T130000
DTEND;TZID=Europe/Berlin:20231021T150000
LOCATION:Sportovni hala TJ. Sokol Staré Město - Náchod\, Na Skalce 263 Nách
 od - Staré Město nad Metují
SUMMARY:HK-Z-1: Staré Město - Náchod-TJ Slavia Hradec Králové B
END:VEVENT
BEGIN:VEVENT
UID:32323738-6163-4065-a466-383933333639
DTSTAMP:20260426T034121Z
DESCRIPTION:7/33 Volejbalový klub Dvůr Králové nad Labem\, z.s. - TJ Slavia
  Hradec Králové B 0:3 (-16\,-11\,-15)
DTSTART;TZID=Europe/Berlin:20231104T100000
DTEND;TZID=Europe/Berlin:20231104T120000
LOCATION:Hala ZŠ Strž\, Elišky Krásnohorské 2919 Dvůr Králové nad Labem
SUMMARY:HK-Z-1: Volejbalový klub Dvůr Králové nad Labem\, z.s.-TJ Slavia Hr
 adec Králové B
END:VEVENT
BEGIN:VEVENT
UID:36343931-6661-4562-b539-643062613865
DTSTAMP:20260426T034121Z
DESCRIPTION:8/38 Volejbalový klub Dvůr Králové nad Labem\, z.s. - TJ Slavia
  Hradec Králové B 0:3 (-16\,-15\,-21)
DTSTART;TZID=Europe/Berlin:20231104T130000
DTEND;TZID=Europe/Berlin:20231104T150000
LOCATION:Hala ZŠ Strž\, Elišky Krásnohorské 2919 Dvůr Králové nad Labem
SUMMARY:HK-Z-1: Volejbalový klub Dvůr Králové nad Labem\, z.s.-TJ Slavia Hr
 adec Králové B
END:VEVENT
BEGIN:VEVENT
UID:64623862-3633-4761-a166-373136646437
DTSTAMP:20260426T034121Z
DESCRIPTION:11/54 Orel jednota Studenec - TJ Slavia Hradec Králové B 0:3 (-
 20\,-22\,-16)
DTSTART;TZID=Europe/Berlin:20231125T100000
DTEND;TZID=Europe/Berlin:20231125T120000
LOCATION:Sokolovna Studenec\,  Studenec59
SUMMARY:HK-Z-1: Orel jednota Studenec-TJ Slavia Hradec Králové B
END:VEVENT
BEGIN:VEVENT
UID:34366332-3364-4339-b130-323736393830
DTSTAMP:20260426T034121Z
DESCRIPTION:12/59 Orel jednota Studenec - TJ Slavia Hradec Králové B 2:3 (2
 0\,-21\,16\,-14\,-15)
DTSTART;TZID=Europe/Berlin:20231125T130000
DTEND;TZID=Europe/Berlin:20231125T150000
LOCATION:Sokolovna Studenec\,  Studenec59
SUMMARY:HK-Z-1: Orel jednota Studenec-TJ Slavia Hradec Králové B
END:VEVENT
BEGIN:VEVENT
UID:39306363-3739-4463-a566-323338313238
DTSTAMP:20260426T034121Z
DESCRIPTION:19/95 TJ Slavia Hradec Králové C - TJ Slavia Hradec Králové B 3
 :0 (18\,21\,18)
DTSTART;TZID=Europe/Berlin:20240113T100000
DTEND;TZID=Europe/Berlin:20240113T120000
LOCATION:Tělocvična ZŠ Jiráskovo náměstí - Hradec Králové\, Jiráskovo náměs
 tí 1166 Hradec Králové - Pražské Předměstí
SUMMARY:HK-Z-1: TJ Slavia Hradec Králové C-TJ Slavia Hradec Králové B
END:VEVENT
BEGIN:VEVENT
UID:39346162-3037-4066-b631-653538333530
DTSTAMP:20260426T034121Z
DESCRIPTION:20/100 TJ Slavia Hradec Králové C - TJ Slavia Hradec Králové B 
 3:1 (22\,-22\,23\,16)
DTSTART;TZID=Europe/Berlin:20240113T130000
DTEND;TZID=Europe/Berlin:20240113T150000
LOCATION:Tělocvična ZŠ Jiráskovo náměstí - Hradec Králové\, Jiráskovo náměs
 tí 1166 Hradec Králové - Pražské Předměstí
SUMMARY:HK-Z-1: TJ Slavia Hradec Králové C-TJ Slavia Hradec Králové B
END:VEVENT
BEGIN:VEVENT
UID:62393966-6364-4737-a666-383931376163
DTSTAMP:20260426T034121Z
DESCRIPTION:27/133 TJ Sokol Bílá Třemešná - TJ Slavia Hradec Králové B 3:2 
 (19\,-23\,-22\,18\,13)
DTSTART;TZID=Europe/Berlin:20240210T100000
DTEND;TZID=Europe/Berlin:20240210T120000
LOCATION:ZŠ Bílá Třemešná\,  Bílá Třemešná313
SUMMARY:HK-Z-1: TJ Sokol Bílá Třemešná-TJ Slavia Hradec Králové B
END:VEVENT
BEGIN:VEVENT
UID:36303837-6439-4638-b733-323239653564
DTSTAMP:20260426T034121Z
DESCRIPTION:28/138 TJ Sokol Bílá Třemešná - TJ Slavia Hradec Králové B 3:0 
 (19\,25\,17)
DTSTART;TZID=Europe/Berlin:20240210T130000
DTEND;TZID=Europe/Berlin:20240210T150000
LOCATION:ZŠ Bílá Třemešná\,  Bílá Třemešná313
SUMMARY:HK-Z-1: TJ Sokol Bílá Třemešná-TJ Slavia Hradec Králové B
END:VEVENT
BEGIN:VEVENT
UID:66333137-3165-4364-a430-333062636232
DTSTAMP:20260426T034121Z
DESCRIPTION:31/152 Tělocvičná jednota Sokol Jilemnice - TJ Slavia Hradec Kr
 álové B 1:3 (21\,-9\,-15\,-22)
DTSTART;TZID=Europe/Berlin:20240309T100000
DTEND;TZID=Europe/Berlin:20240309T120000
LOCATION:Sokolovna Jilemnice\, Tyršovo náměstí 280 Jilemnice
SUMMARY:HK-Z-1: Tělocvičná jednota Sokol Jilemnice-TJ Slavia Hradec Králové
  B
END:VEVENT
BEGIN:VEVENT
UID:65646466-3363-4538-b138-313863343536
DTSTAMP:20260426T034121Z
DESCRIPTION:32/157 Tělocvičná jednota Sokol Jilemnice - TJ Slavia Hradec Kr
 álové B 0:3 (-19\,-17\,-8)
DTSTART;TZID=Europe/Berlin:20240309T130000
DTEND;TZID=Europe/Berlin:20240309T150000
LOCATION:Sokolovna Jilemnice\, Tyršovo náměstí 280 Jilemnice
SUMMARY:HK-Z-1: Tělocvičná jednota Sokol Jilemnice-TJ Slavia Hradec Králové
  B
END:VEVENT
BEGIN:VEVENT
UID:36646561-3635-4264-b062-383538386131
DTSTAMP:20260426T034121Z
DESCRIPTION:35/171 Orel jednota Hradec Králové - TJ Slavia Hradec Králové B
  2:3 (-20\,23\,19\,-20\,-10)
DTSTART;TZID=Europe/Berlin:20240323T100000
DTEND;TZID=Europe/Berlin:20240323T120000
LOCATION:ZŠ Hradec Králové - Pouchov\, K Sokolovně 452 Hradec Králové - Pou
 chov
SUMMARY:HK-Z-1: Orel jednota Hradec Králové-TJ Slavia Hradec Králové B
END:VEVENT
BEGIN:VEVENT
UID:34363639-3037-4636-b938-386161393833
DTSTAMP:20260426T034121Z
DESCRIPTION:36/176 Orel jednota Hradec Králové - TJ Slavia Hradec Králové B
  0:3 (-22\,-21\,-25)
DTSTART;TZID=Europe/Berlin:20240323T130000
DTEND;TZID=Europe/Berlin:20240323T150000
LOCATION:ZŠ Hradec Králové - Pouchov\, K Sokolovně 452 Hradec Králové - Pou
 chov
SUMMARY:HK-Z-1: Orel jednota Hradec Králové-TJ Slavia Hradec Králové B
END:VEVENT
END:VCALENDAR
