BEGIN:VCALENDAR
VERSION:2.0
PRODID:-//Tělocvičná jednota Sokol Pouchov84143//NONSGML kigkonsult.se iCalcreator 2.41.80//
CALSCALE:GREGORIAN
UID:39353634-6531-4533-b266-333839313934
BEGIN:VEVENT
UID:37356264-6664-4334-a661-376331356531
DTSTAMP:20260425T132954Z
DESCRIPTION:1/5 TJ Sokol Pouchov - TJ Sokol Třebeš B 0:3 (-11\,-14\,-20)
DTSTART;TZID=Europe/Berlin:20230905T170000
DTEND;TZID=Europe/Berlin:20230905T190000
LOCATION:TJ Sokol Pouchov K Sokolovně 544/19
SUMMARY:H-M-1: TJ Sokol Pouchov-TJ Sokol Třebeš B
END:VEVENT
BEGIN:VEVENT
UID:38666336-3566-4662-b866-323132626231
DTSTAMP:20260425T132954Z
DESCRIPTION:3/16 TJ Sokol Pouchov - TK Loko HK 3:0 (19\,22\,21)
DTSTART;TZID=Europe/Berlin:20230912T170000
DTEND;TZID=Europe/Berlin:20230912T190000
LOCATION:TJ Sokol Pouchov K Sokolovně 544/19
SUMMARY:H-M-1: TJ Sokol Pouchov-TK Loko HK
END:VEVENT
BEGIN:VEVENT
UID:35313864-3036-4634-b930-356139343862
DTSTAMP:20260425T132954Z
DESCRIPTION:5/27 TJ Sokol Pouchov - TJ Sokol Stěžery A 0:3 (-23\,-19\,-16)
DTSTART;TZID=Europe/Berlin:20230919T170000
DTEND;TZID=Europe/Berlin:20230919T190000
LOCATION:TJ Sokol Pouchov K Sokolovně 544/19
SUMMARY:H-M-1: TJ Sokol Pouchov-TJ Sokol Stěžery A
END:VEVENT
BEGIN:VEVENT
UID:30326238-3366-4764-a338-346666336636
DTSTAMP:20260425T132954Z
DESCRIPTION:7/38 TJ Sokol Pouchov - TJ Sokol Malšovice\, z.s. 0:3 (-19\,-17
 \,-07)
DTSTART;TZID=Europe/Berlin:20230926T170000
DTEND;TZID=Europe/Berlin:20230926T190000
LOCATION:TJ Sokol Pouchov K Sokolovně 544/19
SUMMARY:H-M-1: TJ Sokol Pouchov-TJ Sokol Malšovice\, z.s.
END:VEVENT
BEGIN:VEVENT
UID:35633764-3938-4861-b935-323732373765
DTSTAMP:20260425T132954Z
DESCRIPTION:10/60 TJ Sokol Pouchov - TJ Sokol Chlumec n/C 3:0 (15\,19\,10)
DTSTART;TZID=Europe/Berlin:20231010T163000
DTEND;TZID=Europe/Berlin:20231010T183000
LOCATION:TJ Sokol Pouchov K Sokolovně 544/19
SUMMARY:H-M-1: TJ Sokol Pouchov-TJ Sokol Chlumec n/C
END:VEVENT
BEGIN:VEVENT
UID:65663663-3163-4931-a366-323437303863
DTSTAMP:20260425T132954Z
DESCRIPTION:13/75 TJ Sokol Pouchov - VK Lhota pod Libčany 0:3 (-16\,-16\,-2
 5)
DTSTART;TZID=Europe/Berlin:20240514T173000
DTEND;TZID=Europe/Berlin:20240514T193000
LOCATION:TJ Sokol Pouchov K Sokolovně 544/19
SUMMARY:H-M-1: TJ Sokol Pouchov-VK Lhota pod Libčany
END:VEVENT
BEGIN:VEVENT
UID:62336537-3032-4333-b562-636235666435
DTSTAMP:20260425T132954Z
DESCRIPTION:15/88 TJ Sokol Pouchov - TJ Slavia HK 0:3 (-20\,-20\,-19)
DTSTART;TZID=Europe/Berlin:20240521T173000
DTEND;TZID=Europe/Berlin:20240521T193000
LOCATION:TJ Sokol Pouchov K Sokolovně 544/19
SUMMARY:H-M-1: TJ Sokol Pouchov-TJ Slavia HK
END:VEVENT
BEGIN:VEVENT
UID:31346262-6531-4563-b733-396561653330
DTSTAMP:20260425T132954Z
DESCRIPTION:17/101 TJ Sokol Pouchov - Tělovýchovná jednota Sokol Třebeš\, z
 .s. 0:3 (-23\,-19\,-21)
DTSTART;TZID=Europe/Berlin:20240528T173000
DTEND;TZID=Europe/Berlin:20240528T193000
LOCATION:TJ Sokol Pouchov K Sokolovně 544/19
SUMMARY:H-M-1: TJ Sokol Pouchov-Tělovýchovná jednota Sokol Třebeš\, z.s.
END:VEVENT
BEGIN:VEVENT
UID:36323137-3136-4463-a262-633865333736
DTSTAMP:20260425T132954Z
DESCRIPTION:19/114 TJ Sokol Pouchov - TJ Sokol Slezské Předměstí 0:3 (-25\,
 -21\,-19)
DTSTART;TZID=Europe/Berlin:20240604T173000
DTEND;TZID=Europe/Berlin:20240604T193000
LOCATION:TJ Sokol Pouchov K Sokolovně 544/19
SUMMARY:H-M-1: TJ Sokol Pouchov-TJ Sokol Slezské Předměstí
END:VEVENT
BEGIN:VEVENT
UID:30353766-6165-4536-b639-333564336134
DTSTAMP:20260425T132954Z
DESCRIPTION:22/128 TJ Sokol Pouchov - TJ Sokol Stěžery B 3:0 (20\,22\,18)
DTSTART;TZID=Europe/Berlin:20240613T173000
DTEND;TZID=Europe/Berlin:20240613T193000
LOCATION:TJ Sokol Pouchov K Sokolovně 544/19
SUMMARY:H-M-1: TJ Sokol Pouchov-TJ Sokol Stěžery B
END:VEVENT
BEGIN:VEVENT
UID:37376233-6335-4435-a434-646131303065
DTSTAMP:20260425T132954Z
DESCRIPTION:2/9 VK Lhota pod Libčany - TJ Sokol Pouchov 3:1 (-21\,16\,12\,2
 7)
DTSTART;TZID=Europe/Berlin:20230907T170000
DTEND;TZID=Europe/Berlin:20230907T190000
LOCATION:Hřiště Lhota pod Libčany (areál Sokola) - tertan Lhota pod Libčany
  50
SUMMARY:H-M-1: VK Lhota pod Libčany-TJ Sokol Pouchov
END:VEVENT
BEGIN:VEVENT
UID:66366332-3061-4065-b633-623530613539
DTSTAMP:20260425T132954Z
DESCRIPTION:4/22 TJ Slavia HK - TJ Sokol Pouchov 3:0 (12\,20\,9)
DTSTART;TZID=Europe/Berlin:20230914T170000
DTEND;TZID=Europe/Berlin:20230914T190000
LOCATION:VK HK Farářství
SUMMARY:H-M-1: TJ Slavia HK-TJ Sokol Pouchov
END:VEVENT
BEGIN:VEVENT
UID:33616564-3831-4337-a533-303739373136
DTSTAMP:20260425T132954Z
DESCRIPTION:6/35 Tělovýchovná jednota Sokol Třebeš\, z.s. - TJ Sokol Poucho
 v 3:1 (19\,-22\,21\,20)
DTSTART;TZID=Europe/Berlin:20231017T193000
DTEND;TZID=Europe/Berlin:20231017T213000
LOCATION:Sportovní hala Technické služby Hradec Králové Školská 734/8\, Tře
 beš\, Hradec Králové 50011
SUMMARY:H-M-1: Tělovýchovná jednota Sokol Třebeš\, z.s.-TJ Sokol Pouchov
END:VEVENT
BEGIN:VEVENT
UID:35653663-3664-4631-b335-366564346238
DTSTAMP:20260425T132954Z
DESCRIPTION:8/48 TJ Sokol Slezské Předměstí - TJ Sokol Pouchov 3:0 (20\,25\
 ,19)
DTSTART;TZID=Europe/Berlin:20231003T163000
DTEND;TZID=Europe/Berlin:20231003T183000
LOCATION:Háječek Topolová 1153\, Hradec Králové
SUMMARY:H-M-1: TJ Sokol Slezské Předměstí-TJ Sokol Pouchov
END:VEVENT
BEGIN:VEVENT
UID:33303432-6238-4265-a639-326135333839
DTSTAMP:20260425T132954Z
DESCRIPTION:11/62 TJ Sokol Stěžery B - TJ Sokol Pouchov 2:3 (-22\,21\,-16\,
 16\,-8)
DTSTART;TZID=Europe/Berlin:20240507T173000
DTEND;TZID=Europe/Berlin:20240507T193000
LOCATION:Stěžery Stěžery
SUMMARY:H-M-1: TJ Sokol Stěžery B-TJ Sokol Pouchov
END:VEVENT
BEGIN:VEVENT
UID:32363361-3633-4862-a234-613966623964
DTSTAMP:20260425T132954Z
DESCRIPTION:12/71 TJ Sokol Třebeš B - TJ Sokol Pouchov X:3
DTSTART;TZID=Europe/Berlin:20240509T173000
DTEND;TZID=Europe/Berlin:20240509T193000
LOCATION:Sportovní hala Technické služby Hradec Králové Školská 734/8
SUMMARY:H-M-1: TJ Sokol Třebeš B-TJ Sokol Pouchov
END:VEVENT
BEGIN:VEVENT
UID:34333366-6230-4939-b735-396631366464
DTSTAMP:20260425T132954Z
DESCRIPTION:14/82 TK Loko HK - TJ Sokol Pouchov 3:1 (14\,-23\,19\,11)
DTSTART;TZID=Europe/Berlin:20240516T173000
DTEND;TZID=Europe/Berlin:20240516T193000
LOCATION:TK Lokomotiva HK - dříve Gruba U nemocnice \, 50002 Hradec Králové
SUMMARY:H-M-1: TK Loko HK-TJ Sokol Pouchov
END:VEVENT
BEGIN:VEVENT
UID:39353262-3662-4136-b930-353139646566
DTSTAMP:20260425T132954Z
DESCRIPTION:16/93 TJ Sokol Stěžery A - TJ Sokol Pouchov 3:1 (-23\,20\,11\,1
 7)\nDohoda družstev
DTSTART;TZID=Europe/Berlin:20240618T173000
DTEND;TZID=Europe/Berlin:20240618T193000
LOCATION:Stěžery Zámecká 28\, 503 21 Stěžery
SUMMARY:H-M-1: TJ Sokol Stěžery A-TJ Sokol Pouchov
END:VEVENT
BEGIN:VEVENT
UID:30316432-6434-4430-b633-336231386439
DTSTAMP:20260425T132954Z
DESCRIPTION:18/104 TJ Sokol Malšovice\, z.s. - TJ Sokol Pouchov 3:0 (10\,10
 \,11)
DTSTART;TZID=Europe/Berlin:20240530T173000
DTEND;TZID=Europe/Berlin:20240530T193000
LOCATION:Sportovní 422 Sportovní 422
SUMMARY:H-M-1: TJ Sokol Malšovice\, z.s.-TJ Sokol Pouchov
END:VEVENT
BEGIN:VEVENT
UID:35623066-6133-4539-b264-613537623664
DTSTAMP:20260425T132954Z
DESCRIPTION:21/126 TJ Sokol Chlumec n/C - TJ Sokol Pouchov 3:0 (14\,18\,20)
DTSTART;TZID=Europe/Berlin:20240611T173000
DTEND;TZID=Europe/Berlin:20240611T193000
LOCATION:Kozelkova Kozelkova
SUMMARY:H-M-1: TJ Sokol Chlumec n/C-TJ Sokol Pouchov
END:VEVENT
END:VCALENDAR
