BEGIN:VCALENDAR
VERSION:2.0
PRODID:-//Volejbalová akademie mládeže Olomouc84223//NONSGML kigkonsult.se iCalcreator 2.41.80//
CALSCALE:GREGORIAN
UID:38663834-3531-4130-b634-346432313830
BEGIN:VEVENT
UID:62373364-3665-4364-a364-353738383864
DTSTAMP:20260422T202305Z
DESCRIPTION:2/2 VAM Olomouc - TJ Šternberk B 2:0 (9\,16)\nKURT2
DTSTART;TZID=Europe/Berlin:20230930T100000
DTEND;TZID=Europe/Berlin:20230930T120000
LOCATION:Městská sportovní hala\, Petřivalského 2884 Přerov - Přerov I-Měst
 o
SUMMARY:OLK-U16Z-KD: VAM Olomouc-TJ Šternberk B
END:VEVENT
BEGIN:VEVENT
UID:64666337-3439-4162-a364-383661623363
DTSTAMP:20260422T202305Z
DESCRIPTION:4/4 VAM Olomouc - Volejbal Přerov B 2:0 (4\,19)\nKURT2
DTSTART;TZID=Europe/Berlin:20230930T110000
DTEND;TZID=Europe/Berlin:20230930T130000
LOCATION:Městská sportovní hala\, Petřivalského 2884 Přerov - Přerov I-Měst
 o
SUMMARY:OLK-U16Z-KD: VAM Olomouc-Volejbal Přerov B
END:VEVENT
BEGIN:VEVENT
UID:30373632-6132-4738-a632-366462376138
DTSTAMP:20260422T202305Z
DESCRIPTION:5/5 SK Kojetín - VAM Olomouc 0:2 (-14\,-20)\nKURT1
DTSTART;TZID=Europe/Berlin:20230930T120000
DTEND;TZID=Europe/Berlin:20230930T140000
LOCATION:Městská sportovní hala\, Petřivalského 2884 Přerov - Přerov I-Měst
 o
SUMMARY:OLK-U16Z-KD: SK Kojetín-VAM Olomouc
END:VEVENT
BEGIN:VEVENT
UID:30633862-3930-4366-b433-613964353364
DTSTAMP:20260422T202305Z
DESCRIPTION:2/3 VAM Olomouc - UP Olomouc 2:1 (18\,-20\,13)\nKurt B
DTSTART;TZID=Europe/Berlin:20231007T123000
DTEND;TZID=Europe/Berlin:20231007T143000
LOCATION:Národní sportovní centrum\, Za velodromem 4187 Prostějov
SUMMARY:OLK-U16Z-1A: VAM Olomouc-UP Olomouc
END:VEVENT
BEGIN:VEVENT
UID:38623264-3338-4031-b430-636462383936
DTSTAMP:20260422T202305Z
DESCRIPTION:1/1 VK Prostějov A - VAM Olomouc 2:0 (18\,23)\nKurt A
DTSTART;TZID=Europe/Berlin:20231007T113000
DTEND;TZID=Europe/Berlin:20231007T133000
LOCATION:Národní sportovní centrum\, Za velodromem 4187 Prostějov
SUMMARY:OLK-U16Z-1A: VK Prostějov A-VAM Olomouc
END:VEVENT
BEGIN:VEVENT
UID:38393566-3364-4233-b166-653032616264
DTSTAMP:20260422T202305Z
DESCRIPTION:3/5 Volejbal Přerov A - VAM Olomouc 1:2 (-19\,21\,-9)\nKurt B
DTSTART;TZID=Europe/Berlin:20231007T133000
DTEND;TZID=Europe/Berlin:20231007T153000
LOCATION:Národní sportovní centrum\, Za velodromem 4187 Prostějov
SUMMARY:OLK-U16Z-1A: Volejbal Přerov A-VAM Olomouc
END:VEVENT
BEGIN:VEVENT
UID:39373262-3965-4537-a530-633837613138
DTSTAMP:20260422T202305Z
DESCRIPTION:3/6 VAM Olomouc - VK Prostějov A 0:2 (-19\,-19)\nKurt A
DTSTART;TZID=Europe/Berlin:20231021T150000
DTEND;TZID=Europe/Berlin:20231021T170000
LOCATION:Národní sportovní centrum\, Za velodromem 4187 Prostějov
SUMMARY:OLK-U16Z-2A: VAM Olomouc-VK Prostějov A
END:VEVENT
BEGIN:VEVENT
UID:61666537-3033-4034-b830-333266323430
DTSTAMP:20260422T202305Z
DESCRIPTION:1/2 UP Olomouc - VAM Olomouc 2:0 (24\,22)\nKurt B
DTSTART;TZID=Europe/Berlin:20231021T130000
DTEND;TZID=Europe/Berlin:20231021T150000
LOCATION:Národní sportovní centrum\, Za velodromem 4187 Prostějov
SUMMARY:OLK-U16Z-2A: UP Olomouc-VAM Olomouc
END:VEVENT
BEGIN:VEVENT
UID:61333862-6633-4563-b731-316234613533
DTSTAMP:20260422T202305Z
DESCRIPTION:2/3 Volejbal Přerov B - VAM Olomouc 0:2 (-11\,-18)\nKurt B
DTSTART;TZID=Europe/Berlin:20231021T140000
DTEND;TZID=Europe/Berlin:20231021T160000
LOCATION:Národní sportovní centrum\, Za velodromem 4187 Prostějov
SUMMARY:OLK-U16Z-2A: Volejbal Přerov B-VAM Olomouc
END:VEVENT
BEGIN:VEVENT
UID:30376136-3865-4530-a439-663961316663
DTSTAMP:20260422T202305Z
DESCRIPTION:3/5 VAM Olomouc - VK Prostějov A 2:1 (-22\,23\,10)\nKurt 3
DTSTART;TZID=Europe/Berlin:20231111T113000
DTEND;TZID=Europe/Berlin:20231111T133000
LOCATION:Městská sportovní hala\, Petřivalského 2884 Přerov - Přerov I-Měst
 o
SUMMARY:OLK-U16Z-3A: VAM Olomouc-VK Prostějov A
END:VEVENT
BEGIN:VEVENT
UID:61663538-6664-4164-b166-643130383135
DTSTAMP:20260422T202305Z
DESCRIPTION:1/2 UP Olomouc - VAM Olomouc 2:0 (18\,19)\nKurt 1
DTSTART;TZID=Europe/Berlin:20231111T090000
DTEND;TZID=Europe/Berlin:20231111T110000
LOCATION:Městská sportovní hala\, Petřivalského 2884 Přerov - Přerov I-Měst
 o
SUMMARY:OLK-U16Z-3A: UP Olomouc-VAM Olomouc
END:VEVENT
BEGIN:VEVENT
UID:30636639-3938-4539-a434-653661346664
DTSTAMP:20260422T202305Z
DESCRIPTION:2/3 Volejbal Přerov A - VAM Olomouc 2:0 (23\,15)\nKurt 3
DTSTART;TZID=Europe/Berlin:20231111T101500
DTEND;TZID=Europe/Berlin:20231111T121500
LOCATION:Městská sportovní hala\, Petřivalského 2884 Přerov - Přerov I-Měst
 o
SUMMARY:OLK-U16Z-3A: Volejbal Přerov A-VAM Olomouc
END:VEVENT
BEGIN:VEVENT
UID:39623264-6235-4465-a365-373031313766
DTSTAMP:20260422T202305Z
DESCRIPTION:3/3 VAM Olomouc - Volejbal Přerov A 2:1 (21\,-17\,16)
DTSTART;TZID=Europe/Berlin:20231125T110000
DTEND;TZID=Europe/Berlin:20231125T130000
LOCATION:VOŠ a SPŠE Olomouc\, Božetěchova 755 Olomouc - Hodolany
SUMMARY:OLK-U16Z-4A: VAM Olomouc-Volejbal Přerov A
END:VEVENT
BEGIN:VEVENT
UID:34613431-6664-4361-b161-643062636539
DTSTAMP:20260422T202305Z
DESCRIPTION:1/1 UP Olomouc - VAM Olomouc 2:0 (16\,18)
DTSTART;TZID=Europe/Berlin:20231125T090000
DTEND;TZID=Europe/Berlin:20231125T110000
LOCATION:VOŠ a SPŠE Olomouc\, Božetěchova 755 Olomouc - Hodolany
SUMMARY:OLK-U16Z-4A: UP Olomouc-VAM Olomouc
END:VEVENT
BEGIN:VEVENT
UID:62326630-3033-4166-b838-343161626633
DTSTAMP:20260422T202305Z
DESCRIPTION:5/5 KRS Uničov - VAM Olomouc 1:2 (-18\,22\,-9)
DTSTART;TZID=Europe/Berlin:20231125T130000
DTEND;TZID=Europe/Berlin:20231125T150000
LOCATION:VOŠ a SPŠE Olomouc\, Božetěchova 755 Olomouc - Hodolany
SUMMARY:OLK-U16Z-4A: KRS Uničov-VAM Olomouc
END:VEVENT
BEGIN:VEVENT
UID:61616461-6631-4633-a462-646532613439
DTSTAMP:20260422T202305Z
DESCRIPTION:1/2 VAM Olomouc - Volejbal Přerov A 2:0 (21\,19)\nKurt B
DTSTART;TZID=Europe/Berlin:20231209T090000
DTEND;TZID=Europe/Berlin:20231209T110000
LOCATION:Národní sportovní centrum\, Za velodromem 4187 Prostějov
SUMMARY:OLK-U16Z-5A: VAM Olomouc-Volejbal Přerov A
END:VEVENT
BEGIN:VEVENT
UID:66623837-3038-4631-b336-373339353833
DTSTAMP:20260422T202305Z
DESCRIPTION:3/5 VAM Olomouc - VK Prostějov A 2:0 (24\,21)\nKurt A
DTSTART;TZID=Europe/Berlin:20231209T123000
DTEND;TZID=Europe/Berlin:20231209T143000
LOCATION:Národní sportovní centrum\, Za velodromem 4187 Prostějov
SUMMARY:OLK-U16Z-5A: VAM Olomouc-VK Prostějov A
END:VEVENT
BEGIN:VEVENT
UID:33363232-6634-4039-b632-343166383432
DTSTAMP:20260422T202305Z
DESCRIPTION:2/4 UP Olomouc - VAM Olomouc 2:1 (23\,-23\,8)\nKurt B
DTSTART;TZID=Europe/Berlin:20231209T111500
DTEND;TZID=Europe/Berlin:20231209T131500
LOCATION:Národní sportovní centrum\, Za velodromem 4187 Prostějov
SUMMARY:OLK-U16Z-5A: UP Olomouc-VAM Olomouc
END:VEVENT
BEGIN:VEVENT
UID:35613339-6134-4132-b938-343831353532
DTSTAMP:20260422T202305Z
DESCRIPTION:1/1 VAM Olomouc - Volejbal Přerov B 2:0 (13\,16)\nKurt 3
DTSTART;TZID=Europe/Berlin:20240113T090000
DTEND;TZID=Europe/Berlin:20240113T110000
LOCATION:Městská sportovní hala\, Petřivalského 2884 Přerov - Přerov I-Měst
 o
SUMMARY:OLK-U16Z-6A: VAM Olomouc-Volejbal Přerov B
END:VEVENT
BEGIN:VEVENT
UID:34643837-3664-4639-b434-306132363463
DTSTAMP:20260422T202305Z
DESCRIPTION:2/4 VAM Olomouc - Volejbal Přerov A 1:2 (-19\,17\,-10)\nKurt 1
DTSTART;TZID=Europe/Berlin:20240113T101500
DTEND;TZID=Europe/Berlin:20240113T121500
LOCATION:Městská sportovní hala\, Petřivalského 2884 Přerov - Přerov I-Měst
 o
SUMMARY:OLK-U16Z-6A: VAM Olomouc-Volejbal Přerov A
END:VEVENT
BEGIN:VEVENT
UID:64303438-6130-4136-b838-623534366630
DTSTAMP:20260422T202305Z
DESCRIPTION:3/5 UP Olomouc - VAM Olomouc 2:0 (15\,14)\nKurt 3
DTSTART;TZID=Europe/Berlin:20240113T113000
DTEND;TZID=Europe/Berlin:20240113T133000
LOCATION:Městská sportovní hala\, Petřivalského 2884 Přerov - Přerov I-Měst
 o
SUMMARY:OLK-U16Z-6A: UP Olomouc-VAM Olomouc
END:VEVENT
BEGIN:VEVENT
UID:32613133-3434-4539-a664-636161393662
DTSTAMP:20260422T202305Z
DESCRIPTION:2/2 VAM Olomouc - Volejbal Přerov A 2:0 (13\,14)
DTSTART;TZID=Europe/Berlin:20240120T100000
DTEND;TZID=Europe/Berlin:20240120T120000
LOCATION:tělocvična\, U Stadionu 849 Uničov
SUMMARY:OLK-U16Z-7A: VAM Olomouc-Volejbal Přerov A
END:VEVENT
BEGIN:VEVENT
UID:32663831-3033-4662-a237-613166613238
DTSTAMP:20260422T202305Z
DESCRIPTION:3/3 UP Olomouc - VAM Olomouc 2:0 (25\,14)
DTSTART;TZID=Europe/Berlin:20240120T110000
DTEND;TZID=Europe/Berlin:20240120T130000
LOCATION:tělocvična\, U Stadionu 849 Uničov
SUMMARY:OLK-U16Z-7A: UP Olomouc-VAM Olomouc
END:VEVENT
BEGIN:VEVENT
UID:33613139-6230-4235-b861-323438353538
DTSTAMP:20260422T202305Z
DESCRIPTION:6/6 KRS Uničov - VAM Olomouc 0:2 (-21\,-17)
DTSTART;TZID=Europe/Berlin:20240120T140000
DTEND;TZID=Europe/Berlin:20240120T160000
LOCATION:tělocvična\, U Stadionu 849 Uničov
SUMMARY:OLK-U16Z-7A: KRS Uničov-VAM Olomouc
END:VEVENT
BEGIN:VEVENT
UID:65393366-6666-4638-a665-663561363565
DTSTAMP:20260422T202305Z
DESCRIPTION:1/2 VAM Olomouc - Volejbal Přerov A 2:0 (17\,21)\nKurt 1
DTSTART;TZID=Europe/Berlin:20240203T090000
DTEND;TZID=Europe/Berlin:20240203T110000
LOCATION:Městská sportovní hala\, Petřivalského 2884 Přerov - Přerov I-Měst
 o
SUMMARY:OLK-U16Z-8A: VAM Olomouc-Volejbal Přerov A
END:VEVENT
BEGIN:VEVENT
UID:37363264-6166-4130-a635-623434313764
DTSTAMP:20260422T202305Z
DESCRIPTION:3/5 VAM Olomouc - VK Prostějov A 2:0 (16\,21)\nKurt 3
DTSTART;TZID=Europe/Berlin:20240203T113000
DTEND;TZID=Europe/Berlin:20240203T133000
LOCATION:Městská sportovní hala\, Petřivalského 2884 Přerov - Přerov I-Měst
 o
SUMMARY:OLK-U16Z-8A: VAM Olomouc-VK Prostějov A
END:VEVENT
BEGIN:VEVENT
UID:37373837-6663-4639-a339-313637623433
DTSTAMP:20260422T202305Z
DESCRIPTION:2/4 UP Olomouc - VAM Olomouc 2:1 (20\,-20\,11)\nKurt 3
DTSTART;TZID=Europe/Berlin:20240203T101500
DTEND;TZID=Europe/Berlin:20240203T121500
LOCATION:Městská sportovní hala\, Petřivalského 2884 Přerov - Přerov I-Měst
 o
SUMMARY:OLK-U16Z-8A: UP Olomouc-VAM Olomouc
END:VEVENT
BEGIN:VEVENT
UID:64303764-6662-4532-b936-656366623135
DTSTAMP:20260422T202305Z
DESCRIPTION:3/3 VAM Olomouc - TJ Šternberk A 2:0 (24\,14)
DTSTART;TZID=Europe/Berlin:20240224T110000
DTEND;TZID=Europe/Berlin:20240224T130000
LOCATION:Letní tělocvična\, Za velodromem 4205 Prostějov
SUMMARY:OLK-U16Z-9A: VAM Olomouc-TJ Šternberk A
END:VEVENT
BEGIN:VEVENT
UID:62633766-3635-4235-b463-346165383761
DTSTAMP:20260422T202305Z
DESCRIPTION:5/5 VAM Olomouc - UP Olomouc 2:1 (18\,-22\,13)
DTSTART;TZID=Europe/Berlin:20240224T130000
DTEND;TZID=Europe/Berlin:20240224T150000
LOCATION:Letní tělocvična\, Za velodromem 4205 Prostějov
SUMMARY:OLK-U16Z-9A: VAM Olomouc-UP Olomouc
END:VEVENT
BEGIN:VEVENT
UID:64373631-6232-4836-b462-613331346530
DTSTAMP:20260422T202305Z
DESCRIPTION:1/1 VK Prostějov A - VAM Olomouc 2:1 (-23\,23\,8)
DTSTART;TZID=Europe/Berlin:20240224T090000
DTEND;TZID=Europe/Berlin:20240224T110000
LOCATION:Letní tělocvična\, Za velodromem 4205 Prostějov
SUMMARY:OLK-U16Z-9A: VK Prostějov A-VAM Olomouc
END:VEVENT
BEGIN:VEVENT
UID:31626363-3261-4365-b864-343833653161
DTSTAMP:20260422T202305Z
DESCRIPTION:1/2 VAM Olomouc - UP Olomouc 1:2 (24\,-22\,-9)\nKurt B
DTSTART;TZID=Europe/Berlin:20240323T090000
DTEND;TZID=Europe/Berlin:20240323T110000
LOCATION:Národní sportovní centrum\, Za velodromem 4187 Prostějov
SUMMARY:OLK-U16Z-10A: VAM Olomouc-UP Olomouc
END:VEVENT
BEGIN:VEVENT
UID:62373665-3663-4464-b138-323433346263
DTSTAMP:20260422T202305Z
DESCRIPTION:3/5 VAM Olomouc - Volejbal Přerov A 2:0 (23\,21)\nKurt B
DTSTART;TZID=Europe/Berlin:20240323T130000
DTEND;TZID=Europe/Berlin:20240323T150000
LOCATION:Národní sportovní centrum\, Za velodromem 4187 Prostějov
SUMMARY:OLK-U16Z-10A: VAM Olomouc-Volejbal Přerov A
END:VEVENT
BEGIN:VEVENT
UID:30316463-3862-4531-a431-663462313565
DTSTAMP:20260422T202305Z
DESCRIPTION:2/4 VK Prostějov A - VAM Olomouc 1:2 (-12\,15\,-9)\nKurt A
DTSTART;TZID=Europe/Berlin:20240323T110000
DTEND;TZID=Europe/Berlin:20240323T130000
LOCATION:Národní sportovní centrum\, Za velodromem 4187 Prostějov
SUMMARY:OLK-U16Z-10A: VK Prostějov A-VAM Olomouc
END:VEVENT
BEGIN:VEVENT
UID:30623132-3631-4531-b964-346430646662
DTSTAMP:20260422T202305Z
DESCRIPTION:2/5 VAM Olomouc - Břeclav 2:0 (17\,17)
DTSTART;TZID=Europe/Berlin:20240420T104500
DTEND;TZID=Europe/Berlin:20240420T124500
LOCATION:ZŠ Dolní Břežany\, Na Vršku 290 Dolní Břežany
SUMMARY:MCR-U16Z-A: VAM Olomouc-Břeclav
END:VEVENT
BEGIN:VEVENT
UID:33316664-6362-4933-a362-623331643961
DTSTAMP:20260422T202305Z
DESCRIPTION:4/11 VAM Olomouc - Ostrava 0:2 (-18\,-20)
DTSTART;TZID=Europe/Berlin:20240420T131500
DTEND;TZID=Europe/Berlin:20240420T151500
LOCATION:ZŠ Dolní Břežany\, Na Vršku 290 Dolní Břežany
SUMMARY:MCR-U16Z-A: VAM Olomouc-Ostrava
END:VEVENT
BEGIN:VEVENT
UID:66623430-3732-4665-b566-353062313765
DTSTAMP:20260422T202305Z
DESCRIPTION:8/20 VAM Olomouc - Uherské Hradiště 2:0 (22\,18)
DTSTART;TZID=Europe/Berlin:20240421T101500
DTEND;TZID=Europe/Berlin:20240421T121500
LOCATION:ZŠ Dolní Břežany\, Na Vršku 290 Dolní Břežany
SUMMARY:MCR-U16Z-A: VAM Olomouc-Uherské Hradiště
END:VEVENT
BEGIN:VEVENT
UID:34613666-3934-4732-b766-653965613463
DTSTAMP:20260422T202305Z
DESCRIPTION:3/8 Lanškroun - VAM Olomouc 2:0 (8\,21)
DTSTART;TZID=Europe/Berlin:20240420T120000
DTEND;TZID=Europe/Berlin:20240420T140000
LOCATION:ZŠ Dolní Břežany\, Na Vršku 290 Dolní Břežany
SUMMARY:MCR-U16Z-A: Lanškroun-VAM Olomouc
END:VEVENT
BEGIN:VEVENT
UID:39303938-3430-4161-b666-313761303638
DTSTAMP:20260422T202305Z
DESCRIPTION:6/16 Jihlava - VAM Olomouc 2:0 (15\,17)
DTSTART;TZID=Europe/Berlin:20240420T154500
DTEND;TZID=Europe/Berlin:20240420T174500
LOCATION:ZŠ Dolní Břežany\, Na Vršku 290 Dolní Břežany
SUMMARY:MCR-U16Z-A: Jihlava-VAM Olomouc
END:VEVENT
BEGIN:VEVENT
UID:32383733-6637-4930-b562-383937643733
DTSTAMP:20260422T202305Z
DESCRIPTION:9/23 Orion Praha - VAM Olomouc 2:0 (12\,16)
DTSTART;TZID=Europe/Berlin:20240421T113000
DTEND;TZID=Europe/Berlin:20240421T133000
LOCATION:ZŠ Dolní Břežany\, Na Vršku 290 Dolní Břežany
SUMMARY:MCR-U16Z-A: Orion Praha-VAM Olomouc
END:VEVENT
BEGIN:VEVENT
UID:34356134-3763-4233-a330-316133383266
DTSTAMP:20260422T202305Z
DESCRIPTION:10/27 Děčín - VAM Olomouc 2:0 (14\,19)
DTSTART;TZID=Europe/Berlin:20240421T124500
DTEND;TZID=Europe/Berlin:20240421T144500
LOCATION:ZŠ Dolní Břežany\, Na Vršku 290 Dolní Břežany
SUMMARY:MCR-U16Z-A: Děčín-VAM Olomouc
END:VEVENT
END:VCALENDAR
