BEGIN:VCALENDAR
VERSION:2.0
PRODID:-//SK PROSEK B84240//NONSGML kigkonsult.se iCalcreator 2.41.80//
CALSCALE:GREGORIAN
UID:30613663-6631-4935-a335-326238386339
BEGIN:VEVENT
UID:39623936-3764-4763-b833-353933316137
DTSTAMP:20260422T085213Z
DESCRIPTION:3/3 SK PROSEK B - SK Meteor Praha 1:2 (-19\,19\,-6)
DTSTART;TZID=Europe/Berlin:20231014T133000
DTEND;TZID=Europe/Berlin:20231014T153000
LOCATION:SH SK Prosek\, Lovosická 559 Praha - Letňany
SUMMARY:CP-U16M-Z1C: SK PROSEK B-SK Meteor Praha
END:VEVENT
BEGIN:VEVENT
UID:34313666-6239-4232-b162-636461343837
DTSTAMP:20260422T085213Z
DESCRIPTION:1/1 Sokol Mn. Hradiště - SK PROSEK B 2:0 (12\,13)
DTSTART;TZID=Europe/Berlin:20231014T113000
DTEND;TZID=Europe/Berlin:20231014T133000
LOCATION:Sportovní hala BIOS\, Sokolovská 254 Mnichovo Hradiště
SUMMARY:CP-U16M-Z1C: Sokol Mn. Hradiště-SK PROSEK B
END:VEVENT
BEGIN:VEVENT
UID:31373034-3138-4233-b465-623637393330
DTSTAMP:20260422T085213Z
DESCRIPTION:5/5 VK Lvi Praha A - SK PROSEK B 2:0 (17\,11)
DTSTART;TZID=Europe/Berlin:20231014T153000
DTEND;TZID=Europe/Berlin:20231014T173000
LOCATION:FZŠ Brdičkova\, Brdičkova 1878 Praha - Stodůlky
SUMMARY:CP-U16M-Z1C: VK Lvi Praha A-SK PROSEK B
END:VEVENT
BEGIN:VEVENT
UID:35656365-3665-4431-b834-646233383563
DTSTAMP:20260422T085213Z
DESCRIPTION:1/1 SK PROSEK B - VK Lvi Praha B 2:0 (22\,25)
DTSTART;TZID=Europe/Berlin:20231015T100000
DTEND;TZID=Europe/Berlin:20231015T120000
LOCATION:SH SK Prosek\, Lovosická 559 Praha - Letňany
SUMMARY:CP-U16M-Z1N: SK PROSEK B-VK Lvi Praha B
END:VEVENT
BEGIN:VEVENT
UID:64623134-3439-4031-b137-326562376162
DTSTAMP:20260422T085213Z
DESCRIPTION:2/2 SK Volejbal Klatovy - SK PROSEK B 0:2 (-9\,-15)
DTSTART;TZID=Europe/Berlin:20231015T110000
DTEND;TZID=Europe/Berlin:20231015T130000
LOCATION:Sportovní hala ZŠ Čapkova\, Čapkova 136 Klatovy - Klatovy V
SUMMARY:CP-U16M-Z1N: SK Volejbal Klatovy-SK PROSEK B
END:VEVENT
BEGIN:VEVENT
UID:39663333-3562-4937-a533-363863653039
DTSTAMP:20260422T085213Z
DESCRIPTION:2/10 SK PROSEK B - Nová Paka 0:2 (-24\,-25)\nN1-O1
DTSTART;TZID=Europe/Berlin:20231015T140000
DTEND;TZID=Europe/Berlin:20231015T160000
LOCATION:SH SK Prosek\, Lovosická 559 Praha - Letňany
SUMMARY:CP-U16M-Z1UMIS: SK PROSEK B-Nová Paka
END:VEVENT
BEGIN:VEVENT
UID:63356164-6332-4931-b630-373538663337
DTSTAMP:20260422T085213Z
DESCRIPTION:1/1 SK PROSEK B - VK České Budějovice B 1:2 (22\,-17\,-12)
DTSTART;TZID=Europe/Berlin:20231118T100000
DTEND;TZID=Europe/Berlin:20231118T120000
LOCATION:SH SK Prosek\, Lovosická 559 Praha - Letňany
SUMMARY:CP-U16M-Z2C: SK PROSEK B-VK České Budějovice B
END:VEVENT
BEGIN:VEVENT
UID:66653362-6564-4533-b063-663635333766
DTSTAMP:20260422T085213Z
DESCRIPTION:6/11 SK PROSEK B - TJ Lokomotiva Česká Lípa\, z.s. 0:2 (-16\,-1
 3)
DTSTART;TZID=Europe/Berlin:20231118T150000
DTEND;TZID=Europe/Berlin:20231118T170000
LOCATION:SH SK Prosek\, Lovosická 559 Praha - Letňany
SUMMARY:CP-U16M-Z2C: SK PROSEK B-TJ Lokomotiva Česká Lípa\, z.s.
END:VEVENT
BEGIN:VEVENT
UID:38316339-6465-4132-a165-343638663531
DTSTAMP:20260422T085213Z
DESCRIPTION:10/20 SK PROSEK B - VK Dukla Liberec 0:2 (-14\,-18)
DTSTART;TZID=Europe/Berlin:20231119T100000
DTEND;TZID=Europe/Berlin:20231119T120000
LOCATION:SH SK Prosek\, Lovosická 559 Praha - Letňany
SUMMARY:CP-U16M-Z2C: SK PROSEK B-VK Dukla Liberec
END:VEVENT
BEGIN:VEVENT
UID:30376666-3833-4734-b733-663936353666
DTSTAMP:20260422T085213Z
DESCRIPTION:14/28 SK PROSEK B - Nová Paka 2:1 (-21\,24\,8)
DTSTART;TZID=Europe/Berlin:20231119T140000
DTEND;TZID=Europe/Berlin:20231119T160000
LOCATION:SH SK Prosek\, Lovosická 559 Praha - Letňany
SUMMARY:CP-U16M-Z2C: SK PROSEK B-Nová Paka
END:VEVENT
BEGIN:VEVENT
UID:34643735-3431-4965-b734-633639336438
DTSTAMP:20260422T085213Z
DESCRIPTION:3/6 Plzeň - SK PROSEK B 1:2 (25\,-23\,-13)
DTSTART;TZID=Europe/Berlin:20231118T120000
DTEND;TZID=Europe/Berlin:20231118T140000
LOCATION:Bolevecká základní škola ( 18.ZŠ)\, náměstí Odboje 550 Plzeň - Bol
 evec
SUMMARY:CP-U16M-Z2C: Plzeň-SK PROSEK B
END:VEVENT
BEGIN:VEVENT
UID:33323231-3130-4464-a266-643239343433
DTSTAMP:20260422T085213Z
DESCRIPTION:7/14 VK Lvi Praha B - SK PROSEK B 0:2 (-15\,-13)
DTSTART;TZID=Europe/Berlin:20231118T160000
DTEND;TZID=Europe/Berlin:20231118T180000
LOCATION:FZŠ Brdičkova\, Brdičkova 1878 Praha - Stodůlky
SUMMARY:CP-U16M-Z2C: VK Lvi Praha B-SK PROSEK B
END:VEVENT
BEGIN:VEVENT
UID:36643338-3031-4331-a535-366232346561
DTSTAMP:20260422T085213Z
DESCRIPTION:12/23 SK Volejbal Klatovy - SK PROSEK B 0:2 (-13\,-9)
DTSTART;TZID=Europe/Berlin:20231119T120000
DTEND;TZID=Europe/Berlin:20231119T140000
LOCATION:Sportovní hala ZŠ Čapkova\, Čapkova 136 Klatovy - Klatovy V
SUMMARY:CP-U16M-Z2C: SK Volejbal Klatovy-SK PROSEK B
END:VEVENT
BEGIN:VEVENT
UID:61616631-6636-4233-a664-346131333264
DTSTAMP:20260422T085213Z
DESCRIPTION:1/2 SK PROSEK B - SK Volejbal Klatovy 2:0 (20\,19)
DTSTART;TZID=Europe/Berlin:20231202T100000
DTEND;TZID=Europe/Berlin:20231202T120000
LOCATION:SH SK Prosek\, Lovosická 559 Praha - Letňany
SUMMARY:CP-U16M-Z3C: SK PROSEK B-SK Volejbal Klatovy
END:VEVENT
BEGIN:VEVENT
UID:30636363-3063-4462-a663-313339366430
DTSTAMP:20260422T085213Z
DESCRIPTION:8/15 SK PROSEK B - Plzeň 2:X
DTSTART;TZID=Europe/Berlin:20231202T170000
DTEND;TZID=Europe/Berlin:20231202T190000
LOCATION:SH SK Prosek\, Lovosická 559 Praha - Letňany
SUMMARY:CP-U16M-Z3C: SK PROSEK B-Plzeň
END:VEVENT
BEGIN:VEVENT
UID:32643930-3233-4565-b234-303964373839
DTSTAMP:20260422T085213Z
DESCRIPTION:12/24 SK PROSEK B - AERO Odolena Voda 0:2 (-15\,-15)
DTSTART;TZID=Europe/Berlin:20231203T120000
DTEND;TZID=Europe/Berlin:20231203T140000
LOCATION:SH SK Prosek\, Lovosická 559 Praha - Letňany
SUMMARY:CP-U16M-Z3C: SK PROSEK B-AERO Odolena Voda
END:VEVENT
BEGIN:VEVENT
UID:37316263-3137-4165-b535-396533653863
DTSTAMP:20260422T085213Z
DESCRIPTION:3/5 VK České Budějovice B - SK PROSEK B 2:0 (13\,16)
DTSTART;TZID=Europe/Berlin:20231202T120000
DTEND;TZID=Europe/Berlin:20231202T140000
LOCATION:ZŠ Oskara Nedbala České Budějovice\, O. Nedbala 882 České Budějovi
 ce - České Budějovice 2
SUMMARY:CP-U16M-Z3C: VK České Budějovice B-SK PROSEK B
END:VEVENT
BEGIN:VEVENT
UID:31613963-3732-4538-b438-643764393466
DTSTAMP:20260422T085213Z
DESCRIPTION:5/10 Nová Paka - SK PROSEK B 2:0 (16\,18)
DTSTART;TZID=Europe/Berlin:20231202T140000
DTEND;TZID=Europe/Berlin:20231202T160000
LOCATION:ZŠ Husitská\, O. Číly 1933 Nová Paka
SUMMARY:CP-U16M-Z3C: Nová Paka-SK PROSEK B
END:VEVENT
BEGIN:VEVENT
UID:32666333-3866-4039-b530-323131613463
DTSTAMP:20260422T085213Z
DESCRIPTION:10/20 VK Lvi Praha B - SK PROSEK B 0:2 (-18\,-17)
DTSTART;TZID=Europe/Berlin:20231203T100000
DTEND;TZID=Europe/Berlin:20231203T120000
LOCATION:FZŠ Brdičkova\, Brdičkova 1878 Praha - Stodůlky
SUMMARY:CP-U16M-Z3C: VK Lvi Praha B-SK PROSEK B
END:VEVENT
BEGIN:VEVENT
UID:36386164-3634-4733-a632-383937353639
DTSTAMP:20260422T085213Z
DESCRIPTION:13/25 Tělovýchovná jednota Jiskra Nový Bor\, z.s. - SK PROSEK B
  2:0 (17\,18)
DTSTART;TZID=Europe/Berlin:20231203T130000
DTEND;TZID=Europe/Berlin:20231203T150000
LOCATION:Sportovní hala Františka Arnošta Nový Bor\, U hřiště 1391 Nový Bor
SUMMARY:CP-U16M-Z3C: Tělovýchovná jednota Jiskra Nový Bor\, z.s.-SK PROSEK 
 B
END:VEVENT
BEGIN:VEVENT
UID:65393539-3630-4539-b439-353562313932
DTSTAMP:20260422T085213Z
DESCRIPTION:2/4 SK PROSEK B - SK Volejbal Klatovy 2:0 (5\,17)
DTSTART;TZID=Europe/Berlin:20240120T100000
DTEND;TZID=Europe/Berlin:20240120T120000
LOCATION:SH SK Prosek\, Lovosická 559 Praha - Letňany
SUMMARY:CP-U16M-4E: SK PROSEK B-SK Volejbal Klatovy
END:VEVENT
BEGIN:VEVENT
UID:32343061-3663-4336-a132-303361303038
DTSTAMP:20260422T085213Z
DESCRIPTION:3/6 SK PROSEK B - Beach club Zlín\, z.s. 1:2 (20\,-19\,-8)
DTSTART;TZID=Europe/Berlin:20240120T110000
DTEND;TZID=Europe/Berlin:20240120T130000
LOCATION:SH SK Prosek\, Lovosická 559 Praha - Letňany
SUMMARY:CP-U16M-4E: SK PROSEK B-Beach club Zlín\, z.s.
END:VEVENT
BEGIN:VEVENT
UID:38663437-3436-4437-b764-343432336361
DTSTAMP:20260422T085213Z
DESCRIPTION:8/16 SK PROSEK B - Plzeň 0:2 (-22\,-21)
DTSTART;TZID=Europe/Berlin:20240120T160000
DTEND;TZID=Europe/Berlin:20240120T180000
LOCATION:SH SK Prosek\, Lovosická 559 Praha - Letňany
SUMMARY:CP-U16M-4E: SK PROSEK B-Plzeň
END:VEVENT
BEGIN:VEVENT
UID:33656232-3533-4936-b262-303033383833
DTSTAMP:20260422T085213Z
DESCRIPTION:5/10 Blue Ostrava - SK PROSEK B 1:2 (24\,-22\,-15)
DTSTART;TZID=Europe/Berlin:20240120T130000
DTEND;TZID=Europe/Berlin:20240120T150000
LOCATION:Sportovní hala Nová Bělá\, Krmelínská 750 Ostrava - Nová Bělá
SUMMARY:CP-U16M-4E: Blue Ostrava-SK PROSEK B
END:VEVENT
BEGIN:VEVENT
UID:33663333-6236-4830-a264-383965303935
DTSTAMP:20260422T085213Z
DESCRIPTION:10/20 VK Lvi Praha B - SK PROSEK B 2:1 (-15\,22\,11)
DTSTART;TZID=Europe/Berlin:20240120T180000
DTEND;TZID=Europe/Berlin:20240120T200000
LOCATION:FZŠ Brdičkova\, Brdičkova 1878 Praha - Stodůlky
SUMMARY:CP-U16M-4E: VK Lvi Praha B-SK PROSEK B
END:VEVENT
BEGIN:VEVENT
UID:62383563-3762-4132-b130-396234636435
DTSTAMP:20260422T085213Z
DESCRIPTION:13/25 VK České Budějovice B - SK PROSEK B 0:2 (-23\,-19)
DTSTART;TZID=Europe/Berlin:20240121T110000
DTEND;TZID=Europe/Berlin:20240121T130000
LOCATION:ZŠ Oskara Nedbala České Budějovice\, O. Nedbala 882 České Budějovi
 ce - České Budějovice 2
SUMMARY:CP-U16M-4E: VK České Budějovice B-SK PROSEK B
END:VEVENT
BEGIN:VEVENT
UID:32616163-6130-4665-a539-346434366639
DTSTAMP:20260422T085213Z
DESCRIPTION:14/27 Volejbalový sportovní klub Český Krumlov z.s. - SK PROSEK
  B 2:1 (-23\,16\,8)
DTSTART;TZID=Europe/Berlin:20240121T120000
DTEND;TZID=Europe/Berlin:20240121T140000
LOCATION:ZŠ Za Nádražím Český Krumlov\, Za Nádražím 222 Český Krumlov - Nád
 ražní Předměstí
SUMMARY:CP-U16M-4E: Volejbalový sportovní klub Český Krumlov z.s.-SK PROSEK
  B
END:VEVENT
BEGIN:VEVENT
UID:35636634-6239-4834-a666-646639323734
DTSTAMP:20260422T085213Z
DESCRIPTION:2/3 SK PROSEK B - TJ Lokomotiva Česká Lípa\, z.s. 2:0 (20\,20)
DTSTART;TZID=Europe/Berlin:20240210T103000
DTEND;TZID=Europe/Berlin:20240210T123000
LOCATION:SH SK Prosek\, Lovosická 559 Praha - Letňany
SUMMARY:CP-U16M-5E: SK PROSEK B-TJ Lokomotiva Česká Lípa\, z.s.
END:VEVENT
BEGIN:VEVENT
UID:33393163-3935-4364-b932-643034326630
DTSTAMP:20260422T085213Z
DESCRIPTION:6/12 SK PROSEK B - SK Volejbal Klatovy 2:0 (9\,17)
DTSTART;TZID=Europe/Berlin:20240210T143000
DTEND;TZID=Europe/Berlin:20240210T163000
LOCATION:SH SK Prosek\, Lovosická 559 Praha - Letňany
SUMMARY:CP-U16M-5E: SK PROSEK B-SK Volejbal Klatovy
END:VEVENT
BEGIN:VEVENT
UID:30326637-3432-4631-a161-356339363365
DTSTAMP:20260422T085213Z
DESCRIPTION:9/18 SK PROSEK B - Tělovýchovná jednota Jiskra Nový Bor\, z.s. 
 1:2 (23\,-20\,-13)
DTSTART;TZID=Europe/Berlin:20240211T090000
DTEND;TZID=Europe/Berlin:20240211T110000
LOCATION:SH SK Prosek\, Lovosická 559 Praha - Letňany
SUMMARY:CP-U16M-5E: SK PROSEK B-Tělovýchovná jednota Jiskra Nový Bor\, z.s.
END:VEVENT
BEGIN:VEVENT
UID:30303236-6264-4333-b030-313163633564
DTSTAMP:20260422T085213Z
DESCRIPTION:4/8 VK Lvi Praha B - SK PROSEK B 2:0 (22\,17)
DTSTART;TZID=Europe/Berlin:20240210T123000
DTEND;TZID=Europe/Berlin:20240210T143000
LOCATION:FZŠ Brdičkova\, Brdičkova 1878 Praha - Stodůlky
SUMMARY:CP-U16M-5E: VK Lvi Praha B-SK PROSEK B
END:VEVENT
BEGIN:VEVENT
UID:31316537-6166-4131-b137-663463643631
DTSTAMP:20260422T085213Z
DESCRIPTION:8/15 Blue Ostrava - SK PROSEK B 2:0 (16\,20)
DTSTART;TZID=Europe/Berlin:20240210T163000
DTEND;TZID=Europe/Berlin:20240210T183000
LOCATION:Sportovní hala Nová Bělá\, Krmelínská 750 Ostrava - Nová Bělá
SUMMARY:CP-U16M-5E: Blue Ostrava-SK PROSEK B
END:VEVENT
BEGIN:VEVENT
UID:38343633-3837-4163-b037-376439633835
DTSTAMP:20260422T085213Z
DESCRIPTION:11/21 VK České Budějovice B - SK PROSEK B 2:0 (20\,22)
DTSTART;TZID=Europe/Berlin:20240211T110000
DTEND;TZID=Europe/Berlin:20240211T130000
LOCATION:ZŠ Oskara Nedbala České Budějovice\, O. Nedbala 882 České Budějovi
 ce - České Budějovice 2
SUMMARY:CP-U16M-5E: VK České Budějovice B-SK PROSEK B
END:VEVENT
BEGIN:VEVENT
UID:35653832-6431-4065-b139-316662623133
DTSTAMP:20260422T085213Z
DESCRIPTION:14/28 Volejbalový sportovní klub Český Krumlov z.s. - SK PROSEK
  B 2:1 (17\,-23\,18)
DTSTART;TZID=Europe/Berlin:20240211T140000
DTEND;TZID=Europe/Berlin:20240211T160000
LOCATION:ZŠ Za Nádražím Český Krumlov\, Za Nádražím 222 Český Krumlov - Nád
 ražní Předměstí
SUMMARY:CP-U16M-5E: Volejbalový sportovní klub Český Krumlov z.s.-SK PROSEK
  B
END:VEVENT
BEGIN:VEVENT
UID:62636331-3330-4330-a466-336133666331
DTSTAMP:20260422T085213Z
DESCRIPTION:4/7 SK PROSEK B - TJ Lokomotiva Česká Lípa\, z.s. 2:1 (21\,-19\
 ,13)
DTSTART;TZID=Europe/Berlin:20240316T130000
DTEND;TZID=Europe/Berlin:20240316T150000
LOCATION:SH SK Prosek\, Lovosická 559 Praha - Letňany
SUMMARY:CP-U16M-6H: SK PROSEK B-TJ Lokomotiva Česká Lípa\, z.s.
END:VEVENT
BEGIN:VEVENT
UID:35346363-3864-4331-b164-383065633464
DTSTAMP:20260422T085213Z
DESCRIPTION:8/16 SK PROSEK B - Nová Paka 1:2 (-22\,19\,-7)
DTSTART;TZID=Europe/Berlin:20240316T170000
DTEND;TZID=Europe/Berlin:20240316T190000
LOCATION:SH SK Prosek\, Lovosická 559 Praha - Letňany
SUMMARY:CP-U16M-6H: SK PROSEK B-Nová Paka
END:VEVENT
BEGIN:VEVENT
UID:37353735-3663-4435-a330-616435623132
DTSTAMP:20260422T085213Z
DESCRIPTION:11/22 SK PROSEK B - SK Volejbal Klatovy 2:0 (10\,16)
DTSTART;TZID=Europe/Berlin:20240317T110000
DTEND;TZID=Europe/Berlin:20240317T130000
LOCATION:SH SK Prosek\, Lovosická 559 Praha - Letňany
SUMMARY:CP-U16M-6H: SK PROSEK B-SK Volejbal Klatovy
END:VEVENT
BEGIN:VEVENT
UID:61653837-3963-4437-a235-633262326434
DTSTAMP:20260422T085213Z
DESCRIPTION:14/27 SK PROSEK B - VK České Budějovice B 2:0 (18\,15)
DTSTART;TZID=Europe/Berlin:20240317T130000
DTEND;TZID=Europe/Berlin:20240317T150000
LOCATION:SH SK Prosek\, Lovosická 559 Praha - Letňany
SUMMARY:CP-U16M-6H: SK PROSEK B-VK České Budějovice B
END:VEVENT
BEGIN:VEVENT
UID:61626239-3235-4762-b865-306335613130
DTSTAMP:20260422T085213Z
DESCRIPTION:1/2 Volejbalový sportovní klub Český Krumlov z.s. - SK PROSEK B
  0:2 (-15\,-21)
DTSTART;TZID=Europe/Berlin:20240316T100000
DTEND;TZID=Europe/Berlin:20240316T120000
LOCATION:ZŠ Za Nádražím Český Krumlov\, Za Nádražím 222 Český Krumlov - Nád
 ražní Předměstí
SUMMARY:CP-U16M-6H: Volejbalový sportovní klub Český Krumlov z.s.-SK PROSEK
  B
END:VEVENT
BEGIN:VEVENT
UID:38346438-6235-4365-a266-393034306634
DTSTAMP:20260422T085213Z
DESCRIPTION:6/12 Plzeň - SK PROSEK B 1:2 (22\,-19\,-13)
DTSTART;TZID=Europe/Berlin:20240316T150000
DTEND;TZID=Europe/Berlin:20240316T170000
LOCATION:Bolevecká základní škola ( 18.ZŠ)\, náměstí Odboje 550 Plzeň - Bol
 evec
SUMMARY:CP-U16M-6H: Plzeň-SK PROSEK B
END:VEVENT
BEGIN:VEVENT
UID:38656662-6565-4530-b932-653135313761
DTSTAMP:20260422T085213Z
DESCRIPTION:10/19 VK Lvi Praha B - SK PROSEK B 0:2 (-12\,-14)
DTSTART;TZID=Europe/Berlin:20240317T100000
DTEND;TZID=Europe/Berlin:20240317T120000
LOCATION:FZŠ Brdičkova\, Brdičkova 1878 Praha - Stodůlky
SUMMARY:CP-U16M-6H: VK Lvi Praha B-SK PROSEK B
END:VEVENT
END:VCALENDAR
