BEGIN:VCALENDAR
VERSION:2.0
PRODID:-//Volejbalová akademie mládeže Havířov, z.s.84248//NONSGML kigkonsult.se iCalcreator 2.41.80//
CALSCALE:GREGORIAN
UID:30363433-3463-4361-a466-366139396431
BEGIN:VEVENT
UID:35396132-6265-4862-a433-646231336631
DTSTAMP:20260425T153001Z
DESCRIPTION:2/6 Volejbalová akademie mládeže Havířov\, z.s. - TJ Kunčičky\,
  spolek 2:3 (-16\,-16\,18\,25\,-12)
DTSTART;TZID=Europe/Berlin:20231004T183000
DTEND;TZID=Europe/Berlin:20231004T203000
LOCATION:Sportovní hala Žákovská\, Komunardů 1548 Havířov - Město
SUMMARY:OV-M: Volejbalová akademie mládeže Havířov\, z.s.-TJ Kunčičky\, spo
 lek
END:VEVENT
BEGIN:VEVENT
UID:65633931-3237-4136-b063-643038633137
DTSTAMP:20260425T153001Z
DESCRIPTION:4/16 Volejbalová akademie mládeže Havířov\, z.s. - Šenov 3:1 (1
 3\,16\,-24\,10)
DTSTART;TZID=Europe/Berlin:20231114T184500
DTEND;TZID=Europe/Berlin:20231114T204500
LOCATION:Sportovní hala Žákovská\, Komunardů 1548 Havířov - Město
SUMMARY:OV-M: Volejbalová akademie mládeže Havířov\, z.s.-Šenov
END:VEVENT
BEGIN:VEVENT
UID:30363961-3336-4564-b366-663231336363
DTSTAMP:20260425T153002Z
DESCRIPTION:6/26 Volejbalová akademie mládeže Havířov\, z.s. - SK Zálom Ost
 rava - Zábřeh 3:0 (24\,18\,19)
DTSTART;TZID=Europe/Berlin:20231030T184500
DTEND;TZID=Europe/Berlin:20231030T204500
LOCATION:Sportovní hala Žákovská\, Komunardů 1548 Havířov - Město
SUMMARY:OV-M: Volejbalová akademie mládeže Havířov\, z.s.-SK Zálom Ostrava 
 - Zábřeh
END:VEVENT
BEGIN:VEVENT
UID:32316339-6238-4165-b762-353334333465
DTSTAMP:20260425T153002Z
DESCRIPTION:8/36 Volejbalová akademie mládeže Havířov\, z.s. - TJ Sokol Sta
 rá Bělá 0:3 (-13\,-15\,-13)
DTSTART;TZID=Europe/Berlin:20231121T184500
DTEND;TZID=Europe/Berlin:20231121T204500
LOCATION:Sportovní hala Žákovská\, Komunardů 1548 Havířov - Město
SUMMARY:OV-M: Volejbalová akademie mládeže Havířov\, z.s.-TJ Sokol Stará Bě
 lá
END:VEVENT
BEGIN:VEVENT
UID:63366262-3434-4466-b033-333336623061
DTSTAMP:20260425T153002Z
DESCRIPTION:10/46 Volejbalová akademie mládeže Havířov\, z.s. - TJ Sokol Sv
 inov 1:3 (23\,-11\,-22\,-17)
DTSTART;TZID=Europe/Berlin:20240208T191500
DTEND;TZID=Europe/Berlin:20240208T211500
LOCATION:Sportovní hala Žákovská\, Komunardů 1548 Havířov - Město
SUMMARY:OV-M: Volejbalová akademie mládeže Havířov\, z.s.-TJ Sokol Svinov
END:VEVENT
BEGIN:VEVENT
UID:33653635-3930-4835-a466-623735303761
DTSTAMP:20260425T153002Z
DESCRIPTION:12/56 Volejbalová akademie mládeže Havířov\, z.s. - VK Polanka 
 nad Odrou\, z.s. 3:2 (16\,-15\,-13\,19\,14)
DTSTART;TZID=Europe/Berlin:20240223T181500
DTEND;TZID=Europe/Berlin:20240223T201500
LOCATION:Sportovní hala Žákovská\, Komunardů 1548 Havířov - Město
SUMMARY:OV-M: Volejbalová akademie mládeže Havířov\, z.s.-VK Polanka nad Od
 rou\, z.s.
END:VEVENT
BEGIN:VEVENT
UID:37636634-3233-4432-b639-343530373432
DTSTAMP:20260425T153002Z
DESCRIPTION:14/66 Volejbalová akademie mládeže Havířov\, z.s. - VŠB - TU Os
 trava B 1:3 (-19\,-21\,23\,-17)
DTSTART;TZID=Europe/Berlin:20240307T192000
DTEND;TZID=Europe/Berlin:20240307T212000
LOCATION:Sportovní hala Žákovská\, Komunardů 1548 Havířov - Město
SUMMARY:OV-M: Volejbalová akademie mládeže Havířov\, z.s.-VŠB - TU Ostrava 
 B
END:VEVENT
BEGIN:VEVENT
UID:30653731-6238-4330-a431-623734626266
DTSTAMP:20260425T153002Z
DESCRIPTION:16/76 Volejbalová akademie mládeže Havířov\, z.s. - SOU Ostrava
  1:3 (-19\,23\,-23\,-20)
DTSTART;TZID=Europe/Berlin:20240319T174500
DTEND;TZID=Europe/Berlin:20240319T194500
LOCATION:Sportovní hala Žákovská\, Komunardů 1548 Havířov - Město
SUMMARY:OV-M: Volejbalová akademie mládeže Havířov\, z.s.-SOU Ostrava
END:VEVENT
BEGIN:VEVENT
UID:35626264-6366-4064-b232-666139313330
DTSTAMP:20260425T153002Z
DESCRIPTION:18/86 Volejbalová akademie mládeže Havířov\, z.s. - TJ Sokol Bo
 humín 3:1 (23\,-19\,33\,17)
DTSTART;TZID=Europe/Berlin:20240416T180000
DTEND;TZID=Europe/Berlin:20240416T200000
LOCATION:Sportovní hala Žákovská\, Komunardů 1548 Havířov - Město
SUMMARY:OV-M: Volejbalová akademie mládeže Havířov\, z.s.-TJ Sokol Bohumín
END:VEVENT
BEGIN:VEVENT
UID:36313265-3365-4666-b564-653633343965
DTSTAMP:20260425T153002Z
DESCRIPTION:1/1 TJ Sokol Svinov - Volejbalová akademie mládeže Havířov\, z.
 s. 2:3 (-24\,19\,-14\,22\,-18)
DTSTART;TZID=Europe/Berlin:20230921T191500
DTEND;TZID=Europe/Berlin:20230921T211500
LOCATION:MH Svinov\, Stanislavského 1270 Ostrava - Svinov
SUMMARY:OV-M: TJ Sokol Svinov-Volejbalová akademie mládeže Havířov\, z.s.
END:VEVENT
BEGIN:VEVENT
UID:39333736-6364-4565-a439-366463396339
DTSTAMP:20260425T153002Z
DESCRIPTION:3/11 VK Polanka nad Odrou\, z.s. - Volejbalová akademie mládeže
  Havířov\, z.s. 3:0 (17\,13\,19)
DTSTART;TZID=Europe/Berlin:20231013T181500
DTEND;TZID=Europe/Berlin:20231013T201500
LOCATION:Sportovní hala\, Heleny Salichové 1275 Ostrava - Polanka nad Odrou
SUMMARY:OV-M: VK Polanka nad Odrou\, z.s.-Volejbalová akademie mládeže Haví
 řov\, z.s.
END:VEVENT
BEGIN:VEVENT
UID:63633563-6434-4334-b562-396339303666
DTSTAMP:20260425T153002Z
DESCRIPTION:5/21 VŠB - TU Ostrava B - Volejbalová akademie mládeže Havířov\
 , z.s. 3:0 (18\,15\,20)
DTSTART;TZID=Europe/Berlin:20231026T192000
DTEND;TZID=Europe/Berlin:20231026T212000
LOCATION:Sportovní hala VŠB-TUO\, Studentská 6175 Ostrava - Poruba
SUMMARY:OV-M: VŠB - TU Ostrava B-Volejbalová akademie mládeže Havířov\, z.s
 .
END:VEVENT
BEGIN:VEVENT
UID:64373132-6165-4035-a632-313239386365
DTSTAMP:20260425T153002Z
DESCRIPTION:7/31 SOU Ostrava - Volejbalová akademie mládeže Havířov\, z.s. 
 3:0 (15\,14\,22)
DTSTART;TZID=Europe/Berlin:20231107T174500
DTEND;TZID=Europe/Berlin:20231107T194500
LOCATION:Sokolovna\, Sokolská 290 Vratimov
SUMMARY:OV-M: SOU Ostrava-Volejbalová akademie mládeže Havířov\, z.s.
END:VEVENT
BEGIN:VEVENT
UID:35356239-3730-4432-b366-623061303937
DTSTAMP:20260425T153002Z
DESCRIPTION:9/41 TJ Sokol Bohumín - Volejbalová akademie mládeže Havířov\, 
 z.s. 1:3 (-22\,26\,-16\,-22)
DTSTART;TZID=Europe/Berlin:20231128T200000
DTEND;TZID=Europe/Berlin:20231128T220000
LOCATION:Dům dětí a mládeže Bohumín\, Janáčkova 715 Bohumín - Nový Bohumín
SUMMARY:OV-M: TJ Sokol Bohumín-Volejbalová akademie mládeže Havířov\, z.s.
END:VEVENT
BEGIN:VEVENT
UID:31393933-6534-4835-b938-663766646130
DTSTAMP:20260425T153002Z
DESCRIPTION:11/51 TJ Kunčičky\, spolek - Volejbalová akademie mládeže Havíř
 ov\, z.s. 2:3 (24\,23\,-23\,-21\,-12)
DTSTART;TZID=Europe/Berlin:20240214T183000
DTEND;TZID=Europe/Berlin:20240214T203000
LOCATION:Hala Střední zdravotní školy\, 1. máje 2208 Ostrava - Mariánské Ho
 ry
SUMMARY:OV-M: TJ Kunčičky\, spolek-Volejbalová akademie mládeže Havířov\, z
 .s.
END:VEVENT
BEGIN:VEVENT
UID:62656535-3639-4035-b938-646335353134
DTSTAMP:20260425T153002Z
DESCRIPTION:13/61 Šenov - Volejbalová akademie mládeže Havířov\, z.s. 1:3 (
 -19\,18\,-21\,-19)
DTSTART;TZID=Europe/Berlin:20240227T184500
DTEND;TZID=Europe/Berlin:20240227T204500
LOCATION:Sportovní hala Nová Bělá\, Krmelínská 750 Ostrava - Nová Bělá
SUMMARY:OV-M: Šenov-Volejbalová akademie mládeže Havířov\, z.s.
END:VEVENT
BEGIN:VEVENT
UID:66646263-3365-4432-a236-343363653837
DTSTAMP:20260425T153002Z
DESCRIPTION:15/71 SK Zálom Ostrava - Zábřeh - Volejbalová akademie mládeže 
 Havířov\, z.s. 0:3 (-22\,-18\,-19)
DTSTART;TZID=Europe/Berlin:20240318T184500
DTEND;TZID=Europe/Berlin:20240318T204500
LOCATION:SVČ Zálom Ostrava-Zábřeh\, V Zálomu 2948 Ostrava - Zábřeh
SUMMARY:OV-M: SK Zálom Ostrava - Zábřeh-Volejbalová akademie mládeže Havířo
 v\, z.s.
END:VEVENT
BEGIN:VEVENT
UID:30373534-3432-4431-b434-313666646239
DTSTAMP:20260425T153002Z
DESCRIPTION:17/81 TJ Sokol Stará Bělá - Volejbalová akademie mládeže Havířo
 v\, z.s. 3:0 (25\,12\,16)
DTSTART;TZID=Europe/Berlin:20240409T184500
DTEND;TZID=Europe/Berlin:20240409T204500
LOCATION:Sokolovna TJ Sokol Stará Bělá\, Junácká 6 Ostrava - Stará Bělá
SUMMARY:OV-M: TJ Sokol Stará Bělá-Volejbalová akademie mládeže Havířov\, z.
 s.
END:VEVENT
END:VCALENDAR
