BEGIN:VCALENDAR
VERSION:2.0
PRODID:-//Volejbalový sportovní klub Spartak Děčín z.s.84421//NONSGML kigkonsult.se iCalcreator 2.41.80//
CALSCALE:GREGORIAN
UID:34663436-3736-4565-a462-613039376261
BEGIN:VEVENT
UID:39396565-6564-4539-a164-313034346461
DTSTAMP:20260421T210216Z
DESCRIPTION:1/1 Volejbalový sportovní klub Spartak Děčín z.s. - SK Meteor P
 raha 0:2 (-19\,-14)
DTSTART;TZID=Europe/Berlin:20231021T090000
DTEND;TZID=Europe/Berlin:20231021T110000
LOCATION:SH ZŠ Dr M. Tyrše\, Vrchlického 630 Děčín - Děčín II-Nové Město
SUMMARY:CP-U20Z-B: Volejbalový sportovní klub Spartak Děčín z.s.-SK Meteor 
 Praha
END:VEVENT
BEGIN:VEVENT
UID:34356536-3232-4963-b630-636163323837
DTSTAMP:20260421T210216Z
DESCRIPTION:10/18 Volejbalový sportovní klub Spartak Děčín z.s. - TJ Šumper
 k\, z.s. 2:0 (17\,13)
DTSTART;TZID=Europe/Berlin:20231022T100000
DTEND;TZID=Europe/Berlin:20231022T120000
LOCATION:SH ZŠ Dr M. Tyrše\, Vrchlického 630 Děčín - Děčín II-Nové Město
SUMMARY:CP-U20Z-B: Volejbalový sportovní klub Spartak Děčín z.s.-TJ Šumperk
 \, z.s.
END:VEVENT
BEGIN:VEVENT
UID:66643062-6261-4438-b234-636238663939
DTSTAMP:20260421T210216Z
DESCRIPTION:3/4 SK Třebín - Volejbalový sportovní klub Spartak Děčín z.s. 2
 :0 (17\,20)
DTSTART;TZID=Europe/Berlin:20231021T110000
DTEND;TZID=Europe/Berlin:20231021T130000
LOCATION:ZŠ Máj I\, M. Chlajna 1319 České Budějovice - České Budějovice 2
SUMMARY:CP-U20Z-B: SK Třebín-Volejbalový sportovní klub Spartak Děčín z.s.
END:VEVENT
BEGIN:VEVENT
UID:64373932-3565-4561-a366-623964393437
DTSTAMP:20260421T210216Z
DESCRIPTION:5/8 Loko Plzeň - Volejbalový sportovní klub Spartak Děčín z.s. 
 2:0 (13\,18)
DTSTART;TZID=Europe/Berlin:20231021T130000
DTEND;TZID=Europe/Berlin:20231021T150000
SUMMARY:CP-U20Z-B: Loko Plzeň-Volejbalový sportovní klub Spartak Děčín z.s.
END:VEVENT
BEGIN:VEVENT
UID:31633736-3662-4239-b961-633037613765
DTSTAMP:20260421T210216Z
DESCRIPTION:6/10 VK Jirkov - Volejbalový sportovní klub Spartak Děčín z.s. 
 2:0 (17\,7)
DTSTART;TZID=Europe/Berlin:20231021T140000
DTEND;TZID=Europe/Berlin:20231021T160000
LOCATION:Sportovní hala MG a ZŠ Jirkov\, Krušnohorská 1675 Jirkov
SUMMARY:CP-U20Z-B: VK Jirkov-Volejbalový sportovní klub Spartak Děčín z.s.
END:VEVENT
BEGIN:VEVENT
UID:38393634-3665-4430-a263-663833333263
DTSTAMP:20260421T210216Z
DESCRIPTION:9/16 VK AUSTIN Vsetín z.s. - Volejbalový sportovní klub Spartak
  Děčín z.s. 2:0 (22\,18)
DTSTART;TZID=Europe/Berlin:20231022T090000
DTEND;TZID=Europe/Berlin:20231022T110000
LOCATION:Sportovní hala Na Lapači\, Na Lapači 247 Vsetín - Rokytnice
SUMMARY:CP-U20Z-B: VK AUSTIN Vsetín z.s.-Volejbalový sportovní klub Spartak
  Děčín z.s.
END:VEVENT
BEGIN:VEVENT
UID:31613235-3938-4034-a161-396630623163
DTSTAMP:20260421T210216Z
DESCRIPTION:1/3 Volejbalový sportovní klub Spartak Děčín z.s. - Lokomotiva 
 Fosfa Břeclav 2:0 (22\,21)
DTSTART;TZID=Europe/Berlin:20231209T100000
DTEND;TZID=Europe/Berlin:20231209T120000
LOCATION:SH ZŠ Dr M. Tyrše\, Vrchlického 630 Děčín - Děčín II-Nové Město
SUMMARY:CP-U20Z-1C: Volejbalový sportovní klub Spartak Děčín z.s.-Lokomotiv
 a Fosfa Břeclav
END:VEVENT
BEGIN:VEVENT
UID:61656139-3636-4331-b934-323563343862
DTSTAMP:20260421T210216Z
DESCRIPTION:4/11 Volejbalový sportovní klub Spartak Děčín z.s. - TJ Šumperk
 \, z.s. 2:0 (20\,13)
DTSTART;TZID=Europe/Berlin:20231209T141500
DTEND;TZID=Europe/Berlin:20231209T161500
LOCATION:SH ZŠ Dr M. Tyrše\, Vrchlického 630 Děčín - Děčín II-Nové Město
SUMMARY:CP-U20Z-1C: Volejbalový sportovní klub Spartak Děčín z.s.-TJ Šumper
 k\, z.s.
END:VEVENT
BEGIN:VEVENT
UID:62323466-3463-4363-b365-373931346363
DTSTAMP:20260421T210216Z
DESCRIPTION:5/14 Volejbalový sportovní klub Spartak Děčín z.s. - Volejbal Č
 ervený Kostelec 1:2 (23\,-13\,-8)
DTSTART;TZID=Europe/Berlin:20231209T153000
DTEND;TZID=Europe/Berlin:20231209T173000
LOCATION:SH ZŠ Dr M. Tyrše\, Vrchlického 630 Děčín - Děčín II-Nové Město
SUMMARY:CP-U20Z-1C: Volejbalový sportovní klub Spartak Děčín z.s.-Volejbal 
 Červený Kostelec
END:VEVENT
BEGIN:VEVENT
UID:30346362-6561-4137-b133-373930373565
DTSTAMP:20260421T210216Z
DESCRIPTION:6/17 Volejbalový sportovní klub Spartak Děčín z.s. - Volejbalov
 ý klub Karlovy Vary z.s. 2:0 (17\,20)
DTSTART;TZID=Europe/Berlin:20231210T090000
DTEND;TZID=Europe/Berlin:20231210T110000
LOCATION:SH ZŠ Dr M. Tyrše\, Vrchlického 630 Děčín - Děčín II-Nové Město
SUMMARY:CP-U20Z-1C: Volejbalový sportovní klub Spartak Děčín z.s.-Volejbalo
 vý klub Karlovy Vary z.s.
END:VEVENT
BEGIN:VEVENT
UID:65646166-3631-4331-b433-333939376535
DTSTAMP:20260421T210216Z
DESCRIPTION:3/7 TJ Svitavy\, z.s. - Volejbalový sportovní klub Spartak Děčí
 n z.s. 2:1 (-20\,13\,12)
DTSTART;TZID=Europe/Berlin:20231209T130000
DTEND;TZID=Europe/Berlin:20231209T150000
LOCATION:Sportovní hala Na Střelnici\, Pražská 2162 Svitavy - Předměstí
SUMMARY:CP-U20Z-1C: TJ Svitavy\, z.s.-Volejbalový sportovní klub Spartak Dě
 čín z.s.
END:VEVENT
BEGIN:VEVENT
UID:36616231-6161-4934-b161-653032663465
DTSTAMP:20260421T210216Z
DESCRIPTION:7/19 SAVO Praha - Volejbalový sportovní klub Spartak Děčín z.s.
  1:2 (21\,-17\,-11)
DTSTART;TZID=Europe/Berlin:20231210T101500
DTEND;TZID=Europe/Berlin:20231210T121500
LOCATION:FZŠ Mezi Školami\, Mezi školami 2322 Praha - Stodůlky
SUMMARY:CP-U20Z-1C: SAVO Praha-Volejbalový sportovní klub Spartak Děčín z.s
 .
END:VEVENT
BEGIN:VEVENT
UID:30393334-3932-4134-b064-656233356431
DTSTAMP:20260421T210216Z
DESCRIPTION:4/8 Volejbalový sportovní klub Spartak Děčín z.s. - Tělocvičná 
 jednota Sokol Česká Třebová 0:2 (-19\,-23)
DTSTART;TZID=Europe/Berlin:20240224T120000
DTEND;TZID=Europe/Berlin:20240224T140000
LOCATION:SH ZŠ Dr M. Tyrše\, Vrchlického 630 Děčín - Děčín II-Nové Město
SUMMARY:CP-U20Z-2C: Volejbalový sportovní klub Spartak Děčín z.s.-Tělocvičn
 á jednota Sokol Česká Třebová
END:VEVENT
BEGIN:VEVENT
UID:31653939-3134-4832-b937-643266326564
DTSTAMP:20260421T210216Z
DESCRIPTION:10/19 Volejbalový sportovní klub Spartak Děčín z.s. - SAVO Prah
 a 2:1 (23\,-23\,10)
DTSTART;TZID=Europe/Berlin:20240225T110000
DTEND;TZID=Europe/Berlin:20240225T130000
LOCATION:SH ZŠ Dr M. Tyrše\, Vrchlického 630 Děčín - Děčín II-Nové Město
SUMMARY:CP-U20Z-2C: Volejbalový sportovní klub Spartak Děčín z.s.-SAVO Prah
 a
END:VEVENT
BEGIN:VEVENT
UID:34326332-3965-4439-b833-366134663038
DTSTAMP:20260421T210216Z
DESCRIPTION:11/21 Volejbalový sportovní klub Spartak Děčín z.s. - Jiskra No
 vý Bor 1:2 (19\,-21\,-7)
DTSTART;TZID=Europe/Berlin:20240225T120000
DTEND;TZID=Europe/Berlin:20240225T140000
LOCATION:SH ZŠ Dr M. Tyrše\, Vrchlického 630 Děčín - Děčín II-Nové Město
SUMMARY:CP-U20Z-2C: Volejbalový sportovní klub Spartak Děčín z.s.-Jiskra No
 vý Bor
END:VEVENT
BEGIN:VEVENT
UID:63636462-3232-4935-b135-333164666462
DTSTAMP:20260421T210216Z
DESCRIPTION:1/2 TJ Šumperk\, z.s. - Volejbalový sportovní klub Spartak Děčí
 n z.s. 2:0 (19\,12)
DTSTART;TZID=Europe/Berlin:20240224T090000
DTEND;TZID=Europe/Berlin:20240224T110000
LOCATION:3. ZŠ Šumperk\, 8. května 870 Šumperk
SUMMARY:CP-U20Z-2C: TJ Šumperk\, z.s.-Volejbalový sportovní klub Spartak Dě
 čín z.s.
END:VEVENT
BEGIN:VEVENT
UID:31626439-3436-4564-b866-313561313637
DTSTAMP:20260421T210216Z
DESCRIPTION:3/6 Lokomotiva Fosfa Břeclav - Volejbalový sportovní klub Spart
 ak Děčín z.s. 0:2 (-24\,-20)
DTSTART;TZID=Europe/Berlin:20240224T110000
DTEND;TZID=Europe/Berlin:20240224T130000
LOCATION:TJ Lokomotiva Břeclav\, Veslařská 2753 Břeclav
SUMMARY:CP-U20Z-2C: Lokomotiva Fosfa Břeclav-Volejbalový sportovní klub Spa
 rtak Děčín z.s.
END:VEVENT
BEGIN:VEVENT
UID:35363037-3438-4663-a634-346431393861
DTSTAMP:20260421T210216Z
DESCRIPTION:6/12 Volejbalový klub Karlovy Vary z.s. - Volejbalový sportovní
  klub Spartak Děčín z.s. 0:2 (-17\,-4)
DTSTART;TZID=Europe/Berlin:20240224T140000
DTEND;TZID=Europe/Berlin:20240224T160000
LOCATION:Mattoni Arena Hala míčových sportů\, Západní 1812 Karlovy Vary
SUMMARY:CP-U20Z-2C: Volejbalový klub Karlovy Vary z.s.-Volejbalový sportovn
 í klub Spartak Děčín z.s.
END:VEVENT
BEGIN:VEVENT
UID:33633337-3262-4464-b730-363638386630
DTSTAMP:20260421T210216Z
DESCRIPTION:4/8 Volejbalový sportovní klub Spartak Děčín z.s. - Lokomotiva 
 Fosfa Břeclav 0:2 (-13\,-21)
DTSTART;TZID=Europe/Berlin:20240323T130000
DTEND;TZID=Europe/Berlin:20240323T150000
LOCATION:SH ZŠ Dr M. Tyrše\, Vrchlického 630 Děčín - Děčín II-Nové Město
SUMMARY:CP-U20Z-3C: Volejbalový sportovní klub Spartak Děčín z.s.-Lokomotiv
 a Fosfa Břeclav
END:VEVENT
BEGIN:VEVENT
UID:32663237-6536-4432-b732-343539663263
DTSTAMP:20260421T210216Z
DESCRIPTION:8/16 Volejbalový sportovní klub Spartak Děčín z.s. - Volejbalov
 ý klub Karlovy Vary z.s. 2:0 (20\,19)
DTSTART;TZID=Europe/Berlin:20240324T090000
DTEND;TZID=Europe/Berlin:20240324T110000
LOCATION:SH ZŠ Dr M. Tyrše\, Vrchlického 630 Děčín - Děčín II-Nové Město
SUMMARY:CP-U20Z-3C: Volejbalový sportovní klub Spartak Děčín z.s.-Volejbalo
 vý klub Karlovy Vary z.s.
END:VEVENT
BEGIN:VEVENT
UID:65313336-6263-4063-b536-343130313361
DTSTAMP:20260421T210216Z
DESCRIPTION:9/18 Volejbalový sportovní klub Spartak Děčín z.s. - SAVO Praha
  2:1 (-16\,22\,10)
DTSTART;TZID=Europe/Berlin:20240324T100000
DTEND;TZID=Europe/Berlin:20240324T120000
LOCATION:SH ZŠ Dr M. Tyrše\, Vrchlického 630 Děčín - Děčín II-Nové Město
SUMMARY:CP-U20Z-3C: Volejbalový sportovní klub Spartak Děčín z.s.-SAVO Prah
 a
END:VEVENT
BEGIN:VEVENT
UID:38623237-6236-4435-b437-353131626162
DTSTAMP:20260421T210216Z
DESCRIPTION:1/1 TJ ABC Braník\, z.s. - Volejbalový sportovní klub Spartak D
 ěčín z.s. 2:0 (10\,22)
DTSTART;TZID=Europe/Berlin:20240323T100000
DTEND;TZID=Europe/Berlin:20240323T120000
LOCATION:Sokolovna Braník\, Branická 275 Praha - Braník
SUMMARY:CP-U20Z-3C: TJ ABC Braník\, z.s.-Volejbalový sportovní klub Spartak
  Děčín z.s.
END:VEVENT
BEGIN:VEVENT
UID:34316539-6536-4264-b532-623664323535
DTSTAMP:20260421T210216Z
DESCRIPTION:2/3 TJ Šumperk\, z.s. - Volejbalový sportovní klub Spartak Děčí
 n z.s. 2:1 (14\,-17\,10)
DTSTART;TZID=Europe/Berlin:20240323T110000
DTEND;TZID=Europe/Berlin:20240323T130000
LOCATION:3. ZŠ Šumperk\, 8. května 870 Šumperk
SUMMARY:CP-U20Z-3C: TJ Šumperk\, z.s.-Volejbalový sportovní klub Spartak Dě
 čín z.s.
END:VEVENT
BEGIN:VEVENT
UID:35393534-3735-4066-a664-626464326466
DTSTAMP:20260421T210216Z
DESCRIPTION:5/10 TJ Svitavy\, z.s. - Volejbalový sportovní klub Spartak Děč
 ín z.s. 2:0 (8\,21)
DTSTART;TZID=Europe/Berlin:20240323T140000
DTEND;TZID=Europe/Berlin:20240323T160000
LOCATION:Sportovní hala Na Střelnici\, Pražská 2162 Svitavy - Předměstí
SUMMARY:CP-U20Z-3C: TJ Svitavy\, z.s.-Volejbalový sportovní klub Spartak Dě
 čín z.s.
END:VEVENT
BEGIN:VEVENT
UID:39386230-6662-4662-b737-326666383235
DTSTAMP:20260421T210216Z
DESCRIPTION:4/8 Volejbalový sportovní klub Spartak Děčín z.s. - TJ Bižuteri
 e Jablonec n/N 2:0 (21\,25)
DTSTART;TZID=Europe/Berlin:20240413T120000
DTEND;TZID=Europe/Berlin:20240413T140000
LOCATION:SH ZŠ Dr M. Tyrše\, Vrchlického 630 Děčín - Děčín II-Nové Město
SUMMARY:CP-U20Z-4C: Volejbalový sportovní klub Spartak Děčín z.s.-TJ Bižute
 rie Jablonec n/N
END:VEVENT
BEGIN:VEVENT
UID:61613738-6465-4630-b533-646335393431
DTSTAMP:20260421T210216Z
DESCRIPTION:10/19 Volejbalový sportovní klub Spartak Děčín z.s. - SAVO Prah
 a 2:1 (-23\,23\,10)
DTSTART;TZID=Europe/Berlin:20240414T110000
DTEND;TZID=Europe/Berlin:20240414T130000
LOCATION:SH ZŠ Dr M. Tyrše\, Vrchlického 630 Děčín - Děčín II-Nové Město
SUMMARY:CP-U20Z-4C: Volejbalový sportovní klub Spartak Děčín z.s.-SAVO Prah
 a
END:VEVENT
BEGIN:VEVENT
UID:30396664-3132-4739-b633-386139643161
DTSTAMP:20260421T210216Z
DESCRIPTION:11/21 Volejbalový sportovní klub Spartak Děčín z.s. - Tělovýcho
 vná jednota Jiskra Nový Bor\, z.s. 0:2 (-13\,-23)
DTSTART;TZID=Europe/Berlin:20240414T120000
DTEND;TZID=Europe/Berlin:20240414T140000
LOCATION:SH ZŠ Dr M. Tyrše\, Vrchlického 630 Děčín - Děčín II-Nové Město
SUMMARY:CP-U20Z-4C: Volejbalový sportovní klub Spartak Děčín z.s.-Tělovýcho
 vná jednota Jiskra Nový Bor\, z.s.
END:VEVENT
BEGIN:VEVENT
UID:30616165-3334-4963-a134-313934643433
DTSTAMP:20260421T210216Z
DESCRIPTION:1/2 TJ Šumperk\, z.s. - Volejbalový sportovní klub Spartak Děčí
 n z.s. 0:2 (-23\,-17)
DTSTART;TZID=Europe/Berlin:20240413T090000
DTEND;TZID=Europe/Berlin:20240413T110000
LOCATION:3. ZŠ Šumperk\, 8. května 870 Šumperk
SUMMARY:CP-U20Z-4C: TJ Šumperk\, z.s.-Volejbalový sportovní klub Spartak Dě
 čín z.s.
END:VEVENT
BEGIN:VEVENT
UID:39326130-3234-4665-b739-613133323662
DTSTAMP:20260421T210216Z
DESCRIPTION:3/6 Lokomotiva Fosfa Břeclav - Volejbalový sportovní klub Spart
 ak Děčín z.s. 2:1 (-16\,17\,12)
DTSTART;TZID=Europe/Berlin:20240413T110000
DTEND;TZID=Europe/Berlin:20240413T130000
LOCATION:TJ Lokomotiva Břeclav\, Veslařská 2753 Břeclav
SUMMARY:CP-U20Z-4C: Lokomotiva Fosfa Břeclav-Volejbalový sportovní klub Spa
 rtak Děčín z.s.
END:VEVENT
BEGIN:VEVENT
UID:36393763-3834-4237-b639-626239383039
DTSTAMP:20260421T210216Z
DESCRIPTION:6/12 Volejbalový klub Karlovy Vary z.s. - Volejbalový sportovní
  klub Spartak Děčín z.s. 0:2 (-13\,-13)
DTSTART;TZID=Europe/Berlin:20240413T140000
DTEND;TZID=Europe/Berlin:20240413T160000
LOCATION:Mattoni Arena Hala míčových sportů\, Západní 1812 Karlovy Vary
SUMMARY:CP-U20Z-4C: Volejbalový klub Karlovy Vary z.s.-Volejbalový sportovn
 í klub Spartak Děčín z.s.
END:VEVENT
END:VCALENDAR
