BEGIN:VCALENDAR
VERSION:2.0
PRODID:-//TJ Slavia Hradec Králové84462//NONSGML kigkonsult.se iCalcreator 2.41.80//
CALSCALE:GREGORIAN
UID:66653439-3838-4137-b232-393163643830
BEGIN:VEVENT
UID:62343639-6239-4036-a633-666332616635
DTSTAMP:20260421T224737Z
DESCRIPTION:3/4 TJ Slavia Hradec Králové - BVC Chodov 0:2 (-23\,-25)
DTSTART;TZID=Europe/Berlin:20231021T110000
DTEND;TZID=Europe/Berlin:20231021T130000
LOCATION:TJ Slavia Hradec Králové\, Víta Nejedlého 1216 Hradec Králové
SUMMARY:CP-U20Z-C: TJ Slavia Hradec Králové-BVC Chodov
END:VEVENT
BEGIN:VEVENT
UID:37633066-3063-4763-b464-633632343038
DTSTAMP:20260421T224737Z
DESCRIPTION:6/10 TJ Slavia Hradec Králové - Volejbalový oddíl TJ Lanškroun\
 , z.s. 2:0 (20\,16)
DTSTART;TZID=Europe/Berlin:20231021T140000
DTEND;TZID=Europe/Berlin:20231021T160000
LOCATION:TJ Slavia Hradec Králové\, Víta Nejedlého 1216 Hradec Králové
SUMMARY:CP-U20Z-C: TJ Slavia Hradec Králové-Volejbalový oddíl TJ Lanškroun\
 , z.s.
END:VEVENT
BEGIN:VEVENT
UID:63613832-6561-4938-b835-393732333034
DTSTAMP:20260421T224737Z
DESCRIPTION:8/14 TJ Slavia Hradec Králové - Volejbal Červený Kostelec 2:0 (
 14\,13)
DTSTART;TZID=Europe/Berlin:20231021T160000
DTEND;TZID=Europe/Berlin:20231021T180000
LOCATION:TJ Slavia Hradec Králové\, Víta Nejedlého 1216 Hradec Králové
SUMMARY:CP-U20Z-C: TJ Slavia Hradec Králové-Volejbal Červený Kostelec
END:VEVENT
BEGIN:VEVENT
UID:38356135-6662-4334-b932-613837636433
DTSTAMP:20260421T224737Z
DESCRIPTION:10/18 TJ Slavia Hradec Králové - TJ Bižuterie Jablonec n/N 2:0 
 (18\,16)
DTSTART;TZID=Europe/Berlin:20231022T100000
DTEND;TZID=Europe/Berlin:20231022T120000
LOCATION:TJ Slavia Hradec Králové\, Víta Nejedlého 1216 Hradec Králové
SUMMARY:CP-U20Z-C: TJ Slavia Hradec Králové-TJ Bižuterie Jablonec n/N
END:VEVENT
BEGIN:VEVENT
UID:33336135-3038-4238-b333-643062646135
DTSTAMP:20260421T224737Z
DESCRIPTION:12/21 TJ Slavia Hradec Králové - Tělocvičná jednota Sokol Česká
  Třebová 2:0 (15\,22)
DTSTART;TZID=Europe/Berlin:20231022T120000
DTEND;TZID=Europe/Berlin:20231022T140000
LOCATION:TJ Slavia Hradec Králové\, Víta Nejedlého 1216 Hradec Králové
SUMMARY:CP-U20Z-C: TJ Slavia Hradec Králové-Tělocvičná jednota Sokol Česká 
 Třebová
END:VEVENT
BEGIN:VEVENT
UID:32616630-3735-4335-b865-343531343038
DTSTAMP:20260421T224737Z
DESCRIPTION:1/1 TJ Jičín - TJ Slavia Hradec Králové 1:2 (-16\,20\,-10)
DTSTART;TZID=Europe/Berlin:20231021T090000
DTEND;TZID=Europe/Berlin:20231021T110000
LOCATION:Hala 3. základní školy Jičín\, Poděbradova 18 Jičín - Nové Město
SUMMARY:CP-U20Z-C: TJ Jičín-TJ Slavia Hradec Králové
END:VEVENT
BEGIN:VEVENT
UID:61656530-6264-4265-b437-373830663066
DTSTAMP:20260421T224737Z
DESCRIPTION:2/3 TJ Slavia Hradec Králové - Náchod 0:2 (-17\,-21)
DTSTART;TZID=Europe/Berlin:20231209T101500
DTEND;TZID=Europe/Berlin:20231209T121500
LOCATION:TJ Slavia Hradec Králové\, Víta Nejedlého 1216 Hradec Králové
SUMMARY:CP-U20Z-1A: TJ Slavia Hradec Králové-Náchod
END:VEVENT
BEGIN:VEVENT
UID:38373733-3263-4262-b766-666430346135
DTSTAMP:20260421T224737Z
DESCRIPTION:5/10 TJ Slavia Hradec Králové - VK Prostějov\, spolek 0:2 (-14\
 ,-28)
DTSTART;TZID=Europe/Berlin:20231209T140000
DTEND;TZID=Europe/Berlin:20231209T160000
LOCATION:TJ Slavia Hradec Králové\, Víta Nejedlého 1216 Hradec Králové
SUMMARY:CP-U20Z-1A: TJ Slavia Hradec Králové-VK Prostějov\, spolek
END:VEVENT
BEGIN:VEVENT
UID:64393033-6636-4661-b739-303735333065
DTSTAMP:20260421T224737Z
DESCRIPTION:9/17 TJ Slavia Hradec Králové - SK Třebín 0:2 (-19\,-14)
DTSTART;TZID=Europe/Berlin:20231210T090000
DTEND;TZID=Europe/Berlin:20231210T110000
LOCATION:TJ Slavia Hradec Králové\, Víta Nejedlého 1216 Hradec Králové
SUMMARY:CP-U20Z-1A: TJ Slavia Hradec Králové-SK Třebín
END:VEVENT
BEGIN:VEVENT
UID:34383637-3532-4239-a661-626438353861
DTSTAMP:20260421T224737Z
DESCRIPTION:12/23 TJ Slavia Hradec Králové - BVC Chodov 0:2 (-18\,-21)
DTSTART;TZID=Europe/Berlin:20231210T124500
DTEND;TZID=Europe/Berlin:20231210T144500
LOCATION:TJ Slavia Hradec Králové\, Víta Nejedlého 1216 Hradec Králové
SUMMARY:CP-U20Z-1A: TJ Slavia Hradec Králové-BVC Chodov
END:VEVENT
BEGIN:VEVENT
UID:30303062-6663-4732-a330-376264643262
DTSTAMP:20260421T224737Z
DESCRIPTION:3/5 Volejbal Ústí nad Labem - TJ Slavia Hradec Králové 2:0 (17\
 ,26)
DTSTART;TZID=Europe/Berlin:20231209T113000
DTEND;TZID=Europe/Berlin:20231209T133000
LOCATION:Tělocvična Gymnázia a Střední odborné školy dr. Václava Šmejkala\,
  Stará 3299 Ústí nad Labem - Severní Terasa
SUMMARY:CP-U20Z-1A: Volejbal Ústí nad Labem-TJ Slavia Hradec Králové
END:VEVENT
BEGIN:VEVENT
UID:65363336-3665-4365-a238-316262306334
DTSTAMP:20260421T224737Z
DESCRIPTION:7/14 VK Jirkov - TJ Slavia Hradec Králové 2:0 (19\,19)
DTSTART;TZID=Europe/Berlin:20231209T163000
DTEND;TZID=Europe/Berlin:20231209T183000
LOCATION:Sportovní hala MG a ZŠ Jirkov\, Krušnohorská 1675 Jirkov
SUMMARY:CP-U20Z-1A: VK Jirkov-TJ Slavia Hradec Králové
END:VEVENT
BEGIN:VEVENT
UID:65643937-3137-4932-b835-393763373664
DTSTAMP:20260421T224737Z
DESCRIPTION:11/22 SK Meteor Praha - TJ Slavia Hradec Králové 2:1 (19\,-18\,
 11)
DTSTART;TZID=Europe/Berlin:20231210T113000
DTEND;TZID=Europe/Berlin:20231210T133000
LOCATION:ZŠ Žernosecká\, Žernosecká 1597 Praha - Kobylisy
SUMMARY:CP-U20Z-1A: SK Meteor Praha-TJ Slavia Hradec Králové
END:VEVENT
BEGIN:VEVENT
UID:37373635-6364-4361-a366-656566373262
DTSTAMP:20260421T224737Z
DESCRIPTION:1/2 TJ Slavia Hradec Králové - TJ Svitavy\, z.s. 2:0 (12\,22)
DTSTART;TZID=Europe/Berlin:20240224T093000
DTEND;TZID=Europe/Berlin:20240224T113000
LOCATION:TJ Slavia Hradec Králové\, Víta Nejedlého 1216 Hradec Králové
SUMMARY:CP-U20Z-2B: TJ Slavia Hradec Králové-TJ Svitavy\, z.s.
END:VEVENT
BEGIN:VEVENT
UID:30343631-3465-4263-a561-616364656234
DTSTAMP:20260421T224737Z
DESCRIPTION:3/5 TJ Slavia Hradec Králové - VK AUSTIN Vsetín z.s. 2:0 (23\,1
 7)
DTSTART;TZID=Europe/Berlin:20240224T114500
DTEND;TZID=Europe/Berlin:20240224T134500
LOCATION:TJ Slavia Hradec Králové\, Víta Nejedlého 1216 Hradec Králové
SUMMARY:CP-U20Z-2B: TJ Slavia Hradec Králové-VK AUSTIN Vsetín z.s.
END:VEVENT
BEGIN:VEVENT
UID:33313231-3362-4861-a439-333339666131
DTSTAMP:20260421T224737Z
DESCRIPTION:5/10 TJ Slavia Hradec Králové - Volejbalový oddíl TJ Lanškroun\
 , z.s. 2:0 (23\,20)
DTSTART;TZID=Europe/Berlin:20240224T134500
DTEND;TZID=Europe/Berlin:20240224T154500
LOCATION:TJ Slavia Hradec Králové\, Víta Nejedlého 1216 Hradec Králové
SUMMARY:CP-U20Z-2B: TJ Slavia Hradec Králové-Volejbalový oddíl TJ Lanškroun
 \, z.s.
END:VEVENT
BEGIN:VEVENT
UID:30653132-3436-4137-b166-363639353137
DTSTAMP:20260421T224737Z
DESCRIPTION:8/15 TJ Slavia Hradec Králové - Volejbal Červený Kostelec 1:2 (
 -17\,22\,-13)
DTSTART;TZID=Europe/Berlin:20240224T164500
DTEND;TZID=Europe/Berlin:20240224T184500
LOCATION:TJ Slavia Hradec Králové\, Víta Nejedlého 1216 Hradec Králové
SUMMARY:CP-U20Z-2B: TJ Slavia Hradec Králové-Volejbal Červený Kostelec
END:VEVENT
BEGIN:VEVENT
UID:61616530-3662-4433-b665-343364343861
DTSTAMP:20260421T224737Z
DESCRIPTION:11/23 TJ Slavia Hradec Králové - TJ Bižuterie Jablonec n/N 2:0 
 (22\,13)
DTSTART;TZID=Europe/Berlin:20240225T110000
DTEND;TZID=Europe/Berlin:20240225T130000
LOCATION:TJ Slavia Hradec Králové\, Víta Nejedlého 1216 Hradec Králové
SUMMARY:CP-U20Z-2B: TJ Slavia Hradec Králové-TJ Bižuterie Jablonec n/N
END:VEVENT
BEGIN:VEVENT
UID:62373939-3263-4632-a431-616234366236
DTSTAMP:20260421T224737Z
DESCRIPTION:12/26 TJ Slavia Hradec Králové - SK Třebín 2:1 (-13\,20\,9)
DTSTART;TZID=Europe/Berlin:20240225T120000
DTEND;TZID=Europe/Berlin:20240225T140000
LOCATION:TJ Slavia Hradec Králové\, Víta Nejedlého 1216 Hradec Králové
SUMMARY:CP-U20Z-2B: TJ Slavia Hradec Králové-SK Třebín
END:VEVENT
BEGIN:VEVENT
UID:37643666-3435-4864-a637-346134356365
DTSTAMP:20260421T224737Z
DESCRIPTION:9/18 TJ ABC Braník\, z.s. - TJ Slavia Hradec Králové 0:2 (-15\,
 -12)
DTSTART;TZID=Europe/Berlin:20240225T090000
DTEND;TZID=Europe/Berlin:20240225T110000
LOCATION:Sokolovna Braník\, Branická 275 Praha - Braník
SUMMARY:CP-U20Z-2B: TJ ABC Braník\, z.s.-TJ Slavia Hradec Králové
END:VEVENT
BEGIN:VEVENT
UID:66333533-3761-4638-b235-333635373762
DTSTAMP:20260421T224737Z
DESCRIPTION:3/12 TJ Slavia Hradec Králové - SK Třebín 0:2 (-23\,-24)
DTSTART;TZID=Europe/Berlin:20240323T140000
DTEND;TZID=Europe/Berlin:20240323T160000
LOCATION:TJ Slavia Hradec Králové\, Víta Nejedlého 1216 Hradec Králové
SUMMARY:CP-U20Z-3A: TJ Slavia Hradec Králové-SK Třebín
END:VEVENT
BEGIN:VEVENT
UID:35366133-3030-4163-b238-363039316232
DTSTAMP:20260421T224737Z
DESCRIPTION:1/4 Volejbal Ústí nad Labem - TJ Slavia Hradec Králové 2:1 (-23
 \,19\,9)
DTSTART;TZID=Europe/Berlin:20240323T100000
DTEND;TZID=Europe/Berlin:20240323T120000
LOCATION:Tělocvična Gymnázia a Střední odborné školy dr. Václava Šmejkala\,
  Stará 3299 Ústí nad Labem - Severní Terasa
SUMMARY:CP-U20Z-3A: Volejbal Ústí nad Labem-TJ Slavia Hradec Králové
END:VEVENT
BEGIN:VEVENT
UID:38653934-3165-4663-a631-646339663262
DTSTAMP:20260421T224737Z
DESCRIPTION:2/8 TJ Jičín - TJ Slavia Hradec Králové 1:2 (-22\,19\,-10)
DTSTART;TZID=Europe/Berlin:20240323T120000
DTEND;TZID=Europe/Berlin:20240323T140000
LOCATION:Hala 3. základní školy Jičín\, Poděbradova 18 Jičín - Nové Město
SUMMARY:CP-U20Z-3A: TJ Jičín-TJ Slavia Hradec Králové
END:VEVENT
BEGIN:VEVENT
UID:65623739-6338-4766-b063-633162323266
DTSTAMP:20260421T224737Z
DESCRIPTION:4/16 VK Jirkov - TJ Slavia Hradec Králové 2:1 (-22\,22\,13)
DTSTART;TZID=Europe/Berlin:20240323T160000
DTEND;TZID=Europe/Berlin:20240323T180000
LOCATION:Sportovní hala MG a ZŠ Jirkov\, Krušnohorská 1675 Jirkov
SUMMARY:CP-U20Z-3A: VK Jirkov-TJ Slavia Hradec Králové
END:VEVENT
BEGIN:VEVENT
UID:31303262-3261-4535-a465-363339363838
DTSTAMP:20260421T224737Z
DESCRIPTION:5/20 BVC Chodov - TJ Slavia Hradec Králové 2:1 (20\,-23\,13)
DTSTART;TZID=Europe/Berlin:20240324T090000
DTEND;TZID=Europe/Berlin:20240324T110000
LOCATION:Městská sportovní hala Chodov\, Tyršova 1201 Chodov
SUMMARY:CP-U20Z-3A: BVC Chodov-TJ Slavia Hradec Králové
END:VEVENT
BEGIN:VEVENT
UID:64633563-3632-4036-a562-613139326333
DTSTAMP:20260421T224737Z
DESCRIPTION:6/24 VK Prostějov\, spolek - TJ Slavia Hradec Králové 1:2 (-20\
 ,20\,-8)
DTSTART;TZID=Europe/Berlin:20240324T110000
DTEND;TZID=Europe/Berlin:20240324T130000
LOCATION:Národní sportovní centrum\, Za velodromem 4187 Prostějov
SUMMARY:CP-U20Z-3A: VK Prostějov\, spolek-TJ Slavia Hradec Králové
END:VEVENT
BEGIN:VEVENT
UID:35383038-3237-4533-b564-353566643837
DTSTAMP:20260421T224737Z
DESCRIPTION:7/28 SK Meteor Praha - TJ Slavia Hradec Králové 2:0 (22\,20)
DTSTART;TZID=Europe/Berlin:20240324T130000
DTEND;TZID=Europe/Berlin:20240324T150000
LOCATION:ZŠ Žernosecká\, Žernosecká 1597 Praha - Kobylisy
SUMMARY:CP-U20Z-3A: SK Meteor Praha-TJ Slavia Hradec Králové
END:VEVENT
BEGIN:VEVENT
UID:30623438-3533-4237-a665-656661636161
DTSTAMP:20260421T224737Z
DESCRIPTION:1/3 TJ Slavia Hradec Králové - BVC Chodov 2:0 (13\,19)
DTSTART;TZID=Europe/Berlin:20240413T100000
DTEND;TZID=Europe/Berlin:20240413T120000
LOCATION:TJ Slavia Hradec Králové\, Víta Nejedlého 1216 Hradec Králové
SUMMARY:CP-U20Z-4B: TJ Slavia Hradec Králové-BVC Chodov
END:VEVENT
BEGIN:VEVENT
UID:62333633-6232-4061-b565-333039383436
DTSTAMP:20260421T224737Z
DESCRIPTION:5/13 TJ Slavia Hradec Králové - Tělocvičná jednota Sokol Česká 
 Třebová 2:0 (15\,16)
DTSTART;TZID=Europe/Berlin:20240413T150000
DTEND;TZID=Europe/Berlin:20240413T170000
LOCATION:TJ Slavia Hradec Králové\, Víta Nejedlého 1216 Hradec Králové
SUMMARY:CP-U20Z-4B: TJ Slavia Hradec Králové-Tělocvičná jednota Sokol Česká
  Třebová
END:VEVENT
BEGIN:VEVENT
UID:39343266-6138-4931-b838-623531313861
DTSTAMP:20260421T224737Z
DESCRIPTION:2/5 TJ ABC Braník\, z.s. - TJ Slavia Hradec Králové 0:2 (-15\,-
 13)
DTSTART;TZID=Europe/Berlin:20240413T111500
DTEND;TZID=Europe/Berlin:20240413T131500
LOCATION:Sokolovna Braník\, Branická 275 Praha - Braník
SUMMARY:CP-U20Z-4B: TJ ABC Braník\, z.s.-TJ Slavia Hradec Králové
END:VEVENT
BEGIN:VEVENT
UID:39636162-6537-4132-b538-633633363161
DTSTAMP:20260421T224737Z
DESCRIPTION:4/10 Volejbalový oddíl TJ Lanškroun\, z.s. - TJ Slavia Hradec K
 rálové 0:2 (-13\,-21)
DTSTART;TZID=Europe/Berlin:20240413T134500
DTEND;TZID=Europe/Berlin:20240413T154500
LOCATION:SOŠ a SOU Lanškroun\, Sokolská 288 Lanškroun - Ostrovské Předměstí
SUMMARY:CP-U20Z-4B: Volejbalový oddíl TJ Lanškroun\, z.s.-TJ Slavia Hradec 
 Králové
END:VEVENT
BEGIN:VEVENT
UID:32303331-3136-4632-b462-643061343363
DTSTAMP:20260421T224737Z
DESCRIPTION:8/21 Náchod - TJ Slavia Hradec Králové 2:0 (22\,17)
DTSTART;TZID=Europe/Berlin:20240414T103000
DTEND;TZID=Europe/Berlin:20240414T123000
LOCATION:SPORT KLUB Náchod\, Pražská 696 Náchod
SUMMARY:CP-U20Z-4B: Náchod-TJ Slavia Hradec Králové
END:VEVENT
BEGIN:VEVENT
UID:37643866-6135-4633-a562-656635313230
DTSTAMP:20260421T224737Z
DESCRIPTION:9/23 Volejbal Červený Kostelec - TJ Slavia Hradec Králové 0:2 (
 -16\,-16)
DTSTART;TZID=Europe/Berlin:20240414T120000
DTEND;TZID=Europe/Berlin:20240414T140000
LOCATION:Sportovní hala\, Palackého 1234 Červený Kostelec
SUMMARY:CP-U20Z-4B: Volejbal Červený Kostelec-TJ Slavia Hradec Králové
END:VEVENT
BEGIN:VEVENT
UID:37666535-6134-4631-b630-323836643537
DTSTAMP:20260421T224737Z
DESCRIPTION:10/26 TJ Svitavy\, z.s. - TJ Slavia Hradec Králové 0:2 (-19\,-1
 2)
DTSTART;TZID=Europe/Berlin:20240414T133000
DTEND;TZID=Europe/Berlin:20240414T153000
LOCATION:Sportovní hala Na Střelnici\, Pražská 2162 Svitavy - Předměstí
SUMMARY:CP-U20Z-4B: TJ Svitavy\, z.s.-TJ Slavia Hradec Králové
END:VEVENT
END:VCALENDAR
