BEGIN:VCALENDAR
VERSION:2.0
PRODID:-//VK AUSTIN Vsetín z.s.84468//NONSGML kigkonsult.se iCalcreator 2.41.80//
CALSCALE:GREGORIAN
UID:64336336-3764-4361-b365-663130316132
BEGIN:VEVENT
UID:66363662-6461-4135-a233-326138323266
DTSTAMP:20260422T001301Z
DESCRIPTION:7/12 VK AUSTIN Vsetín z.s. - Loko Plzeň 2:0 (13\,22)
DTSTART;TZID=Europe/Berlin:20231021T150000
DTEND;TZID=Europe/Berlin:20231021T170000
LOCATION:Sportovní hala Na Lapači\, Na Lapači 247 Vsetín - Rokytnice
SUMMARY:CP-U20Z-B: VK AUSTIN Vsetín z.s.-Loko Plzeň
END:VEVENT
BEGIN:VEVENT
UID:32313831-6661-4762-b864-373838356438
DTSTAMP:20260422T001301Z
DESCRIPTION:8/14 VK AUSTIN Vsetín z.s. - TJ Šumperk\, z.s. 2:0 (15\,22)
DTSTART;TZID=Europe/Berlin:20231021T160000
DTEND;TZID=Europe/Berlin:20231021T180000
LOCATION:Sportovní hala Na Lapači\, Na Lapači 247 Vsetín - Rokytnice
SUMMARY:CP-U20Z-B: VK AUSTIN Vsetín z.s.-TJ Šumperk\, z.s.
END:VEVENT
BEGIN:VEVENT
UID:30343038-3536-4464-b462-373735353233
DTSTAMP:20260422T001301Z
DESCRIPTION:9/16 VK AUSTIN Vsetín z.s. - Volejbalový sportovní klub Spartak
  Děčín z.s. 2:0 (22\,18)
DTSTART;TZID=Europe/Berlin:20231022T090000
DTEND;TZID=Europe/Berlin:20231022T110000
LOCATION:Sportovní hala Na Lapači\, Na Lapači 247 Vsetín - Rokytnice
SUMMARY:CP-U20Z-B: VK AUSTIN Vsetín z.s.-Volejbalový sportovní klub Spartak
  Děčín z.s.
END:VEVENT
BEGIN:VEVENT
UID:66666466-3834-4538-b266-636530343635
DTSTAMP:20260422T001301Z
DESCRIPTION:11/19 VK AUSTIN Vsetín z.s. - SK Meteor Praha 1:2 (26\,-18\,-11
 )
DTSTART;TZID=Europe/Berlin:20231022T110000
DTEND;TZID=Europe/Berlin:20231022T130000
LOCATION:Sportovní hala Na Lapači\, Na Lapači 247 Vsetín - Rokytnice
SUMMARY:CP-U20Z-B: VK AUSTIN Vsetín z.s.-SK Meteor Praha
END:VEVENT
BEGIN:VEVENT
UID:34633865-3638-4433-b431-313033353134
DTSTAMP:20260422T001301Z
DESCRIPTION:2/3 VK Jirkov - VK AUSTIN Vsetín z.s. 2:0 (25\,21)
DTSTART;TZID=Europe/Berlin:20231021T100000
DTEND;TZID=Europe/Berlin:20231021T120000
LOCATION:Sportovní hala MG a ZŠ Jirkov\, Krušnohorská 1675 Jirkov
SUMMARY:CP-U20Z-B: VK Jirkov-VK AUSTIN Vsetín z.s.
END:VEVENT
BEGIN:VEVENT
UID:66633664-6462-4634-b163-336264646330
DTSTAMP:20260422T001301Z
DESCRIPTION:5/7 SK Třebín - VK AUSTIN Vsetín z.s. 2:0 (24\,21)
DTSTART;TZID=Europe/Berlin:20231021T130000
DTEND;TZID=Europe/Berlin:20231021T150000
LOCATION:ZŠ Máj I\, M. Chlajna 1319 České Budějovice - České Budějovice 2
SUMMARY:CP-U20Z-B: SK Třebín-VK AUSTIN Vsetín z.s.
END:VEVENT
BEGIN:VEVENT
UID:31373230-6538-4230-a338-343838613866
DTSTAMP:20260422T001301Z
DESCRIPTION:3/5 VK AUSTIN Vsetín z.s. - Loko Plzeň 0:2 (-15\,-21)
DTSTART;TZID=Europe/Berlin:20231209T120000
DTEND;TZID=Europe/Berlin:20231209T140000
LOCATION:Sportovní hala Na Lapači\, Na Lapači 247 Vsetín - Rokytnice
SUMMARY:CP-U20Z-1B: VK AUSTIN Vsetín z.s.-Loko Plzeň
END:VEVENT
BEGIN:VEVENT
UID:65623431-3562-4234-b864-353731323134
DTSTAMP:20260422T001301Z
DESCRIPTION:7/13 VK AUSTIN Vsetín z.s. - TJ Bižuterie Jablonec n/N 2:1 (18\
 ,-17\,5)
DTSTART;TZID=Europe/Berlin:20231209T170000
DTEND;TZID=Europe/Berlin:20231209T190000
LOCATION:Sportovní hala Na Lapači\, Na Lapači 247 Vsetín - Rokytnice
SUMMARY:CP-U20Z-1B: VK AUSTIN Vsetín z.s.-TJ Bižuterie Jablonec n/N
END:VEVENT
BEGIN:VEVENT
UID:35643037-3136-4235-b561-353761653362
DTSTAMP:20260422T001301Z
DESCRIPTION:11/21 VK AUSTIN Vsetín z.s. - Jiskra Nový Bor 2:0 (21\,17)
DTSTART;TZID=Europe/Berlin:20231210T113000
DTEND;TZID=Europe/Berlin:20231210T133000
LOCATION:Sportovní hala Na Lapači\, Na Lapači 247 Vsetín - Rokytnice
SUMMARY:CP-U20Z-1B: VK AUSTIN Vsetín z.s.-Jiskra Nový Bor
END:VEVENT
BEGIN:VEVENT
UID:65643137-3333-4266-b164-653962386365
DTSTAMP:20260422T001301Z
DESCRIPTION:1/1 Volejbalový oddíl TJ Lanškroun\, z.s. - VK AUSTIN Vsetín z.
 s. 0:2 (-17\,-23)
DTSTART;TZID=Europe/Berlin:20231209T093000
DTEND;TZID=Europe/Berlin:20231209T113000
LOCATION:SOŠ a SOU Lanškroun\, Sokolská 288 Lanškroun - Ostrovské Předměstí
SUMMARY:CP-U20Z-1B: Volejbalový oddíl TJ Lanškroun\, z.s.-VK AUSTIN Vsetín 
 z.s.
END:VEVENT
BEGIN:VEVENT
UID:66643564-3039-4865-a264-363931343039
DTSTAMP:20260422T001301Z
DESCRIPTION:5/9 TJ ABC Braník\, z.s. - VK AUSTIN Vsetín z.s. 0:2 (-21\,-14)
DTSTART;TZID=Europe/Berlin:20231209T143000
DTEND;TZID=Europe/Berlin:20231209T163000
LOCATION:Sokolovna Braník\, Branická 275 Praha - Braník
SUMMARY:CP-U20Z-1B: TJ ABC Braník\, z.s.-VK AUSTIN Vsetín z.s.
END:VEVENT
BEGIN:VEVENT
UID:65663438-6262-4766-b238-626235373836
DTSTAMP:20260422T001301Z
DESCRIPTION:9/17 Tělocvičná jednota Sokol Česká Třebová - VK AUSTIN Vsetín 
 z.s. X:2
DTSTART;TZID=Europe/Berlin:20231210T090000
DTEND;TZID=Europe/Berlin:20231210T110000
LOCATION:Základní škola Česká Třebová Habrmanova\, Na Skále\, Na Skále 566 
 Česká Třebová
SUMMARY:CP-U20Z-1B: Tělocvičná jednota Sokol Česká Třebová-VK AUSTIN Vsetín
  z.s.
END:VEVENT
BEGIN:VEVENT
UID:63313334-3236-4065-a638-383564353164
DTSTAMP:20260422T001301Z
DESCRIPTION:13/25 TJ Jičín - VK AUSTIN Vsetín z.s. 2:1 (13\,-18\,11)
DTSTART;TZID=Europe/Berlin:20231210T140000
DTEND;TZID=Europe/Berlin:20231210T160000
LOCATION:Hala 3. základní školy Jičín\, Poděbradova 18 Jičín - Nové Město
SUMMARY:CP-U20Z-1B: TJ Jičín-VK AUSTIN Vsetín z.s.
END:VEVENT
BEGIN:VEVENT
UID:64373964-3637-4233-a235-373234306563
DTSTAMP:20260422T001301Z
DESCRIPTION:1/1 VK AUSTIN Vsetín z.s. - Volejbalový oddíl TJ Lanškroun\, z.
 s. 2:0 (25\,9)
DTSTART;TZID=Europe/Berlin:20240224T093000
DTEND;TZID=Europe/Berlin:20240224T113000
LOCATION:Sportovní hala Na Lapači\, Na Lapači 247 Vsetín - Rokytnice
SUMMARY:CP-U20Z-2B: VK AUSTIN Vsetín z.s.-Volejbalový oddíl TJ Lanškroun\, 
 z.s.
END:VEVENT
BEGIN:VEVENT
UID:64653739-3036-4535-b432-623131313261
DTSTAMP:20260422T001301Z
DESCRIPTION:5/9 VK AUSTIN Vsetín z.s. - TJ Svitavy\, z.s. 2:0 (14\,14)
DTSTART;TZID=Europe/Berlin:20240224T134500
DTEND;TZID=Europe/Berlin:20240224T154500
LOCATION:Sportovní hala Na Lapači\, Na Lapači 247 Vsetín - Rokytnice
SUMMARY:CP-U20Z-2B: VK AUSTIN Vsetín z.s.-TJ Svitavy\, z.s.
END:VEVENT
BEGIN:VEVENT
UID:34653032-6233-4430-a464-336462666639
DTSTAMP:20260422T001301Z
DESCRIPTION:8/16 VK AUSTIN Vsetín z.s. - SK Třebín 0:2 (-19\,-21)
DTSTART;TZID=Europe/Berlin:20240224T164500
DTEND;TZID=Europe/Berlin:20240224T184500
LOCATION:Sportovní hala Na Lapači\, Na Lapači 247 Vsetín - Rokytnice
SUMMARY:CP-U20Z-2B: VK AUSTIN Vsetín z.s.-SK Třebín
END:VEVENT
BEGIN:VEVENT
UID:61656130-3133-4431-b534-336532616166
DTSTAMP:20260422T001301Z
DESCRIPTION:3/5 TJ Slavia Hradec Králové - VK AUSTIN Vsetín z.s. 2:0 (23\,1
 7)
DTSTART;TZID=Europe/Berlin:20240224T114500
DTEND;TZID=Europe/Berlin:20240224T134500
LOCATION:TJ Slavia Hradec Králové\, Víta Nejedlého 1216 Hradec Králové
SUMMARY:CP-U20Z-2B: TJ Slavia Hradec Králové-VK AUSTIN Vsetín z.s.
END:VEVENT
BEGIN:VEVENT
UID:37363735-3064-4038-b061-633336363364
DTSTAMP:20260422T001301Z
DESCRIPTION:9/19 TJ Bižuterie Jablonec n/N - VK AUSTIN Vsetín z.s. 2:1 (-13
 \,24\,9)
DTSTART;TZID=Europe/Berlin:20240225T090000
DTEND;TZID=Europe/Berlin:20240225T110000
LOCATION:Městská sportovní hala\, U Přehrady 4747 Jablonec nad Nisou
SUMMARY:CP-U20Z-2B: TJ Bižuterie Jablonec n/N-VK AUSTIN Vsetín z.s.
END:VEVENT
BEGIN:VEVENT
UID:30396139-6336-4530-a430-663965363131
DTSTAMP:20260422T001301Z
DESCRIPTION:10/21 TJ ABC Braník\, z.s. - VK AUSTIN Vsetín z.s. 0:2 (-19\,-2
 4)
DTSTART;TZID=Europe/Berlin:20240225T100000
DTEND;TZID=Europe/Berlin:20240225T120000
LOCATION:Sokolovna Braník\, Branická 275 Praha - Braník
SUMMARY:CP-U20Z-2B: TJ ABC Braník\, z.s.-VK AUSTIN Vsetín z.s.
END:VEVENT
BEGIN:VEVENT
UID:64666266-3162-4363-b166-383261336336
DTSTAMP:20260422T001301Z
DESCRIPTION:11/24 Volejbal Červený Kostelec - VK AUSTIN Vsetín z.s. 1:2 (-1
 4\,16\,-10)
DTSTART;TZID=Europe/Berlin:20240225T110000
DTEND;TZID=Europe/Berlin:20240225T130000
LOCATION:Sportovní hala\, Palackého 1234 Červený Kostelec
SUMMARY:CP-U20Z-2B: Volejbal Červený Kostelec-VK AUSTIN Vsetín z.s.
END:VEVENT
BEGIN:VEVENT
UID:34653836-3964-4162-b963-353030316466
DTSTAMP:20260422T001301Z
DESCRIPTION:1/2 VK AUSTIN Vsetín z.s. - TJ Bižuterie Jablonec n/N 2:0 (24\,
 19)
DTSTART;TZID=Europe/Berlin:20240323T110000
DTEND;TZID=Europe/Berlin:20240323T130000
LOCATION:Sportovní hala Na Lapači\, Na Lapači 247 Vsetín - Rokytnice
SUMMARY:CP-U20Z-3B: VK AUSTIN Vsetín z.s.-TJ Bižuterie Jablonec n/N
END:VEVENT
BEGIN:VEVENT
UID:39666362-3262-4130-a138-373364663836
DTSTAMP:20260422T001301Z
DESCRIPTION:2/7 VK AUSTIN Vsetín z.s. - Volejbal Červený Kostelec 2:1 (-19\
 ,14\,13)
DTSTART;TZID=Europe/Berlin:20240323T130000
DTEND;TZID=Europe/Berlin:20240323T150000
LOCATION:Sportovní hala Na Lapači\, Na Lapači 247 Vsetín - Rokytnice
SUMMARY:CP-U20Z-3B: VK AUSTIN Vsetín z.s.-Volejbal Červený Kostelec
END:VEVENT
BEGIN:VEVENT
UID:63616233-6530-4133-b034-656238656330
DTSTAMP:20260422T001301Z
DESCRIPTION:5/20 VK AUSTIN Vsetín z.s. - Jiskra Nový Bor 2:0 (20\,16)
DTSTART;TZID=Europe/Berlin:20240324T100000
DTEND;TZID=Europe/Berlin:20240324T120000
LOCATION:Sportovní hala Na Lapači\, Na Lapači 247 Vsetín - Rokytnice
SUMMARY:CP-U20Z-3B: VK AUSTIN Vsetín z.s.-Jiskra Nový Bor
END:VEVENT
BEGIN:VEVENT
UID:39323232-3361-4162-b563-396335353539
DTSTAMP:20260422T001301Z
DESCRIPTION:6/23 VK AUSTIN Vsetín z.s. - Volejbalový oddíl TJ Lanškroun\, z
 .s. 2:1 (17\,-20\,13)
DTSTART;TZID=Europe/Berlin:20240324T120000
DTEND;TZID=Europe/Berlin:20240324T140000
LOCATION:Sportovní hala Na Lapači\, Na Lapači 247 Vsetín - Rokytnice
SUMMARY:CP-U20Z-3B: VK AUSTIN Vsetín z.s.-Volejbalový oddíl TJ Lanškroun\, 
 z.s.
END:VEVENT
BEGIN:VEVENT
UID:31393434-3364-4536-b062-343464663236
DTSTAMP:20260422T001301Z
DESCRIPTION:7/26 VK AUSTIN Vsetín z.s. - Tělocvičná jednota Sokol Česká Tře
 bová 2:0 (20\,21)
DTSTART;TZID=Europe/Berlin:20240324T140000
DTEND;TZID=Europe/Berlin:20240324T160000
LOCATION:Sportovní hala Na Lapači\, Na Lapači 247 Vsetín - Rokytnice
SUMMARY:CP-U20Z-3B: VK AUSTIN Vsetín z.s.-Tělocvičná jednota Sokol Česká Tř
 ebová
END:VEVENT
BEGIN:VEVENT
UID:62356338-6363-4531-a137-343434313361
DTSTAMP:20260422T001301Z
DESCRIPTION:3/9 Náchod - VK AUSTIN Vsetín z.s. 2:1 (-24\,20\,12)
DTSTART;TZID=Europe/Berlin:20240323T150000
DTEND;TZID=Europe/Berlin:20240323T170000
LOCATION:SPORT KLUB Náchod\, Pražská 696 Náchod
SUMMARY:CP-U20Z-3B: Náchod-VK AUSTIN Vsetín z.s.
END:VEVENT
BEGIN:VEVENT
UID:30306366-3638-4330-b236-366464333037
DTSTAMP:20260422T001301Z
DESCRIPTION:4/13 Loko Plzeň - VK AUSTIN Vsetín z.s. 2:1 (-22\,19\,8)
DTSTART;TZID=Europe/Berlin:20240323T170000
DTEND;TZID=Europe/Berlin:20240323T190000
SUMMARY:CP-U20Z-3B: Loko Plzeň-VK AUSTIN Vsetín z.s.
END:VEVENT
BEGIN:VEVENT
UID:66316138-3839-4662-b530-663665643838
DTSTAMP:20260422T001301Z
DESCRIPTION:2/6 VK AUSTIN Vsetín z.s. - TJ Jičín 2:0 (25\,15)
DTSTART;TZID=Europe/Berlin:20240413T113000
DTEND;TZID=Europe/Berlin:20240413T133000
LOCATION:Sportovní hala Na Lapači\, Na Lapači 247 Vsetín - Rokytnice
SUMMARY:CP-U20Z-4A: VK AUSTIN Vsetín z.s.-TJ Jičín
END:VEVENT
BEGIN:VEVENT
UID:61636266-6139-4639-a533-653836363035
DTSTAMP:20260422T001301Z
DESCRIPTION:4/10 VK AUSTIN Vsetín z.s. - VK Jirkov 1:2 (19\,-17\,-5)
DTSTART;TZID=Europe/Berlin:20240413T143000
DTEND;TZID=Europe/Berlin:20240413T163000
LOCATION:Sportovní hala Na Lapači\, Na Lapači 247 Vsetín - Rokytnice
SUMMARY:CP-U20Z-4A: VK AUSTIN Vsetín z.s.-VK Jirkov
END:VEVENT
BEGIN:VEVENT
UID:62383764-3966-4536-a261-613139626561
DTSTAMP:20260422T001301Z
DESCRIPTION:7/17 VK AUSTIN Vsetín z.s. - Loko Plzeň 0:2 (-20\,-16)
DTSTART;TZID=Europe/Berlin:20240414T090000
DTEND;TZID=Europe/Berlin:20240414T110000
LOCATION:Sportovní hala Na Lapači\, Na Lapači 247 Vsetín - Rokytnice
SUMMARY:CP-U20Z-4A: VK AUSTIN Vsetín z.s.-Loko Plzeň
END:VEVENT
BEGIN:VEVENT
UID:37613136-3266-4365-a439-343738613466
DTSTAMP:20260422T001301Z
DESCRIPTION:9/22 VK AUSTIN Vsetín z.s. - SK Třebín 2:0 (25\,23)
DTSTART;TZID=Europe/Berlin:20240414T113000
DTEND;TZID=Europe/Berlin:20240414T133000
LOCATION:Sportovní hala Na Lapači\, Na Lapači 247 Vsetín - Rokytnice
SUMMARY:CP-U20Z-4A: VK AUSTIN Vsetín z.s.-SK Třebín
END:VEVENT
BEGIN:VEVENT
UID:34626266-3363-4534-b066-363862393839
DTSTAMP:20260422T001301Z
DESCRIPTION:3/7 Volejbal Ústí nad Labem - VK AUSTIN Vsetín z.s. 2:0 (17\,16
 )
DTSTART;TZID=Europe/Berlin:20240413T130000
DTEND;TZID=Europe/Berlin:20240413T150000
LOCATION:Tělocvična Gymnázia a Střední odborné školy dr. Václava Šmejkala\,
  Stará 3299 Ústí nad Labem - Severní Terasa
SUMMARY:CP-U20Z-4A: Volejbal Ústí nad Labem-VK AUSTIN Vsetín z.s.
END:VEVENT
BEGIN:VEVENT
UID:32383961-3433-4334-a337-636566363330
DTSTAMP:20260422T001301Z
DESCRIPTION:5/15 SK Meteor Praha - VK AUSTIN Vsetín z.s. 1:2 (-18\,24\,-11)
DTSTART;TZID=Europe/Berlin:20240413T160000
DTEND;TZID=Europe/Berlin:20240413T180000
LOCATION:ZŠ Žernosecká\, Žernosecká 1597 Praha - Kobylisy
SUMMARY:CP-U20Z-4A: SK Meteor Praha-VK AUSTIN Vsetín z.s.
END:VEVENT
BEGIN:VEVENT
UID:30353031-3864-4934-a436-333737396136
DTSTAMP:20260422T001301Z
DESCRIPTION:11/26 VK Prostějov\, spolek - VK AUSTIN Vsetín z.s. 2:0 (17\,20
 )
DTSTART;TZID=Europe/Berlin:20240414T140000
DTEND;TZID=Europe/Berlin:20240414T160000
LOCATION:Národní sportovní centrum\, Za velodromem 4187 Prostějov
SUMMARY:CP-U20Z-4A: VK Prostějov\, spolek-VK AUSTIN Vsetín z.s.
END:VEVENT
END:VCALENDAR
