BEGIN:VCALENDAR
VERSION:2.0
PRODID:-//Beach club Zlín, z.s.84474//NONSGML kigkonsult.se iCalcreator 2.41.80//
CALSCALE:GREGORIAN
UID:34363139-6430-4561-b762-393635643237
BEGIN:VEVENT
UID:35626335-6231-4833-b539-663635643364
DTSTAMP:20260422T075508Z
DESCRIPTION:1/1 Kladno volejbal cz - Beach club Zlín\, z.s. 2:0 (15\,15)
DTSTART;TZID=Europe/Berlin:20231014T090000
DTEND;TZID=Europe/Berlin:20231014T110000
LOCATION:Kladenská sportovní hala\, Sportovců 817 Kladno - Rozdělov
SUMMARY:CP-U16M-V1B: Kladno volejbal cz-Beach club Zlín\, z.s.
END:VEVENT
BEGIN:VEVENT
UID:62386231-6361-4636-a337-613335633162
DTSTAMP:20260422T075508Z
DESCRIPTION:4/4 VK Brno\, z.s. - Beach club Zlín\, z.s. 2:0 (17\,14)
DTSTART;TZID=Europe/Berlin:20231014T124500
DTEND;TZID=Europe/Berlin:20231014T144500
LOCATION:Sportovní gymnázium Ludvíka Daňka\, Botanická 63 Brno - Ponava
SUMMARY:CP-U16M-V1B: VK Brno\, z.s.-Beach club Zlín\, z.s.
END:VEVENT
BEGIN:VEVENT
UID:38663536-3436-4665-b962-316133623639
DTSTAMP:20260422T075508Z
DESCRIPTION:5/5 Blue Ostrava - Beach club Zlín\, z.s. 0:2 (-16\,-17)
DTSTART;TZID=Europe/Berlin:20231014T140000
DTEND;TZID=Europe/Berlin:20231014T160000
LOCATION:Sportovní hala Nová Bělá\, Krmelínská 750 Ostrava - Nová Bělá
SUMMARY:CP-U16M-V1B: Blue Ostrava-Beach club Zlín\, z.s.
END:VEVENT
BEGIN:VEVENT
UID:38373464-6537-4461-a261-376466666133
DTSTAMP:20260422T075508Z
DESCRIPTION:1/1 Beach club Zlín\, z.s. - Volejbal Znojmo 0:2 (-15\,-17)
DTSTART;TZID=Europe/Berlin:20231014T163000
DTEND;TZID=Europe/Berlin:20231014T183000
LOCATION:Sportovní hala Rousínov\, Habrovanská 1199 Rousínov
SUMMARY:CP-U16M-V1H: Beach club Zlín\, z.s.-Volejbal Znojmo
END:VEVENT
BEGIN:VEVENT
UID:65376361-3337-4165-a338-373836353566
DTSTAMP:20260422T075508Z
DESCRIPTION:2/3 Beach club Zlín\, z.s. - SK Kojetín 2016\, z.s. 0:2 (-20\,-
 20)
DTSTART;TZID=Europe/Berlin:20231014T163000
DTEND;TZID=Europe/Berlin:20231014T183000
LOCATION:Sportovní hala Rousínov\, Habrovanská 1199 Rousínov
SUMMARY:CP-U16M-V1H: Beach club Zlín\, z.s.-SK Kojetín 2016\, z.s.
END:VEVENT
BEGIN:VEVENT
UID:33343732-3162-4830-b465-303962376364
DTSTAMP:20260422T075508Z
DESCRIPTION:4/5 Beach club Zlín\, z.s. - Blue Ostrava 2:0 (16\,17)
DTSTART;TZID=Europe/Berlin:20231014T174500
DTEND;TZID=Europe/Berlin:20231014T194500
LOCATION:Sportovní hala Rousínov\, Habrovanská 1199 Rousínov
SUMMARY:CP-U16M-V1H: Beach club Zlín\, z.s.-Blue Ostrava
END:VEVENT
BEGIN:VEVENT
UID:63613539-3038-4366-b265-376264633736
DTSTAMP:20260422T075508Z
DESCRIPTION:3/7 Green F-M - Beach club Zlín\, z.s. 1:2 (-11\,23\,-7)
DTSTART;TZID=Europe/Berlin:20231015T113000
DTEND;TZID=Europe/Berlin:20231015T133000
LOCATION:Hala SPŠ\, 28. října 1639 Frýdek-Místek - Místek
SUMMARY:CP-U16M-V1I: Green F-M-Beach club Zlín\, z.s.
END:VEVENT
BEGIN:VEVENT
UID:64386131-6664-4566-b338-613237653765
DTSTAMP:20260422T075508Z
DESCRIPTION:8/15 Beach club Zlín\, z.s. - Spartak Velké Meziříčí 0:2 (-17\,
 -16)
DTSTART;TZID=Europe/Berlin:20231118T163000
DTEND;TZID=Europe/Berlin:20231118T183000
LOCATION:Sportovní hala Rousínov\, Habrovanská 1199 Rousínov
SUMMARY:CP-U16M-V2B: Beach club Zlín\, z.s.-Spartak Velké Meziříčí
END:VEVENT
BEGIN:VEVENT
UID:31316339-3533-4439-b462-616232666562
DTSTAMP:20260422T075508Z
DESCRIPTION:12/23 Beach club Zlín\, z.s. - Volejbalový sportovní klub Český
  Krumlov z.s. 2:0 (19\,24)
DTSTART;TZID=Europe/Berlin:20231119T113000
DTEND;TZID=Europe/Berlin:20231119T133000
LOCATION:Sportovní hala Rousínov\, Habrovanská 1199 Rousínov
SUMMARY:CP-U16M-V2B: Beach club Zlín\, z.s.-Volejbalový sportovní klub Česk
 ý Krumlov z.s.
END:VEVENT
BEGIN:VEVENT
UID:62373066-3033-4135-b135-303361313739
DTSTAMP:20260422T075508Z
DESCRIPTION:14/28 Beach club Zlín\, z.s. - Green F-M 0:2 (-20\,-21)
DTSTART;TZID=Europe/Berlin:20231119T140000
DTEND;TZID=Europe/Berlin:20231119T160000
LOCATION:Sportovní hala Rousínov\, Habrovanská 1199 Rousínov
SUMMARY:CP-U16M-V2B: Beach club Zlín\, z.s.-Green F-M
END:VEVENT
BEGIN:VEVENT
UID:64616132-6537-4035-b564-313764363538
DTSTAMP:20260422T075508Z
DESCRIPTION:2/4 Volejbal Znojmo - Beach club Zlín\, z.s. 2:1 (20\,-20\,10)
DTSTART;TZID=Europe/Berlin:20231118T101500
DTEND;TZID=Europe/Berlin:20231118T121500
LOCATION:Tělocvična ZŠ Prokopa Diviše a MŠ\, Ke Škole 569 Znojmo - Přímětic
 e
SUMMARY:CP-U16M-V2B: Volejbal Znojmo-Beach club Zlín\, z.s.
END:VEVENT
BEGIN:VEVENT
UID:38346336-6639-4238-b538-363162346131
DTSTAMP:20260422T075508Z
DESCRIPTION:4/7 SK Kojetín 2016\, z.s. - Beach club Zlín\, z.s. 1:2 (-22\,1
 4\,-9)
DTSTART;TZID=Europe/Berlin:20231118T124500
DTEND;TZID=Europe/Berlin:20231118T144500
LOCATION:Městská sportovní hala\, Hanusíkova 1476 Kojetín - Kojetín I-Město
SUMMARY:CP-U16M-V2B: SK Kojetín 2016\, z.s.-Beach club Zlín\, z.s.
END:VEVENT
BEGIN:VEVENT
UID:64633736-3939-4633-b261-303366383036
DTSTAMP:20260422T075508Z
DESCRIPTION:5/10 Blue Ostrava - Beach club Zlín\, z.s. 2:1 (23\,-18\,11)
DTSTART;TZID=Europe/Berlin:20231118T140000
DTEND;TZID=Europe/Berlin:20231118T160000
LOCATION:Sportovní hala Nová Bělá\, Krmelínská 750 Ostrava - Nová Bělá
SUMMARY:CP-U16M-V2B: Blue Ostrava-Beach club Zlín\, z.s.
END:VEVENT
BEGIN:VEVENT
UID:66626566-3330-4439-b139-613566326432
DTSTAMP:20260422T075508Z
DESCRIPTION:6/12 Sportovní volejbalový klub Nový Jičín\, z.s. - Beach club 
 Zlín\, z.s. 2:0 (9\,14)
DTSTART;TZID=Europe/Berlin:20231118T151500
DTEND;TZID=Europe/Berlin:20231118T171500
LOCATION:Hala ABC\, Purkyňova 116 Nový Jičín
SUMMARY:CP-U16M-V2B: Sportovní volejbalový klub Nový Jičín\, z.s.-Beach clu
 b Zlín\, z.s.
END:VEVENT
BEGIN:VEVENT
UID:39633234-3335-4662-a438-313839303861
DTSTAMP:20260422T075508Z
DESCRIPTION:3/6 Beach club Zlín\, z.s. - Volejbalový sportovní klub Český K
 rumlov z.s. 2:0 (12\,21)
DTSTART;TZID=Europe/Berlin:20231202T101500
DTEND;TZID=Europe/Berlin:20231202T121500
LOCATION:Sportovní hala Rousínov\, Habrovanská 1199 Rousínov
SUMMARY:CP-U16M-V3B: Beach club Zlín\, z.s.-Volejbalový sportovní klub Česk
 ý Krumlov z.s.
END:VEVENT
BEGIN:VEVENT
UID:66663434-3439-4165-b132-373533326566
DTSTAMP:20260422T075508Z
DESCRIPTION:5/9 Beach club Zlín\, z.s. - Blue Ostrava 2:0 (19\,11)
DTSTART;TZID=Europe/Berlin:20231202T113000
DTEND;TZID=Europe/Berlin:20231202T133000
LOCATION:Sportovní hala Rousínov\, Habrovanská 1199 Rousínov
SUMMARY:CP-U16M-V3B: Beach club Zlín\, z.s.-Blue Ostrava
END:VEVENT
BEGIN:VEVENT
UID:62623830-6635-4931-a132-623739396231
DTSTAMP:20260422T075508Z
DESCRIPTION:8/16 Beach club Zlín\, z.s. - Volejbal Znojmo 0:2 (-23\,-13)
DTSTART;TZID=Europe/Berlin:20231202T151500
DTEND;TZID=Europe/Berlin:20231202T171500
LOCATION:Sportovní hala Rousínov\, Habrovanská 1199 Rousínov
SUMMARY:CP-U16M-V3B: Beach club Zlín\, z.s.-Volejbal Znojmo
END:VEVENT
BEGIN:VEVENT
UID:63363432-3333-4365-b635-326139613164
DTSTAMP:20260422T075508Z
DESCRIPTION:12/23 Beach club Zlín\, z.s. - Kladno volejbal cz 0:2 (-10\,-9)
DTSTART;TZID=Europe/Berlin:20231203T113000
DTEND;TZID=Europe/Berlin:20231203T133000
LOCATION:Sportovní hala Rousínov\, Habrovanská 1199 Rousínov
SUMMARY:CP-U16M-V3B: Beach club Zlín\, z.s.-Kladno volejbal cz
END:VEVENT
BEGIN:VEVENT
UID:61316237-6136-4864-b638-333934613061
DTSTAMP:20260422T075508Z
DESCRIPTION:14/28 Beach club Zlín\, z.s. - VS Ostrava 0:2 (-9\,-10)
DTSTART;TZID=Europe/Berlin:20231203T140000
DTEND;TZID=Europe/Berlin:20231203T160000
LOCATION:Sportovní hala Rousínov\, Habrovanská 1199 Rousínov
SUMMARY:CP-U16M-V3B: Beach club Zlín\, z.s.-VS Ostrava
END:VEVENT
BEGIN:VEVENT
UID:64323333-3963-4439-a232-303462383130
DTSTAMP:20260422T075508Z
DESCRIPTION:1/2 SK Kojetín 2016\, z.s. - Beach club Zlín\, z.s. 2:1 (20\,-2
 0\,13)
DTSTART;TZID=Europe/Berlin:20231202T090000
DTEND;TZID=Europe/Berlin:20231202T110000
LOCATION:Městská sportovní hala\, Hanusíkova 1476 Kojetín - Kojetín I-Město
SUMMARY:CP-U16M-V3B: SK Kojetín 2016\, z.s.-Beach club Zlín\, z.s.
END:VEVENT
BEGIN:VEVENT
UID:66646565-6361-4138-b332-616231663631
DTSTAMP:20260422T075508Z
DESCRIPTION:6/11 Velké Meziříčí - Beach club Zlín\, z.s. 2:0 (20\,15)
DTSTART;TZID=Europe/Berlin:20231202T124500
DTEND;TZID=Europe/Berlin:20231202T144500
LOCATION:ZŠ Komenského\, Komenského 1 Velké Meziříčí
SUMMARY:CP-U16M-V3B: Velké Meziříčí-Beach club Zlín\, z.s.
END:VEVENT
BEGIN:VEVENT
UID:35363863-3533-4666-a235-303630363331
DTSTAMP:20260422T075508Z
DESCRIPTION:6/12 Beach club Zlín\, z.s. - SK Volejbal Klatovy 2:0 (14\,11)
DTSTART;TZID=Europe/Berlin:20240120T140000
DTEND;TZID=Europe/Berlin:20240120T160000
LOCATION:Sportovní hala Rousínov\, Habrovanská 1199 Rousínov
SUMMARY:CP-U16M-4E: Beach club Zlín\, z.s.-SK Volejbal Klatovy
END:VEVENT
BEGIN:VEVENT
UID:32666265-3532-4664-b530-316465643037
DTSTAMP:20260422T075508Z
DESCRIPTION:11/22 Beach club Zlín\, z.s. - Plzeň 2:0 (19\,25)
DTSTART;TZID=Europe/Berlin:20240121T090000
DTEND;TZID=Europe/Berlin:20240121T110000
LOCATION:Sportovní hala Rousínov\, Habrovanská 1199 Rousínov
SUMMARY:CP-U16M-4E: Beach club Zlín\, z.s.-Plzeň
END:VEVENT
BEGIN:VEVENT
UID:32666135-6239-4134-b961-383735623838
DTSTAMP:20260422T075508Z
DESCRIPTION:12/24 Beach club Zlín\, z.s. - VK Lvi Praha B 2:0 (19\,15)
DTSTART;TZID=Europe/Berlin:20240121T100000
DTEND;TZID=Europe/Berlin:20240121T120000
LOCATION:Sportovní hala Rousínov\, Habrovanská 1199 Rousínov
SUMMARY:CP-U16M-4E: Beach club Zlín\, z.s.-VK Lvi Praha B
END:VEVENT
BEGIN:VEVENT
UID:64353038-3636-4330-b666-393733376664
DTSTAMP:20260422T075508Z
DESCRIPTION:1/2 Blue Ostrava - Beach club Zlín\, z.s. 0:2 (-14\,-20)
DTSTART;TZID=Europe/Berlin:20240120T090000
DTEND;TZID=Europe/Berlin:20240120T110000
LOCATION:Sportovní hala Nová Bělá\, Krmelínská 750 Ostrava - Nová Bělá
SUMMARY:CP-U16M-4E: Blue Ostrava-Beach club Zlín\, z.s.
END:VEVENT
BEGIN:VEVENT
UID:33643436-3337-4337-b762-636532396633
DTSTAMP:20260422T075508Z
DESCRIPTION:3/6 SK PROSEK B - Beach club Zlín\, z.s. 1:2 (20\,-19\,-8)
DTSTART;TZID=Europe/Berlin:20240120T110000
DTEND;TZID=Europe/Berlin:20240120T130000
LOCATION:SH SK Prosek\, Lovosická 559 Praha - Letňany
SUMMARY:CP-U16M-4E: SK PROSEK B-Beach club Zlín\, z.s.
END:VEVENT
BEGIN:VEVENT
UID:36323262-3161-4538-b730-303137343039
DTSTAMP:20260422T075508Z
DESCRIPTION:7/13 Volejbalový sportovní klub Český Krumlov z.s. - Beach club
  Zlín\, z.s. 0:2 (-22\,-23)
DTSTART;TZID=Europe/Berlin:20240120T150000
DTEND;TZID=Europe/Berlin:20240120T170000
LOCATION:ZŠ Za Nádražím Český Krumlov\, Za Nádražím 222 Český Krumlov - Nád
 ražní Předměstí
SUMMARY:CP-U16M-4E: Volejbalový sportovní klub Český Krumlov z.s.-Beach clu
 b Zlín\, z.s.
END:VEVENT
BEGIN:VEVENT
UID:31633033-3161-4130-a133-623039393533
DTSTAMP:20260422T075508Z
DESCRIPTION:9/17 VK České Budějovice B - Beach club Zlín\, z.s. 0:2 (-23\,-
 15)
DTSTART;TZID=Europe/Berlin:20240120T170000
DTEND;TZID=Europe/Berlin:20240120T190000
LOCATION:ZŠ Oskara Nedbala České Budějovice\, O. Nedbala 882 České Budějovi
 ce - České Budějovice 2
SUMMARY:CP-U16M-4E: VK České Budějovice B-Beach club Zlín\, z.s.
END:VEVENT
BEGIN:VEVENT
UID:34333534-3136-4131-b730-613032303262
DTSTAMP:20260422T075508Z
DESCRIPTION:1/4 VK Karlovarsko\, z.s. - Beach club Zlín\, z.s. 0:2 (-18\,-1
 8)
DTSTART;TZID=Europe/Berlin:20240210T103000
DTEND;TZID=Europe/Berlin:20240210T123000
LOCATION:Mattoni Arena Hala míčových sportů\, Západní 1812 Karlovy Vary
SUMMARY:CP-U16M-5D: VK Karlovarsko\, z.s.-Beach club Zlín\, z.s.
END:VEVENT
BEGIN:VEVENT
UID:38656265-3531-4232-b866-653661656435
DTSTAMP:20260422T075508Z
DESCRIPTION:2/7 VK Trox Příbram B - Beach club Zlín\, z.s. 0:2 (-23\,-16)
DTSTART;TZID=Europe/Berlin:20240210T120000
DTEND;TZID=Europe/Berlin:20240210T140000
LOCATION:Tělocvična ZŠ Balbínova\, Balbínova 328 Příbram - Příbram II
SUMMARY:CP-U16M-5D: VK Trox Příbram B-Beach club Zlín\, z.s.
END:VEVENT
BEGIN:VEVENT
UID:34633564-3361-4132-b665-316365356539
DTSTAMP:20260422T075508Z
DESCRIPTION:3/12 Nová Paka - Beach club Zlín\, z.s. 1:2 (-22\,21\,-8)
DTSTART;TZID=Europe/Berlin:20240210T133000
DTEND;TZID=Europe/Berlin:20240210T153000
LOCATION:ZŠ Husitská\, O. Číly 1933 Nová Paka
SUMMARY:CP-U16M-5D: Nová Paka-Beach club Zlín\, z.s.
END:VEVENT
BEGIN:VEVENT
UID:34373161-6434-4135-b732-623662653638
DTSTAMP:20260422T075508Z
DESCRIPTION:4/16 Plzeň - Beach club Zlín\, z.s. 0:2 (-17\,-16)
DTSTART;TZID=Europe/Berlin:20240210T160000
DTEND;TZID=Europe/Berlin:20240210T180000
LOCATION:Bolevecká základní škola ( 18.ZŠ)\, náměstí Odboje 550 Plzeň - Bol
 evec
SUMMARY:CP-U16M-5D: Plzeň-Beach club Zlín\, z.s.
END:VEVENT
BEGIN:VEVENT
UID:32366264-6261-4332-b764-653866316433
DTSTAMP:20260422T075508Z
DESCRIPTION:5/19 VK Dukla Liberec - Beach club Zlín\, z.s. 2:0 (14\,17)
DTSTART;TZID=Europe/Berlin:20240211T173000
DTEND;TZID=Europe/Berlin:20240211T193000
LOCATION:Dukla Liberec\, Jeronýmova 558 Liberec - Liberec VII-Horní Růžodol
SUMMARY:CP-U16M-5D: VK Dukla Liberec-Beach club Zlín\, z.s.
END:VEVENT
BEGIN:VEVENT
UID:38393564-6662-4539-a237-396637643534
DTSTAMP:20260422T075508Z
DESCRIPTION:7/23 Velké Meziříčí - Beach club Zlín\, z.s. 2:0 (24\,18)
DTSTART;TZID=Europe/Berlin:20240211T101500
DTEND;TZID=Europe/Berlin:20240211T121500
LOCATION:ZŠ Komenského\, Komenského 1 Velké Meziříčí
SUMMARY:CP-U16M-5D: Velké Meziříčí-Beach club Zlín\, z.s.
END:VEVENT
BEGIN:VEVENT
UID:61386238-6232-4631-b762-386262626435
DTSTAMP:20260422T075508Z
DESCRIPTION:8/25 Volejbal Znojmo - Beach club Zlín\, z.s. 1:2 (20\,-17\,-14
 )
DTSTART;TZID=Europe/Berlin:20240211T113000
DTEND;TZID=Europe/Berlin:20240211T133000
LOCATION:Tělocvična ZŠ Prokopa Diviše a MŠ\, Ke Škole 569 Znojmo - Přímětic
 e
SUMMARY:CP-U16M-5D: Volejbal Znojmo-Beach club Zlín\, z.s.
END:VEVENT
BEGIN:VEVENT
UID:30336537-3937-4463-b339-336533663538
DTSTAMP:20260422T075508Z
DESCRIPTION:6/12 Beach club Zlín\, z.s. - Tělovýchovná jednota Jiskra Nový 
 Bor\, z.s. 2:0 (24\,23)
DTSTART;TZID=Europe/Berlin:20240316T140000
DTEND;TZID=Europe/Berlin:20240316T160000
LOCATION:Sportovní hala Rousínov\, Habrovanská 1199 Rousínov
SUMMARY:CP-U16M-6G: Beach club Zlín\, z.s.-Tělovýchovná jednota Jiskra Nový
  Bor\, z.s.
END:VEVENT
BEGIN:VEVENT
UID:33343534-6335-4230-b339-393035316636
DTSTAMP:20260422T075508Z
DESCRIPTION:9/18 Beach club Zlín\, z.s. - Blue Ostrava 2:0 (15\,16)
DTSTART;TZID=Europe/Berlin:20240316T170000
DTEND;TZID=Europe/Berlin:20240316T190000
LOCATION:Sportovní hala Rousínov\, Habrovanská 1199 Rousínov
SUMMARY:CP-U16M-6G: Beach club Zlín\, z.s.-Blue Ostrava
END:VEVENT
BEGIN:VEVENT
UID:36643539-3863-4533-a334-333130363236
DTSTAMP:20260422T075508Z
DESCRIPTION:14/27 Beach club Zlín\, z.s. - Volejbal Znojmo 0:2 (-19\,-21)
DTSTART;TZID=Europe/Berlin:20240317T120000
DTEND;TZID=Europe/Berlin:20240317T140000
LOCATION:Sportovní hala Rousínov\, Habrovanská 1199 Rousínov
SUMMARY:CP-U16M-6G: Beach club Zlín\, z.s.-Volejbal Znojmo
END:VEVENT
BEGIN:VEVENT
UID:61396135-6139-4232-b235-306239656365
DTSTAMP:20260422T075508Z
DESCRIPTION:2/4 Volejbal Sokolov\, z.s. - Beach club Zlín\, z.s. X:2
DTSTART;TZID=Europe/Berlin:20240316T100000
DTEND;TZID=Europe/Berlin:20240316T120000
LOCATION:Jiskra\, Maxima Gorkého 280 Sokolov
SUMMARY:CP-U16M-6G: Volejbal Sokolov\, z.s.-Beach club Zlín\, z.s.
END:VEVENT
BEGIN:VEVENT
UID:38383535-6530-4964-b231-636336383466
DTSTAMP:20260422T075508Z
DESCRIPTION:3/5 VK Trox Příbram B - Beach club Zlín\, z.s. 2:1 (23\,-16\,15
 )
DTSTART;TZID=Europe/Berlin:20240316T110000
DTEND;TZID=Europe/Berlin:20240316T130000
LOCATION:Tělocvična ZŠ Balbínova\, Balbínova 328 Příbram - Příbram II
SUMMARY:CP-U16M-6G: VK Trox Příbram B-Beach club Zlín\, z.s.
END:VEVENT
BEGIN:VEVENT
UID:38306461-3631-4661-b563-376330633365
DTSTAMP:20260422T075508Z
DESCRIPTION:8/15 SK Meteor Praha - Beach club Zlín\, z.s. 0:2 (-14\,-5)
DTSTART;TZID=Europe/Berlin:20240316T160000
DTEND;TZID=Europe/Berlin:20240316T180000
LOCATION:ZŠ Žernosecká\, Žernosecká 1597 Praha - Kobylisy
SUMMARY:CP-U16M-6G: SK Meteor Praha-Beach club Zlín\, z.s.
END:VEVENT
BEGIN:VEVENT
UID:36643537-3431-4334-a134-393132343434
DTSTAMP:20260422T075508Z
DESCRIPTION:11/22 VK Karlovarsko\, z.s. - Beach club Zlín\, z.s. 2:0 (19\,1
 9)
DTSTART;TZID=Europe/Berlin:20240317T090000
DTEND;TZID=Europe/Berlin:20240317T110000
LOCATION:Mattoni Arena Hala míčových sportů\, Západní 1812 Karlovy Vary
SUMMARY:CP-U16M-6G: VK Karlovarsko\, z.s.-Beach club Zlín\, z.s.
END:VEVENT
END:VCALENDAR
