BEGIN:VCALENDAR
VERSION:2.0
PRODID:-//VK Prostějov, spolek84475//NONSGML kigkonsult.se iCalcreator 2.41.80//
CALSCALE:GREGORIAN
UID:31643236-3366-4834-a261-356666646332
BEGIN:VEVENT
UID:62633731-6332-4530-b461-653465373436
DTSTAMP:20260421T231836Z
DESCRIPTION:2/4 VK Prostějov\, spolek - Volejbalový klub Karlovy Vary z.s. 
 2:0 (8\,8)
DTSTART;TZID=Europe/Berlin:20231021T100000
DTEND;TZID=Europe/Berlin:20231021T120000
LOCATION:Národní sportovní centrum\, Za velodromem 4187 Prostějov
SUMMARY:CP-U20Z-A: VK Prostějov\, spolek-Volejbalový klub Karlovy Vary z.s.
END:VEVENT
BEGIN:VEVENT
UID:61383938-3631-4133-a633-326130333039
DTSTAMP:20260421T231836Z
DESCRIPTION:4/7 VK Prostějov\, spolek - Lokomotiva Fosfa Břeclav 2:X
DTSTART;TZID=Europe/Berlin:20231021T120000
DTEND;TZID=Europe/Berlin:20231021T140000
LOCATION:Národní sportovní centrum\, Za velodromem 4187 Prostějov
SUMMARY:CP-U20Z-A: VK Prostějov\, spolek-Lokomotiva Fosfa Břeclav
END:VEVENT
BEGIN:VEVENT
UID:61623530-6132-4637-a261-616438306634
DTSTAMP:20260421T231836Z
DESCRIPTION:6/11 VK Prostějov\, spolek - Jiskra Nový Bor 2:0 (17\,17)
DTSTART;TZID=Europe/Berlin:20231021T140000
DTEND;TZID=Europe/Berlin:20231021T160000
LOCATION:Národní sportovní centrum\, Za velodromem 4187 Prostějov
SUMMARY:CP-U20Z-A: VK Prostějov\, spolek-Jiskra Nový Bor
END:VEVENT
BEGIN:VEVENT
UID:31646639-3239-4161-a664-313864336336
DTSTAMP:20260421T231836Z
DESCRIPTION:7/13 VK Prostějov\, spolek - Volejbal Ústí nad Labem 0:2 (-11\,
 -14)
DTSTART;TZID=Europe/Berlin:20231021T150000
DTEND;TZID=Europe/Berlin:20231021T170000
LOCATION:Národní sportovní centrum\, Za velodromem 4187 Prostějov
SUMMARY:CP-U20Z-A: VK Prostějov\, spolek-Volejbal Ústí nad Labem
END:VEVENT
BEGIN:VEVENT
UID:36613365-6162-4664-b337-646231623664
DTSTAMP:20260421T231836Z
DESCRIPTION:9/17 VK Prostějov\, spolek - Náchod 0:2 (-21\,-19)
DTSTART;TZID=Europe/Berlin:20231021T170000
DTEND;TZID=Europe/Berlin:20231021T190000
LOCATION:Národní sportovní centrum\, Za velodromem 4187 Prostějov
SUMMARY:CP-U20Z-A: VK Prostějov\, spolek-Náchod
END:VEVENT
BEGIN:VEVENT
UID:35663330-3934-4165-a261-323139623237
DTSTAMP:20260421T231836Z
DESCRIPTION:10/22 VK Prostějov\, spolek - SAVO Praha 2:0 (13\,18)
DTSTART;TZID=Europe/Berlin:20231022T090000
DTEND;TZID=Europe/Berlin:20231022T110000
LOCATION:Národní sportovní centrum\, Za velodromem 4187 Prostějov
SUMMARY:CP-U20Z-A: VK Prostějov\, spolek-SAVO Praha
END:VEVENT
BEGIN:VEVENT
UID:64663039-3535-4531-a637-633637336137
DTSTAMP:20260421T231836Z
DESCRIPTION:12/25 VK Prostějov\, spolek - TJ ABC Braník\, z.s. 2:0 (25\,22)
DTSTART;TZID=Europe/Berlin:20231022T110000
DTEND;TZID=Europe/Berlin:20231022T130000
LOCATION:Národní sportovní centrum\, Za velodromem 4187 Prostějov
SUMMARY:CP-U20Z-A: VK Prostějov\, spolek-TJ ABC Braník\, z.s.
END:VEVENT
BEGIN:VEVENT
UID:39303333-3830-4431-b634-656334643632
DTSTAMP:20260421T231836Z
DESCRIPTION:4/8 VK Prostějov\, spolek - SK Meteor Praha 0:2 (-21\,-21)
DTSTART;TZID=Europe/Berlin:20231209T124500
DTEND;TZID=Europe/Berlin:20231209T144500
LOCATION:Národní sportovní centrum\, Za velodromem 4187 Prostějov
SUMMARY:CP-U20Z-1A: VK Prostějov\, spolek-SK Meteor Praha
END:VEVENT
BEGIN:VEVENT
UID:36323136-6234-4434-a431-623437313836
DTSTAMP:20260421T231836Z
DESCRIPTION:8/16 VK Prostějov\, spolek - Náchod 2:0 (21\,23)
DTSTART;TZID=Europe/Berlin:20231209T174500
DTEND;TZID=Europe/Berlin:20231209T194500
LOCATION:Národní sportovní centrum\, Za velodromem 4187 Prostějov
SUMMARY:CP-U20Z-1A: VK Prostějov\, spolek-Náchod
END:VEVENT
BEGIN:VEVENT
UID:30653762-6636-4233-b861-363263396666
DTSTAMP:20260421T231836Z
DESCRIPTION:13/25 VK Prostějov\, spolek - VK Jirkov 1:2 (-13\,19\,-13)
DTSTART;TZID=Europe/Berlin:20231210T140000
DTEND;TZID=Europe/Berlin:20231210T160000
LOCATION:Národní sportovní centrum\, Za velodromem 4187 Prostějov
SUMMARY:CP-U20Z-1A: VK Prostějov\, spolek-VK Jirkov
END:VEVENT
BEGIN:VEVENT
UID:61326230-3764-4530-b439-373166373536
DTSTAMP:20260421T231836Z
DESCRIPTION:1/2 SK Třebín - VK Prostějov\, spolek 1:2 (-22\,26\,-9)
DTSTART;TZID=Europe/Berlin:20231209T090000
DTEND;TZID=Europe/Berlin:20231209T110000
LOCATION:ZŠ Máj I\, M. Chlajna 1319 České Budějovice - České Budějovice 2
SUMMARY:CP-U20Z-1A: SK Třebín-VK Prostějov\, spolek
END:VEVENT
BEGIN:VEVENT
UID:64373737-3439-4237-b033-306534663530
DTSTAMP:20260421T231836Z
DESCRIPTION:5/10 TJ Slavia Hradec Králové - VK Prostějov\, spolek 0:2 (-14\
 ,-28)
DTSTART;TZID=Europe/Berlin:20231209T140000
DTEND;TZID=Europe/Berlin:20231209T160000
LOCATION:TJ Slavia Hradec Králové\, Víta Nejedlého 1216 Hradec Králové
SUMMARY:CP-U20Z-1A: TJ Slavia Hradec Králové-VK Prostějov\, spolek
END:VEVENT
BEGIN:VEVENT
UID:30323535-3136-4262-b636-666336626334
DTSTAMP:20260421T231836Z
DESCRIPTION:10/19 Volejbal Ústí nad Labem - VK Prostějov\, spolek 0:2 (-21\
 ,-22)
DTSTART;TZID=Europe/Berlin:20231210T101500
DTEND;TZID=Europe/Berlin:20231210T121500
LOCATION:Tělocvična Gymnázia a Střední odborné školy dr. Václava Šmejkala\,
  Stará 3299 Ústí nad Labem - Severní Terasa
SUMMARY:CP-U20Z-1A: Volejbal Ústí nad Labem-VK Prostějov\, spolek
END:VEVENT
BEGIN:VEVENT
UID:30613361-6262-4731-a232-663965636535
DTSTAMP:20260421T231836Z
DESCRIPTION:11/21 BVC Chodov - VK Prostějov\, spolek 2:1 (17\,-25\,10)
DTSTART;TZID=Europe/Berlin:20231210T113000
DTEND;TZID=Europe/Berlin:20231210T133000
LOCATION:Městská sportovní hala Chodov\, Tyršova 1201 Chodov
SUMMARY:CP-U20Z-1A: BVC Chodov-VK Prostějov\, spolek
END:VEVENT
BEGIN:VEVENT
UID:38366664-3332-4036-b062-626338313136
DTSTAMP:20260421T231836Z
DESCRIPTION:1/2 VK Prostějov\, spolek - SK Meteor Praha 2:0 (23\,23)
DTSTART;TZID=Europe/Berlin:20240224T090000
DTEND;TZID=Europe/Berlin:20240224T110000
LOCATION:Národní sportovní centrum\, Za velodromem 4187 Prostějov
SUMMARY:CP-U20Z-2A: VK Prostějov\, spolek-SK Meteor Praha
END:VEVENT
BEGIN:VEVENT
UID:66353930-3234-4933-b261-666433303462
DTSTAMP:20260421T231836Z
DESCRIPTION:3/7 VK Prostějov\, spolek - Loko Plzeň 2:1 (18\,-22\,11)
DTSTART;TZID=Europe/Berlin:20190224T113000
DTEND;TZID=Europe/Berlin:20190224T133000
LOCATION:Národní sportovní centrum\, Za velodromem 4187 Prostějov
SUMMARY:CP-U20Z-2A: VK Prostějov\, spolek-Loko Plzeň
END:VEVENT
BEGIN:VEVENT
UID:61366433-6330-4462-a161-393232303161
DTSTAMP:20260421T231836Z
DESCRIPTION:5/12 VK Prostějov\, spolek - TJ Jičín 2:1 (-23\,15\,20)
DTSTART;TZID=Europe/Berlin:20240224T151500
DTEND;TZID=Europe/Berlin:20240224T171500
LOCATION:Národní sportovní centrum\, Za velodromem 4187 Prostějov
SUMMARY:CP-U20Z-2A: VK Prostějov\, spolek-TJ Jičín
END:VEVENT
BEGIN:VEVENT
UID:39333838-3332-4739-a666-383564333435
DTSTAMP:20260421T231836Z
DESCRIPTION:6/14 VK Prostějov\, spolek - Náchod 2:0 (15\,22)
DTSTART;TZID=Europe/Berlin:20240224T163000
DTEND;TZID=Europe/Berlin:20240224T183000
LOCATION:Národní sportovní centrum\, Za velodromem 4187 Prostějov
SUMMARY:CP-U20Z-2A: VK Prostějov\, spolek-Náchod
END:VEVENT
BEGIN:VEVENT
UID:64613966-3934-4936-b833-613161663466
DTSTAMP:20260421T231836Z
DESCRIPTION:9/23 VK Prostějov\, spolek - Volejbal Ústí nad Labem 2:0 (24\,2
 0)
DTSTART;TZID=Europe/Berlin:20240225T113000
DTEND;TZID=Europe/Berlin:20240225T133000
LOCATION:Národní sportovní centrum\, Za velodromem 4187 Prostějov
SUMMARY:CP-U20Z-2A: VK Prostějov\, spolek-Volejbal Ústí nad Labem
END:VEVENT
BEGIN:VEVENT
UID:35613061-3930-4766-a236-323763383439
DTSTAMP:20260421T231836Z
DESCRIPTION:7/17 VK Jirkov - VK Prostějov\, spolek 0:2 (-21\,-23)
DTSTART;TZID=Europe/Berlin:20240225T090000
DTEND;TZID=Europe/Berlin:20240225T110000
LOCATION:Sportovní hala MG a ZŠ Jirkov\, Krušnohorská 1675 Jirkov
SUMMARY:CP-U20Z-2A: VK Jirkov-VK Prostějov\, spolek
END:VEVENT
BEGIN:VEVENT
UID:63366333-3037-4134-a365-623334653735
DTSTAMP:20260421T231836Z
DESCRIPTION:10/27 BVC Chodov - VK Prostějov\, spolek 1:2 (12\,-21\,-10)
DTSTART;TZID=Europe/Berlin:20240225T124500
DTEND;TZID=Europe/Berlin:20240225T144500
LOCATION:Městská sportovní hala Chodov\, Tyršova 1201 Chodov
SUMMARY:CP-U20Z-2A: BVC Chodov-VK Prostějov\, spolek
END:VEVENT
BEGIN:VEVENT
UID:31343639-3232-4965-b331-626465623338
DTSTAMP:20260421T231836Z
DESCRIPTION:1/3 VK Prostějov\, spolek - SK Třebín 2:0 (12\,20)
DTSTART;TZID=Europe/Berlin:20240323T100000
DTEND;TZID=Europe/Berlin:20240323T120000
LOCATION:Národní sportovní centrum\, Za velodromem 4187 Prostějov
SUMMARY:CP-U20Z-3A: VK Prostějov\, spolek-SK Třebín
END:VEVENT
BEGIN:VEVENT
UID:65356537-3731-4261-b838-613834663230
DTSTAMP:20260421T231836Z
DESCRIPTION:2/5 VK Prostějov\, spolek - SK Meteor Praha 2:1 (-21\,19\,13)
DTSTART;TZID=Europe/Berlin:20240323T120000
DTEND;TZID=Europe/Berlin:20240323T140000
LOCATION:Národní sportovní centrum\, Za velodromem 4187 Prostějov
SUMMARY:CP-U20Z-3A: VK Prostějov\, spolek-SK Meteor Praha
END:VEVENT
BEGIN:VEVENT
UID:33363839-3463-4561-b533-383139373735
DTSTAMP:20260421T231836Z
DESCRIPTION:3/9 VK Prostějov\, spolek - BVC Chodov 2:0 (23\,19)
DTSTART;TZID=Europe/Berlin:20240323T140000
DTEND;TZID=Europe/Berlin:20240323T160000
LOCATION:Národní sportovní centrum\, Za velodromem 4187 Prostějov
SUMMARY:CP-U20Z-3A: VK Prostějov\, spolek-BVC Chodov
END:VEVENT
BEGIN:VEVENT
UID:37663565-6464-4035-a363-666366633237
DTSTAMP:20260421T231836Z
DESCRIPTION:4/15 VK Prostějov\, spolek - TJ Jičín 2:1 (-22\,19\,12)
DTSTART;TZID=Europe/Berlin:20240323T160000
DTEND;TZID=Europe/Berlin:20240323T180000
LOCATION:Národní sportovní centrum\, Za velodromem 4187 Prostějov
SUMMARY:CP-U20Z-3A: VK Prostějov\, spolek-TJ Jičín
END:VEVENT
BEGIN:VEVENT
UID:38313939-3734-4866-b736-626663336364
DTSTAMP:20260421T231836Z
DESCRIPTION:5/17 VK Prostějov\, spolek - Volejbal Ústí nad Labem 2:1 (-23\,
 20\,8)
DTSTART;TZID=Europe/Berlin:20240324T090000
DTEND;TZID=Europe/Berlin:20240324T110000
LOCATION:Národní sportovní centrum\, Za velodromem 4187 Prostějov
SUMMARY:CP-U20Z-3A: VK Prostějov\, spolek-Volejbal Ústí nad Labem
END:VEVENT
BEGIN:VEVENT
UID:37356234-6466-4533-b536-613231346264
DTSTAMP:20260421T231836Z
DESCRIPTION:6/24 VK Prostějov\, spolek - TJ Slavia Hradec Králové 1:2 (-20\
 ,20\,-8)
DTSTART;TZID=Europe/Berlin:20240324T110000
DTEND;TZID=Europe/Berlin:20240324T130000
LOCATION:Národní sportovní centrum\, Za velodromem 4187 Prostějov
SUMMARY:CP-U20Z-3A: VK Prostějov\, spolek-TJ Slavia Hradec Králové
END:VEVENT
BEGIN:VEVENT
UID:32643836-6234-4636-b333-363936323161
DTSTAMP:20260421T231836Z
DESCRIPTION:7/25 VK Prostějov\, spolek - VK Jirkov 1:2 (20\,-22\,-11)
DTSTART;TZID=Europe/Berlin:20240324T130000
DTEND;TZID=Europe/Berlin:20240324T150000
LOCATION:Národní sportovní centrum\, Za velodromem 4187 Prostějov
SUMMARY:CP-U20Z-3A: VK Prostějov\, spolek-VK Jirkov
END:VEVENT
BEGIN:VEVENT
UID:38366337-6363-4534-b764-373061333433
DTSTAMP:20260421T231836Z
DESCRIPTION:4/12 VK Prostějov\, spolek - TJ Jičín 2:1 (-16\,30\,11)
DTSTART;TZID=Europe/Berlin:20240413T143000
DTEND;TZID=Europe/Berlin:20240413T163000
LOCATION:Národní sportovní centrum\, Za velodromem 4187 Prostějov
SUMMARY:CP-U20Z-4A: VK Prostějov\, spolek-TJ Jičín
END:VEVENT
BEGIN:VEVENT
UID:65323265-6365-4231-a336-663963393761
DTSTAMP:20260421T231836Z
DESCRIPTION:8/20 VK Prostějov\, spolek - VK Jirkov 2:1 (-22\,17\,9)
DTSTART;TZID=Europe/Berlin:20240414T101500
DTEND;TZID=Europe/Berlin:20240414T121500
LOCATION:Národní sportovní centrum\, Za velodromem 4187 Prostějov
SUMMARY:CP-U20Z-4A: VK Prostějov\, spolek-VK Jirkov
END:VEVENT
BEGIN:VEVENT
UID:30663764-6463-4133-a235-376263313839
DTSTAMP:20260421T231836Z
DESCRIPTION:11/26 VK Prostějov\, spolek - VK AUSTIN Vsetín z.s. 2:0 (17\,20
 )
DTSTART;TZID=Europe/Berlin:20240414T140000
DTEND;TZID=Europe/Berlin:20240414T160000
LOCATION:Národní sportovní centrum\, Za velodromem 4187 Prostějov
SUMMARY:CP-U20Z-4A: VK Prostějov\, spolek-VK AUSTIN Vsetín z.s.
END:VEVENT
BEGIN:VEVENT
UID:34316434-6564-4835-b139-363930656433
DTSTAMP:20260421T231836Z
DESCRIPTION:1/3 SK Třebín - VK Prostějov\, spolek 1:2 (21\,-17\,-13)
DTSTART;TZID=Europe/Berlin:20240413T100000
DTEND;TZID=Europe/Berlin:20240413T120000
LOCATION:ZŠ Máj I\, M. Chlajna 1319 České Budějovice - České Budějovice 2
SUMMARY:CP-U20Z-4A: SK Třebín-VK Prostějov\, spolek
END:VEVENT
BEGIN:VEVENT
UID:62353639-6462-4530-a531-353863383133
DTSTAMP:20260421T231836Z
DESCRIPTION:2/5 Loko Plzeň - VK Prostějov\, spolek 0:2 (-24\,-15)
DTSTART;TZID=Europe/Berlin:20240413T113000
DTEND;TZID=Europe/Berlin:20240413T133000
SUMMARY:CP-U20Z-4A: Loko Plzeň-VK Prostějov\, spolek
END:VEVENT
BEGIN:VEVENT
UID:63366533-3361-4437-a439-343563656331
DTSTAMP:20260421T231836Z
DESCRIPTION:5/14 Volejbal Ústí nad Labem - VK Prostějov\, spolek 2:0 (16\,2
 3)
DTSTART;TZID=Europe/Berlin:20240413T160000
DTEND;TZID=Europe/Berlin:20240413T180000
LOCATION:Tělocvična Gymnázia a Střední odborné školy dr. Václava Šmejkala\,
  Stará 3299 Ústí nad Labem - Severní Terasa
SUMMARY:CP-U20Z-4A: Volejbal Ústí nad Labem-VK Prostějov\, spolek
END:VEVENT
BEGIN:VEVENT
UID:32616262-3861-4831-b833-373966373164
DTSTAMP:20260421T231836Z
DESCRIPTION:9/21 SK Meteor Praha - VK Prostějov\, spolek 0:2 (-22\,-20)
DTSTART;TZID=Europe/Berlin:20240414T113000
DTEND;TZID=Europe/Berlin:20240414T133000
LOCATION:ZŠ Žernosecká\, Žernosecká 1597 Praha - Kobylisy
SUMMARY:CP-U20Z-4A: SK Meteor Praha-VK Prostějov\, spolek
END:VEVENT
END:VCALENDAR
