BEGIN:VCALENDAR
VERSION:2.0
PRODID:-//Tělovýchovná jednota Jiskra Nový Bor, z.s.84496//NONSGML kigkonsult.se iCalcreator 2.41.80//
CALSCALE:GREGORIAN
UID:64343935-3733-4263-b662-393239336630
BEGIN:VEVENT
UID:64343761-6538-4335-b938-313165396365
DTSTAMP:20260422T010251Z
DESCRIPTION:6/6 Tělovýchovná jednota Jiskra Nový Bor\, z.s. - VK Jirkov 0:2
  (-14\,-11)
DTSTART;TZID=Europe/Berlin:20231014T163000
DTEND;TZID=Europe/Berlin:20231014T183000
LOCATION:Sportovní hala Františka Arnošta Nový Bor\, U hřiště 1391 Nový Bor
SUMMARY:CP-U16M-Z1D: Tělovýchovná jednota Jiskra Nový Bor\, z.s.-VK Jirkov
END:VEVENT
BEGIN:VEVENT
UID:63643661-3363-4665-a532-303834366639
DTSTAMP:20260422T010251Z
DESCRIPTION:2/2 SK Volejbal Kolín\, z.s. - Tělovýchovná jednota Jiskra Nový
  Bor\, z.s. 2:0 (6\,10)
DTSTART;TZID=Europe/Berlin:20231014T123000
DTEND;TZID=Europe/Berlin:20231014T143000
LOCATION:hala STAV\, SOŠ Kolín\, Brankovická 1417 Kolín - Kolín V
SUMMARY:CP-U16M-Z1D: SK Volejbal Kolín\, z.s.-Tělovýchovná jednota Jiskra N
 ový Bor\, z.s.
END:VEVENT
BEGIN:VEVENT
UID:35353165-3365-4531-a136-356232613039
DTSTAMP:20260422T010251Z
DESCRIPTION:3/3 Nová Paka - Tělovýchovná jednota Jiskra Nový Bor\, z.s. 1:2
  (16\,-21\,-6)
DTSTART;TZID=Europe/Berlin:20231014T133000
DTEND;TZID=Europe/Berlin:20231014T153000
LOCATION:ZŠ Husitská\, O. Číly 1933 Nová Paka
SUMMARY:CP-U16M-Z1D: Nová Paka-Tělovýchovná jednota Jiskra Nový Bor\, z.s.
END:VEVENT
BEGIN:VEVENT
UID:61313333-6464-4639-b838-366466336361
DTSTAMP:20260422T010251Z
DESCRIPTION:1/3 Sokol Mn. Hradiště - Tělovýchovná jednota Jiskra Nový Bor\,
  z.s. 2:0 (18\,13)\n2C - 3D
DTSTART;TZID=Europe/Berlin:20231014T173000
DTEND;TZID=Europe/Berlin:20231014T193000
LOCATION:Sportovní hala BIOS\, Sokolovská 254 Mnichovo Hradiště
SUMMARY:CP-U16M-Z1I: Sokol Mn. Hradiště-Tělovýchovná jednota Jiskra Nový Bo
 r\, z.s.
END:VEVENT
BEGIN:VEVENT
UID:64386531-3631-4464-b366-343261353462
DTSTAMP:20260422T010251Z
DESCRIPTION:1/1 Tělovýchovná jednota Jiskra Nový Bor\, z.s. - AERO Odolena 
 Voda 2:0 (22\,18)
DTSTART;TZID=Europe/Berlin:20231015T090000
DTEND;TZID=Europe/Berlin:20231015T110000
LOCATION:Sportovní hala Františka Arnošta Nový Bor\, U hřiště 1391 Nový Bor
SUMMARY:CP-U16M-Z1L: Tělovýchovná jednota Jiskra Nový Bor\, z.s.-AERO Odole
 na Voda
END:VEVENT
BEGIN:VEVENT
UID:64306363-3362-4037-a263-666637316639
DTSTAMP:20260422T010251Z
DESCRIPTION:2/2 TJ Lokomotiva Česká Lípa\, z.s. - Tělovýchovná jednota Jisk
 ra Nový Bor\, z.s. 1:2 (-18\,16\,-14)
DTSTART;TZID=Europe/Berlin:20231015T110000
DTEND;TZID=Europe/Berlin:20231015T130000
LOCATION:ZŠ Lada\, Šluknovská 2904 Česká Lípa
SUMMARY:CP-U16M-Z1L: TJ Lokomotiva Česká Lípa\, z.s.-Tělovýchovná jednota J
 iskra Nový Bor\, z.s.
END:VEVENT
BEGIN:VEVENT
UID:36666564-3263-4165-a162-346539383637
DTSTAMP:20260422T010251Z
DESCRIPTION:2/7 Tělovýchovná jednota Jiskra Nový Bor\, z.s. - SK Meteor Pra
 ha 1:2 (20\,-25\,-9)\nL1-M1
DTSTART;TZID=Europe/Berlin:20231015T140000
DTEND;TZID=Europe/Berlin:20231015T160000
LOCATION:Sportovní hala Františka Arnošta Nový Bor\, U hřiště 1391 Nový Bor
SUMMARY:CP-U16M-Z1UMIS: Tělovýchovná jednota Jiskra Nový Bor\, z.s.-SK Mete
 or Praha
END:VEVENT
BEGIN:VEVENT
UID:33353761-3265-4234-b562-303831323065
DTSTAMP:20260422T010251Z
DESCRIPTION:4/8 Tělovýchovná jednota Jiskra Nový Bor\, z.s. - VK Trox Příbr
 am B 0:2 (-20\,-19)
DTSTART;TZID=Europe/Berlin:20231118T130000
DTEND;TZID=Europe/Berlin:20231118T150000
LOCATION:Sportovní hala Františka Arnošta Nový Bor\, U hřiště 1391 Nový Bor
SUMMARY:CP-U16M-Z2B: Tělovýchovná jednota Jiskra Nový Bor\, z.s.-VK Trox Př
 íbram B
END:VEVENT
BEGIN:VEVENT
UID:65386361-3962-4563-b130-326636626633
DTSTAMP:20260422T010251Z
DESCRIPTION:2/3 TJ Slavia HK - Tělovýchovná jednota Jiskra Nový Bor\, z.s. 
 2:0 (13\,18)
DTSTART;TZID=Europe/Berlin:20231118T110000
DTEND;TZID=Europe/Berlin:20231118T130000
LOCATION:TJ Slavia Hradec Králové\, Víta Nejedlého 1216 Hradec Králové
SUMMARY:CP-U16M-Z2B: TJ Slavia HK-Tělovýchovná jednota Jiskra Nový Bor\, z.
 s.
END:VEVENT
BEGIN:VEVENT
UID:62373138-3539-4437-a634-383637373433
DTSTAMP:20260422T010251Z
DESCRIPTION:6/12 AERO Odolena Voda - Tělovýchovná jednota Jiskra Nový Bor\,
  z.s. 0:2 (-18\,-16)
DTSTART;TZID=Europe/Berlin:20231118T150000
DTEND;TZID=Europe/Berlin:20231118T170000
LOCATION:Sportovní hala\, Ke Stadionu 375 Odolena Voda
SUMMARY:CP-U16M-Z2B: AERO Odolena Voda-Tělovýchovná jednota Jiskra Nový Bor
 \, z.s.
END:VEVENT
BEGIN:VEVENT
UID:64373232-6431-4763-a438-333339303737
DTSTAMP:20260422T010251Z
DESCRIPTION:7/14 SKV Ústí n. L. - Tělovýchovná jednota Jiskra Nový Bor\, z.
 s. 2:1 (22\,-22\,14)
DTSTART;TZID=Europe/Berlin:20231118T160000
DTEND;TZID=Europe/Berlin:20231118T180000
LOCATION:ZŠ Rabasova\, Rabasova 3282 Ústí nad Labem - Severní Terasa
SUMMARY:CP-U16M-Z2B: SKV Ústí n. L.-Tělovýchovná jednota Jiskra Nový Bor\, 
 z.s.
END:VEVENT
BEGIN:VEVENT
UID:34383732-6135-4138-b530-356565363162
DTSTAMP:20260422T010251Z
DESCRIPTION:9/17 Volejbal Sokolov\, z.s. - Tělovýchovná jednota Jiskra Nový
  Bor\, z.s. 2:0 (18\,20)
DTSTART;TZID=Europe/Berlin:20231119T090000
DTEND;TZID=Europe/Berlin:20231119T110000
LOCATION:Jiskra\, Maxima Gorkého 280 Sokolov
SUMMARY:CP-U16M-Z2B: Volejbal Sokolov\, z.s.-Tělovýchovná jednota Jiskra No
 vý Bor\, z.s.
END:VEVENT
BEGIN:VEVENT
UID:65393866-6437-4133-b333-333735613635
DTSTAMP:20260422T010251Z
DESCRIPTION:12/24 SK Meteor Praha - Tělovýchovná jednota Jiskra Nový Bor\, 
 z.s. 2:0 (26\,19)
DTSTART;TZID=Europe/Berlin:20231119T120000
DTEND;TZID=Europe/Berlin:20231119T140000
LOCATION:ZŠ Žernosecká\, Žernosecká 1597 Praha - Kobylisy
SUMMARY:CP-U16M-Z2B: SK Meteor Praha-Tělovýchovná jednota Jiskra Nový Bor\,
  z.s.
END:VEVENT
BEGIN:VEVENT
UID:38373163-6563-4761-b364-636431373262
DTSTAMP:20260422T010251Z
DESCRIPTION:14/27 VK Karlovarsko\, z.s. - Tělovýchovná jednota Jiskra Nový 
 Bor\, z.s. 2:0 (13\,18)
DTSTART;TZID=Europe/Berlin:20231119T140000
DTEND;TZID=Europe/Berlin:20231119T160000
LOCATION:Mattoni Arena Hala míčových sportů\, Západní 1812 Karlovy Vary
SUMMARY:CP-U16M-Z2B: VK Karlovarsko\, z.s.-Tělovýchovná jednota Jiskra Nový
  Bor\, z.s.
END:VEVENT
BEGIN:VEVENT
UID:65633737-6630-4332-b266-343866356431
DTSTAMP:20260422T010251Z
DESCRIPTION:4/8 Tělovýchovná jednota Jiskra Nový Bor\, z.s. - Plzeň 2:X
DTSTART;TZID=Europe/Berlin:20231202T130000
DTEND;TZID=Europe/Berlin:20231202T150000
LOCATION:Sportovní hala Františka Arnošta Nový Bor\, U hřiště 1391 Nový Bor
SUMMARY:CP-U16M-Z3C: Tělovýchovná jednota Jiskra Nový Bor\, z.s.-Plzeň
END:VEVENT
BEGIN:VEVENT
UID:34373266-3534-4136-a563-383461383636
DTSTAMP:20260422T010251Z
DESCRIPTION:7/14 Tělovýchovná jednota Jiskra Nový Bor\, z.s. - AERO Odolena
  Voda 2:1 (18\,-13\,10)
DTSTART;TZID=Europe/Berlin:20231202T160000
DTEND;TZID=Europe/Berlin:20231202T180000
LOCATION:Sportovní hala Františka Arnošta Nový Bor\, U hřiště 1391 Nový Bor
SUMMARY:CP-U16M-Z3C: Tělovýchovná jednota Jiskra Nový Bor\, z.s.-AERO Odole
 na Voda
END:VEVENT
BEGIN:VEVENT
UID:38626534-3963-4632-b365-333930623134
DTSTAMP:20260422T010251Z
DESCRIPTION:9/17 Tělovýchovná jednota Jiskra Nový Bor\, z.s. - VK České Bud
 ějovice B 2:0 (21\,18)
DTSTART;TZID=Europe/Berlin:20231203T090000
DTEND;TZID=Europe/Berlin:20231203T110000
LOCATION:Sportovní hala Františka Arnošta Nový Bor\, U hřiště 1391 Nový Bor
SUMMARY:CP-U16M-Z3C: Tělovýchovná jednota Jiskra Nový Bor\, z.s.-VK České B
 udějovice B
END:VEVENT
BEGIN:VEVENT
UID:31303430-3530-4330-b739-323636626334
DTSTAMP:20260422T010251Z
DESCRIPTION:13/25 Tělovýchovná jednota Jiskra Nový Bor\, z.s. - SK PROSEK B
  2:0 (17\,18)
DTSTART;TZID=Europe/Berlin:20231203T130000
DTEND;TZID=Europe/Berlin:20231203T150000
LOCATION:Sportovní hala Františka Arnošta Nový Bor\, U hřiště 1391 Nový Bor
SUMMARY:CP-U16M-Z3C: Tělovýchovná jednota Jiskra Nový Bor\, z.s.-SK PROSEK 
 B
END:VEVENT
BEGIN:VEVENT
UID:66363837-3631-4666-b363-636462626437
DTSTAMP:20260422T010251Z
DESCRIPTION:2/4 Nová Paka - Tělovýchovná jednota Jiskra Nový Bor\, z.s. 1:2
  (12\,-22\,-10)
DTSTART;TZID=Europe/Berlin:20231202T110000
DTEND;TZID=Europe/Berlin:20231202T130000
LOCATION:ZŠ Husitská\, O. Číly 1933 Nová Paka
SUMMARY:CP-U16M-Z3C: Nová Paka-Tělovýchovná jednota Jiskra Nový Bor\, z.s.
END:VEVENT
BEGIN:VEVENT
UID:30303737-6535-4463-b766-386237353331
DTSTAMP:20260422T010251Z
DESCRIPTION:6/11 VK Lvi Praha B - Tělovýchovná jednota Jiskra Nový Bor\, z.
 s. 0:2 (-10\,-18)
DTSTART;TZID=Europe/Berlin:20231202T150000
DTEND;TZID=Europe/Berlin:20231202T170000
LOCATION:FZŠ Brdičkova\, Brdičkova 1878 Praha - Stodůlky
SUMMARY:CP-U16M-Z3C: VK Lvi Praha B-Tělovýchovná jednota Jiskra Nový Bor\, 
 z.s.
END:VEVENT
BEGIN:VEVENT
UID:61313838-3164-4230-b735-376439666364
DTSTAMP:20260422T010251Z
DESCRIPTION:11/22 SK Volejbal Klatovy - Tělovýchovná jednota Jiskra Nový Bo
 r\, z.s. 0:2 (-15\,-12)
DTSTART;TZID=Europe/Berlin:20231203T110000
DTEND;TZID=Europe/Berlin:20231203T130000
LOCATION:Sportovní hala ZŠ Čapkova\, Čapkova 136 Klatovy - Klatovy V
SUMMARY:CP-U16M-Z3C: SK Volejbal Klatovy-Tělovýchovná jednota Jiskra Nový B
 or\, z.s.
END:VEVENT
BEGIN:VEVENT
UID:35313537-3235-4264-b030-333261353063
DTSTAMP:20260422T010251Z
DESCRIPTION:2/4 Tělovýchovná jednota Jiskra Nový Bor\, z.s. - Volejbal Znoj
 mo 1:2 (17\,-15\,-12)
DTSTART;TZID=Europe/Berlin:20240120T110000
DTEND;TZID=Europe/Berlin:20240120T130000
LOCATION:Sportovní hala Františka Arnošta Nový Bor\, U hřiště 1391 Nový Bor
SUMMARY:CP-U16M-4D: Tělovýchovná jednota Jiskra Nový Bor\, z.s.-Volejbal Zn
 ojmo
END:VEVENT
BEGIN:VEVENT
UID:31353234-3334-4739-a432-613136623938
DTSTAMP:20260422T010251Z
DESCRIPTION:5/10 Tělovýchovná jednota Jiskra Nový Bor\, z.s. - SK Kojetín 2
 016\, z.s. 0:2 (-20\,-10)
DTSTART;TZID=Europe/Berlin:20240120T140000
DTEND;TZID=Europe/Berlin:20240120T160000
LOCATION:Sportovní hala Františka Arnošta Nový Bor\, U hřiště 1391 Nový Bor
SUMMARY:CP-U16M-4D: Tělovýchovná jednota Jiskra Nový Bor\, z.s.-SK Kojetín 
 2016\, z.s.
END:VEVENT
BEGIN:VEVENT
UID:64393365-6262-4332-a333-656565306131
DTSTAMP:20260422T010251Z
DESCRIPTION:12/23 Tělovýchovná jednota Jiskra Nový Bor\, z.s. - Nová Paka 0
 :2 (-25\,-27)
DTSTART;TZID=Europe/Berlin:20240121T120000
DTEND;TZID=Europe/Berlin:20240121T140000
LOCATION:Sportovní hala Františka Arnošta Nový Bor\, U hřiště 1391 Nový Bor
SUMMARY:CP-U16M-4D: Tělovýchovná jednota Jiskra Nový Bor\, z.s.-Nová Paka
END:VEVENT
BEGIN:VEVENT
UID:63656466-3930-4535-b239-653662633336
DTSTAMP:20260422T010251Z
DESCRIPTION:4/7 AERO Odolena Voda - Tělovýchovná jednota Jiskra Nový Bor\, 
 z.s. 2:0 (12\,19)
DTSTART;TZID=Europe/Berlin:20240120T130000
DTEND;TZID=Europe/Berlin:20240120T150000
LOCATION:Sportovní hala\, Ke Stadionu 375 Odolena Voda
SUMMARY:CP-U16M-4D: AERO Odolena Voda-Tělovýchovná jednota Jiskra Nový Bor\
 , z.s.
END:VEVENT
BEGIN:VEVENT
UID:32636131-3663-4463-b061-633461373466
DTSTAMP:20260422T010251Z
DESCRIPTION:7/13 VK Dukla Liberec - Tělovýchovná jednota Jiskra Nový Bor\, 
 z.s. 1:2 (11\,-18\,-10)
DTSTART;TZID=Europe/Berlin:20240120T160000
DTEND;TZID=Europe/Berlin:20240120T180000
LOCATION:Dukla Liberec\, Jeronýmova 558 Liberec - Liberec VII-Horní Růžodol
SUMMARY:CP-U16M-4D: VK Dukla Liberec-Tělovýchovná jednota Jiskra Nový Bor\,
  z.s.
END:VEVENT
BEGIN:VEVENT
UID:36353232-3038-4539-b239-633337393732
DTSTAMP:20260422T010251Z
DESCRIPTION:9/18 Velké Meziříčí - Tělovýchovná jednota Jiskra Nový Bor\, z.
 s. 2:0 (21\,20)
DTSTART;TZID=Europe/Berlin:20240121T090000
DTEND;TZID=Europe/Berlin:20240121T110000
LOCATION:ZŠ Komenského\, Komenského 1 Velké Meziříčí
SUMMARY:CP-U16M-4D: Velké Meziříčí-Tělovýchovná jednota Jiskra Nový Bor\, z
 .s.
END:VEVENT
BEGIN:VEVENT
UID:39336664-6161-4266-b663-633737303331
DTSTAMP:20260422T010251Z
DESCRIPTION:13/26 TJ Lokomotiva Česká Lípa\, z.s. - Tělovýchovná jednota Ji
 skra Nový Bor\, z.s. 2:1 (22\,-22\,10)
DTSTART;TZID=Europe/Berlin:20240121T130000
DTEND;TZID=Europe/Berlin:20240121T150000
LOCATION:ZŠ Lada\, Šluknovská 2904 Česká Lípa
SUMMARY:CP-U16M-4D: TJ Lokomotiva Česká Lípa\, z.s.-Tělovýchovná jednota Ji
 skra Nový Bor\, z.s.
END:VEVENT
BEGIN:VEVENT
UID:31643034-3433-4734-a430-353765326563
DTSTAMP:20260422T010251Z
DESCRIPTION:2/4 Tělovýchovná jednota Jiskra Nový Bor\, z.s. - VK Lvi Praha 
 B 2:0 (17\,25)
DTSTART;TZID=Europe/Berlin:20240210T103000
DTEND;TZID=Europe/Berlin:20240210T123000
LOCATION:Sportovní hala Františka Arnošta Nový Bor\, U hřiště 1391 Nový Bor
SUMMARY:CP-U16M-5E: Tělovýchovná jednota Jiskra Nový Bor\, z.s.-VK Lvi Prah
 a B
END:VEVENT
BEGIN:VEVENT
UID:64363535-6434-4438-b733-333339313233
DTSTAMP:20260422T010251Z
DESCRIPTION:5/10 Tělovýchovná jednota Jiskra Nový Bor\, z.s. - Blue Ostrava
  0:2 (-23\,-21)
DTSTART;TZID=Europe/Berlin:20240210T133000
DTEND;TZID=Europe/Berlin:20240210T153000
LOCATION:Sportovní hala Františka Arnošta Nový Bor\, U hřiště 1391 Nový Bor
SUMMARY:CP-U16M-5E: Tělovýchovná jednota Jiskra Nový Bor\, z.s.-Blue Ostrav
 a
END:VEVENT
BEGIN:VEVENT
UID:65653064-3634-4162-b336-386138656165
DTSTAMP:20260422T010251Z
DESCRIPTION:12/23 Tělovýchovná jednota Jiskra Nový Bor\, z.s. - Volejbalový
  sportovní klub Český Krumlov z.s. 2:0 (23\,18)
DTSTART;TZID=Europe/Berlin:20240211T120000
DTEND;TZID=Europe/Berlin:20240211T140000
LOCATION:Sportovní hala Františka Arnošta Nový Bor\, U hřiště 1391 Nový Bor
SUMMARY:CP-U16M-5E: Tělovýchovná jednota Jiskra Nový Bor\, z.s.-Volejbalový
  sportovní klub Český Krumlov z.s.
END:VEVENT
BEGIN:VEVENT
UID:36333762-3966-4539-b230-363164376638
DTSTAMP:20260422T010251Z
DESCRIPTION:4/7 SK Volejbal Klatovy - Tělovýchovná jednota Jiskra Nový Bor\
 , z.s. 0:2 (-15\,-11)
DTSTART;TZID=Europe/Berlin:20240210T123000
DTEND;TZID=Europe/Berlin:20240210T143000
LOCATION:Sportovní hala ZŠ Čapkova\, Čapkova 136 Klatovy - Klatovy V
SUMMARY:CP-U16M-5E: SK Volejbal Klatovy-Tělovýchovná jednota Jiskra Nový Bo
 r\, z.s.
END:VEVENT
BEGIN:VEVENT
UID:30396138-3834-4462-b838-366630323331
DTSTAMP:20260422T010251Z
DESCRIPTION:7/13 VK České Budějovice B - Tělovýchovná jednota Jiskra Nový B
 or\, z.s. 0:2 (-16\,-27)
DTSTART;TZID=Europe/Berlin:20240210T153000
DTEND;TZID=Europe/Berlin:20240210T173000
LOCATION:ZŠ Oskara Nedbala České Budějovice\, O. Nedbala 882 České Budějovi
 ce - České Budějovice 2
SUMMARY:CP-U16M-5E: VK České Budějovice B-Tělovýchovná jednota Jiskra Nový 
 Bor\, z.s.
END:VEVENT
BEGIN:VEVENT
UID:31626561-3364-4530-b833-363936376432
DTSTAMP:20260422T010251Z
DESCRIPTION:9/18 SK PROSEK B - Tělovýchovná jednota Jiskra Nový Bor\, z.s. 
 1:2 (23\,-20\,-13)
DTSTART;TZID=Europe/Berlin:20240211T090000
DTEND;TZID=Europe/Berlin:20240211T110000
LOCATION:SH SK Prosek\, Lovosická 559 Praha - Letňany
SUMMARY:CP-U16M-5E: SK PROSEK B-Tělovýchovná jednota Jiskra Nový Bor\, z.s.
END:VEVENT
BEGIN:VEVENT
UID:61383035-3464-4539-b763-323262333439
DTSTAMP:20260422T010251Z
DESCRIPTION:13/26 TJ Lokomotiva Česká Lípa\, z.s. - Tělovýchovná jednota Ji
 skra Nový Bor\, z.s. 0:2 (-15\,-18)
DTSTART;TZID=Europe/Berlin:20240211T130000
DTEND;TZID=Europe/Berlin:20240211T150000
LOCATION:ZŠ Lada\, Šluknovská 2904 Česká Lípa
SUMMARY:CP-U16M-5E: TJ Lokomotiva Česká Lípa\, z.s.-Tělovýchovná jednota Ji
 skra Nový Bor\, z.s.
END:VEVENT
BEGIN:VEVENT
UID:65306336-3433-4932-b531-383430316336
DTSTAMP:20260422T010251Z
DESCRIPTION:4/7 Tělovýchovná jednota Jiskra Nový Bor\, z.s. - Volejbal Soko
 lov\, z.s. 2:X
DTSTART;TZID=Europe/Berlin:20240316T120000
DTEND;TZID=Europe/Berlin:20240316T140000
LOCATION:Sportovní hala Františka Arnošta Nový Bor\, U hřiště 1391 Nový Bor
SUMMARY:CP-U16M-6G: Tělovýchovná jednota Jiskra Nový Bor\, z.s.-Volejbal So
 kolov\, z.s.
END:VEVENT
BEGIN:VEVENT
UID:61666632-6139-4038-b439-626361333663
DTSTAMP:20260422T010251Z
DESCRIPTION:10/20 Tělovýchovná jednota Jiskra Nový Bor\, z.s. - SK Meteor P
 raha 2:0 (10\,11)
DTSTART;TZID=Europe/Berlin:20240316T180000
DTEND;TZID=Europe/Berlin:20240316T200000
LOCATION:Sportovní hala Františka Arnošta Nový Bor\, U hřiště 1391 Nový Bor
SUMMARY:CP-U16M-6G: Tělovýchovná jednota Jiskra Nový Bor\, z.s.-SK Meteor P
 raha
END:VEVENT
BEGIN:VEVENT
UID:30313563-6566-4234-a363-363331663733
DTSTAMP:20260422T010251Z
DESCRIPTION:13/26 Tělovýchovná jednota Jiskra Nový Bor\, z.s. - VK Karlovar
 sko\, z.s. 0:2 (-19\,-18)
DTSTART;TZID=Europe/Berlin:20240317T110000
DTEND;TZID=Europe/Berlin:20240317T130000
LOCATION:Sportovní hala Františka Arnošta Nový Bor\, U hřiště 1391 Nový Bor
SUMMARY:CP-U16M-6G: Tělovýchovná jednota Jiskra Nový Bor\, z.s.-VK Karlovar
 sko\, z.s.
END:VEVENT
BEGIN:VEVENT
UID:34386332-3662-4364-a562-633733353038
DTSTAMP:20260422T010251Z
DESCRIPTION:1/2 Volejbal Znojmo - Tělovýchovná jednota Jiskra Nový Bor\, z.
 s. 2:0 (11\,19)
DTSTART;TZID=Europe/Berlin:20240316T090000
DTEND;TZID=Europe/Berlin:20240316T110000
LOCATION:Tělocvična ZŠ Prokopa Diviše a MŠ\, Ke Škole 569 Znojmo - Přímětic
 e
SUMMARY:CP-U16M-6G: Volejbal Znojmo-Tělovýchovná jednota Jiskra Nový Bor\, 
 z.s.
END:VEVENT
BEGIN:VEVENT
UID:39383832-3136-4366-a137-386139343839
DTSTAMP:20260422T010251Z
DESCRIPTION:6/12 Beach club Zlín\, z.s. - Tělovýchovná jednota Jiskra Nový 
 Bor\, z.s. 2:0 (24\,23)
DTSTART;TZID=Europe/Berlin:20240316T140000
DTEND;TZID=Europe/Berlin:20240316T160000
LOCATION:Sportovní hala Rousínov\, Habrovanská 1199 Rousínov
SUMMARY:CP-U16M-6G: Beach club Zlín\, z.s.-Tělovýchovná jednota Jiskra Nový
  Bor\, z.s.
END:VEVENT
BEGIN:VEVENT
UID:64356665-6438-4066-b762-386438313834
DTSTAMP:20260422T010251Z
DESCRIPTION:7/13 VK Trox Příbram B - Tělovýchovná jednota Jiskra Nový Bor\,
  z.s. 2:0 (19\,25)
DTSTART;TZID=Europe/Berlin:20240316T150000
DTEND;TZID=Europe/Berlin:20240316T170000
LOCATION:Tělocvična ZŠ Balbínova\, Balbínova 328 Příbram - Příbram II
SUMMARY:CP-U16M-6G: VK Trox Příbram B-Tělovýchovná jednota Jiskra Nový Bor\
 , z.s.
END:VEVENT
BEGIN:VEVENT
UID:30336463-6665-4666-b135-303337656161
DTSTAMP:20260422T010251Z
DESCRIPTION:12/23 Blue Ostrava - Tělovýchovná jednota Jiskra Nový Bor\, z.s
 . 0:2 (-17\,-19)
DTSTART;TZID=Europe/Berlin:20240317T100000
DTEND;TZID=Europe/Berlin:20240317T120000
LOCATION:Sportovní hala Nová Bělá\, Krmelínská 750 Ostrava - Nová Bělá
SUMMARY:CP-U16M-6G: Blue Ostrava-Tělovýchovná jednota Jiskra Nový Bor\, z.s
 .
END:VEVENT
END:VCALENDAR
