BEGIN:VCALENDAR
VERSION:2.0
PRODID:-//SK Volejbal Klatovy, z.s.84499//NONSGML kigkonsult.se iCalcreator 2.41.80//
CALSCALE:GREGORIAN
UID:30333439-3966-4263-b061-396437663837
BEGIN:VEVENT
UID:32643935-6436-4834-b239-633631353532
DTSTAMP:20260422T184150Z
DESCRIPTION:6/6 SK Volejbal Klatovy - VK České Budějovice A 0:2 (-5\,-9)
DTSTART;TZID=Europe/Berlin:20231014T163000
DTEND;TZID=Europe/Berlin:20231014T183000
LOCATION:Sportovní hala ZŠ Čapkova\, Čapkova 136 Klatovy - Klatovy V
SUMMARY:CP-U16M-Z1A: SK Volejbal Klatovy-VK České Budějovice A
END:VEVENT
BEGIN:VEVENT
UID:36363336-3033-4266-b163-613265383366
DTSTAMP:20260422T184150Z
DESCRIPTION:2/2 Volejbal Sokolov\, z.s. - SK Volejbal Klatovy 2:0 (9\,11)
DTSTART;TZID=Europe/Berlin:20231014T123000
DTEND;TZID=Europe/Berlin:20231014T143000
LOCATION:Jiskra\, Maxima Gorkého 280 Sokolov
SUMMARY:CP-U16M-Z1A: Volejbal Sokolov\, z.s.-SK Volejbal Klatovy
END:VEVENT
BEGIN:VEVENT
UID:66313262-3662-4364-b037-393763363231
DTSTAMP:20260422T184150Z
DESCRIPTION:3/3 VK Trox Příbram B - SK Volejbal Klatovy 2:0 (10\,10)
DTSTART;TZID=Europe/Berlin:20231014T133000
DTEND;TZID=Europe/Berlin:20231014T153000
LOCATION:Tělocvična ZŠ Balbínova\, Balbínova 328 Příbram - Příbram II
SUMMARY:CP-U16M-Z1A: VK Trox Příbram B-SK Volejbal Klatovy
END:VEVENT
BEGIN:VEVENT
UID:66386263-3262-4437-b062-636435323763
DTSTAMP:20260422T184150Z
DESCRIPTION:2/2 SK Volejbal Klatovy - SK PROSEK B 0:2 (-9\,-15)
DTSTART;TZID=Europe/Berlin:20231015T110000
DTEND;TZID=Europe/Berlin:20231015T130000
LOCATION:Sportovní hala ZŠ Čapkova\, Čapkova 136 Klatovy - Klatovy V
SUMMARY:CP-U16M-Z1N: SK Volejbal Klatovy-SK PROSEK B
END:VEVENT
BEGIN:VEVENT
UID:30363363-6536-4462-a234-396136653264
DTSTAMP:20260422T184150Z
DESCRIPTION:3/3 VK Lvi Praha B - SK Volejbal Klatovy 2:0 (10\,20)
DTSTART;TZID=Europe/Berlin:20231015T120000
DTEND;TZID=Europe/Berlin:20231015T140000
LOCATION:FZŠ Brdičkova\, Brdičkova 1878 Praha - Stodůlky
SUMMARY:CP-U16M-Z1N: VK Lvi Praha B-SK Volejbal Klatovy
END:VEVENT
BEGIN:VEVENT
UID:62643530-3966-4136-b238-646536336139
DTSTAMP:20260422T184150Z
DESCRIPTION:2/12 SK Volejbal Klatovy - VK České Budějovice B 0:2 (-8\,-16)
 \nN3-O3
DTSTART;TZID=Europe/Berlin:20231015T140000
DTEND;TZID=Europe/Berlin:20231015T160000
LOCATION:Sportovní hala ZŠ Čapkova\, Čapkova 136 Klatovy - Klatovy V
SUMMARY:CP-U16M-Z1UMIS: SK Volejbal Klatovy-VK České Budějovice B
END:VEVENT
BEGIN:VEVENT
UID:30663038-3566-4663-b338-383563363364
DTSTAMP:20260422T184150Z
DESCRIPTION:2/3 SK Volejbal Klatovy - TJ Lokomotiva Česká Lípa\, z.s. 0:2 (
 -11\,-11)
DTSTART;TZID=Europe/Berlin:20231118T110000
DTEND;TZID=Europe/Berlin:20231118T130000
LOCATION:Sportovní hala ZŠ Čapkova\, Čapkova 136 Klatovy - Klatovy V
SUMMARY:CP-U16M-Z2C: SK Volejbal Klatovy-TJ Lokomotiva Česká Lípa\, z.s.
END:VEVENT
BEGIN:VEVENT
UID:37313662-3830-4130-a234-333565376437
DTSTAMP:20260422T184150Z
DESCRIPTION:5/10 SK Volejbal Klatovy - VK Dukla Liberec 0:2 (-10\,-2)
DTSTART;TZID=Europe/Berlin:20231118T140000
DTEND;TZID=Europe/Berlin:20231118T160000
LOCATION:Sportovní hala ZŠ Čapkova\, Čapkova 136 Klatovy - Klatovy V
SUMMARY:CP-U16M-Z2C: SK Volejbal Klatovy-VK Dukla Liberec
END:VEVENT
BEGIN:VEVENT
UID:37396566-3862-4233-b937-346334383234
DTSTAMP:20260422T184150Z
DESCRIPTION:12/23 SK Volejbal Klatovy - SK PROSEK B 0:2 (-13\,-9)
DTSTART;TZID=Europe/Berlin:20231119T120000
DTEND;TZID=Europe/Berlin:20231119T140000
LOCATION:Sportovní hala ZŠ Čapkova\, Čapkova 136 Klatovy - Klatovy V
SUMMARY:CP-U16M-Z2C: SK Volejbal Klatovy-SK PROSEK B
END:VEVENT
BEGIN:VEVENT
UID:66613436-3637-4431-b930-663063303934
DTSTAMP:20260422T184150Z
DESCRIPTION:4/8 VK Lvi Praha B - SK Volejbal Klatovy 2:1 (24\,-14\,10)
DTSTART;TZID=Europe/Berlin:20231118T130000
DTEND;TZID=Europe/Berlin:20231118T150000
LOCATION:FZŠ Brdičkova\, Brdičkova 1878 Praha - Stodůlky
SUMMARY:CP-U16M-Z2C: VK Lvi Praha B-SK Volejbal Klatovy
END:VEVENT
BEGIN:VEVENT
UID:62633630-3364-4334-b962-303962303835
DTSTAMP:20260422T184150Z
DESCRIPTION:8/16 VK České Budějovice B - SK Volejbal Klatovy 2:0 (20\,12)
DTSTART;TZID=Europe/Berlin:20231118T170000
DTEND;TZID=Europe/Berlin:20231118T190000
LOCATION:ZŠ Oskara Nedbala České Budějovice\, O. Nedbala 882 České Budějovi
 ce - České Budějovice 2
SUMMARY:CP-U16M-Z2C: VK České Budějovice B-SK Volejbal Klatovy
END:VEVENT
BEGIN:VEVENT
UID:66363935-6333-4661-a333-613635643836
DTSTAMP:20260422T184150Z
DESCRIPTION:9/18 Nová Paka - SK Volejbal Klatovy 2:0 (5\,16)
DTSTART;TZID=Europe/Berlin:20231119T090000
DTEND;TZID=Europe/Berlin:20231119T110000
LOCATION:ZŠ Husitská\, O. Číly 1933 Nová Paka
SUMMARY:CP-U16M-Z2C: Nová Paka-SK Volejbal Klatovy
END:VEVENT
BEGIN:VEVENT
UID:38656339-6665-4933-a636-326639383564
DTSTAMP:20260422T184150Z
DESCRIPTION:13/26 Plzeň - SK Volejbal Klatovy 2:0 (19\,16)
DTSTART;TZID=Europe/Berlin:20231119T130000
DTEND;TZID=Europe/Berlin:20231119T150000
LOCATION:Bolevecká základní škola ( 18.ZŠ)\, náměstí Odboje 550 Plzeň - Bol
 evec
SUMMARY:CP-U16M-Z2C: Plzeň-SK Volejbal Klatovy
END:VEVENT
BEGIN:VEVENT
UID:66366561-6666-4263-b766-636465643466
DTSTAMP:20260422T184150Z
DESCRIPTION:4/7 SK Volejbal Klatovy - Nová Paka 0:2 (-9\,-16)
DTSTART;TZID=Europe/Berlin:20231202T130000
DTEND;TZID=Europe/Berlin:20231202T150000
LOCATION:Sportovní hala ZŠ Čapkova\, Čapkova 136 Klatovy - Klatovy V
SUMMARY:CP-U16M-Z3C: SK Volejbal Klatovy-Nová Paka
END:VEVENT
BEGIN:VEVENT
UID:31613234-6230-4364-b664-346463616438
DTSTAMP:20260422T184150Z
DESCRIPTION:8/16 SK Volejbal Klatovy - VK Lvi Praha B 0:2 (-19\,-20)
DTSTART;TZID=Europe/Berlin:20231202T170000
DTEND;TZID=Europe/Berlin:20231202T190000
LOCATION:Sportovní hala ZŠ Čapkova\, Čapkova 136 Klatovy - Klatovy V
SUMMARY:CP-U16M-Z3C: SK Volejbal Klatovy-VK Lvi Praha B
END:VEVENT
BEGIN:VEVENT
UID:62343064-3564-4165-b532-303365306266
DTSTAMP:20260422T184150Z
DESCRIPTION:11/22 SK Volejbal Klatovy - Tělovýchovná jednota Jiskra Nový Bo
 r\, z.s. 0:2 (-15\,-12)
DTSTART;TZID=Europe/Berlin:20231203T110000
DTEND;TZID=Europe/Berlin:20231203T130000
LOCATION:Sportovní hala ZŠ Čapkova\, Čapkova 136 Klatovy - Klatovy V
SUMMARY:CP-U16M-Z3C: SK Volejbal Klatovy-Tělovýchovná jednota Jiskra Nový B
 or\, z.s.
END:VEVENT
BEGIN:VEVENT
UID:36376534-3662-4435-b761-393136363064
DTSTAMP:20260422T184150Z
DESCRIPTION:14/27 SK Volejbal Klatovy - VK České Budějovice B 0:2 (-11\,-4)
DTSTART;TZID=Europe/Berlin:20231203T140000
DTEND;TZID=Europe/Berlin:20231203T160000
LOCATION:Sportovní hala ZŠ Čapkova\, Čapkova 136 Klatovy - Klatovy V
SUMMARY:CP-U16M-Z3C: SK Volejbal Klatovy-VK České Budějovice B
END:VEVENT
BEGIN:VEVENT
UID:38346138-3831-4334-a537-653462643930
DTSTAMP:20260422T184150Z
DESCRIPTION:1/2 SK PROSEK B - SK Volejbal Klatovy 2:0 (20\,19)
DTSTART;TZID=Europe/Berlin:20231202T100000
DTEND;TZID=Europe/Berlin:20231202T120000
LOCATION:SH SK Prosek\, Lovosická 559 Praha - Letňany
SUMMARY:CP-U16M-Z3C: SK PROSEK B-SK Volejbal Klatovy
END:VEVENT
BEGIN:VEVENT
UID:62623831-3734-4861-a338-666163356630
DTSTAMP:20260422T184150Z
DESCRIPTION:6/12 Plzeň - SK Volejbal Klatovy X:2
DTSTART;TZID=Europe/Berlin:20231202T150000
DTEND;TZID=Europe/Berlin:20231202T170000
LOCATION:Bolevecká základní škola ( 18.ZŠ)\, náměstí Odboje 550 Plzeň - Bol
 evec
SUMMARY:CP-U16M-Z3C: Plzeň-SK Volejbal Klatovy
END:VEVENT
BEGIN:VEVENT
UID:39303362-3238-4234-a466-336238326461
DTSTAMP:20260422T184150Z
DESCRIPTION:10/19 AERO Odolena Voda - SK Volejbal Klatovy 2:0 (8\,5)
DTSTART;TZID=Europe/Berlin:20231203T100000
DTEND;TZID=Europe/Berlin:20231203T120000
LOCATION:Sportovní hala\, Ke Stadionu 375 Odolena Voda
SUMMARY:CP-U16M-Z3C: AERO Odolena Voda-SK Volejbal Klatovy
END:VEVENT
BEGIN:VEVENT
UID:64393030-3261-4638-b565-373037396565
DTSTAMP:20260422T184150Z
DESCRIPTION:4/8 SK Volejbal Klatovy - Blue Ostrava 0:2 (-21\,-17)
DTSTART;TZID=Europe/Berlin:20240120T120000
DTEND;TZID=Europe/Berlin:20240120T140000
LOCATION:Sportovní hala ZŠ Čapkova\, Čapkova 136 Klatovy - Klatovy V
SUMMARY:CP-U16M-4E: SK Volejbal Klatovy-Blue Ostrava
END:VEVENT
BEGIN:VEVENT
UID:33613232-6662-4534-a436-393038613734
DTSTAMP:20260422T184150Z
DESCRIPTION:14/28 SK Volejbal Klatovy - VK Lvi Praha B 0:2 (-8\,-18)
DTSTART;TZID=Europe/Berlin:20240121T120000
DTEND;TZID=Europe/Berlin:20240121T140000
LOCATION:Sportovní hala ZŠ Čapkova\, Čapkova 136 Klatovy - Klatovy V
SUMMARY:CP-U16M-4E: SK Volejbal Klatovy-VK Lvi Praha B
END:VEVENT
BEGIN:VEVENT
UID:32643363-3433-4130-b763-333437303332
DTSTAMP:20260422T184150Z
DESCRIPTION:2/4 SK PROSEK B - SK Volejbal Klatovy 2:0 (5\,17)
DTSTART;TZID=Europe/Berlin:20240120T100000
DTEND;TZID=Europe/Berlin:20240120T120000
LOCATION:SH SK Prosek\, Lovosická 559 Praha - Letňany
SUMMARY:CP-U16M-4E: SK PROSEK B-SK Volejbal Klatovy
END:VEVENT
BEGIN:VEVENT
UID:38323830-3639-4630-b031-323033643433
DTSTAMP:20260422T184150Z
DESCRIPTION:6/12 Beach club Zlín\, z.s. - SK Volejbal Klatovy 2:0 (14\,11)
DTSTART;TZID=Europe/Berlin:20240120T140000
DTEND;TZID=Europe/Berlin:20240120T160000
LOCATION:Sportovní hala Rousínov\, Habrovanská 1199 Rousínov
SUMMARY:CP-U16M-4E: Beach club Zlín\, z.s.-SK Volejbal Klatovy
END:VEVENT
BEGIN:VEVENT
UID:35356563-3866-4436-a131-656532613834
DTSTAMP:20260422T184150Z
DESCRIPTION:8/15 VK České Budějovice B - SK Volejbal Klatovy 2:0 (8\,11)
DTSTART;TZID=Europe/Berlin:20240120T160000
DTEND;TZID=Europe/Berlin:20240120T180000
LOCATION:ZŠ Oskara Nedbala České Budějovice\, O. Nedbala 882 České Budějovi
 ce - České Budějovice 2
SUMMARY:CP-U16M-4E: VK České Budějovice B-SK Volejbal Klatovy
END:VEVENT
BEGIN:VEVENT
UID:35636431-3631-4939-b635-643838653966
DTSTAMP:20260422T184150Z
DESCRIPTION:10/19 Volejbalový sportovní klub Český Krumlov z.s. - SK Volejb
 al Klatovy 2:0 (15\,10)
DTSTART;TZID=Europe/Berlin:20240120T180000
DTEND;TZID=Europe/Berlin:20240120T200000
LOCATION:ZŠ Za Nádražím Český Krumlov\, Za Nádražím 222 Český Krumlov - Nád
 ražní Předměstí
SUMMARY:CP-U16M-4E: Volejbalový sportovní klub Český Krumlov z.s.-SK Volejb
 al Klatovy
END:VEVENT
BEGIN:VEVENT
UID:31363633-6438-4832-b635-363662336337
DTSTAMP:20260422T184150Z
DESCRIPTION:13/26 Plzeň - SK Volejbal Klatovy 2:0 (21\,20)
DTSTART;TZID=Europe/Berlin:20240121T110000
DTEND;TZID=Europe/Berlin:20240121T130000
LOCATION:Bolevecká základní škola ( 18.ZŠ)\, náměstí Odboje 550 Plzeň - Bol
 evec
SUMMARY:CP-U16M-4E: Plzeň-SK Volejbal Klatovy
END:VEVENT
BEGIN:VEVENT
UID:63366532-6334-4162-b763-613438353735
DTSTAMP:20260422T184150Z
DESCRIPTION:4/7 SK Volejbal Klatovy - Tělovýchovná jednota Jiskra Nový Bor\
 , z.s. 0:2 (-15\,-11)
DTSTART;TZID=Europe/Berlin:20240210T123000
DTEND;TZID=Europe/Berlin:20240210T143000
LOCATION:Sportovní hala ZŠ Čapkova\, Čapkova 136 Klatovy - Klatovy V
SUMMARY:CP-U16M-5E: SK Volejbal Klatovy-Tělovýchovná jednota Jiskra Nový Bo
 r\, z.s.
END:VEVENT
BEGIN:VEVENT
UID:64373732-6562-4066-a435-643635343034
DTSTAMP:20260422T184150Z
DESCRIPTION:8/16 SK Volejbal Klatovy - Volejbalový sportovní klub Český Kru
 mlov z.s. 0:2 (-24\,-18)
DTSTART;TZID=Europe/Berlin:20240210T163000
DTEND;TZID=Europe/Berlin:20240210T183000
LOCATION:Sportovní hala ZŠ Čapkova\, Čapkova 136 Klatovy - Klatovy V
SUMMARY:CP-U16M-5E: SK Volejbal Klatovy-Volejbalový sportovní klub Český Kr
 umlov z.s.
END:VEVENT
BEGIN:VEVENT
UID:62396565-3934-4732-b439-613734323938
DTSTAMP:20260422T184150Z
DESCRIPTION:11/22 SK Volejbal Klatovy - VK Lvi Praha B 0:2 (-21\,-10)
DTSTART;TZID=Europe/Berlin:20240211T110000
DTEND;TZID=Europe/Berlin:20240211T130000
LOCATION:Sportovní hala ZŠ Čapkova\, Čapkova 136 Klatovy - Klatovy V
SUMMARY:CP-U16M-5E: SK Volejbal Klatovy-VK Lvi Praha B
END:VEVENT
BEGIN:VEVENT
UID:33313934-3564-4662-a531-376163363431
DTSTAMP:20260422T184150Z
DESCRIPTION:14/27 SK Volejbal Klatovy - VK České Budějovice B 0:2 (-12\,-12
 )
DTSTART;TZID=Europe/Berlin:20240211T140000
DTEND;TZID=Europe/Berlin:20240211T160000
LOCATION:Sportovní hala ZŠ Čapkova\, Čapkova 136 Klatovy - Klatovy V
SUMMARY:CP-U16M-5E: SK Volejbal Klatovy-VK České Budějovice B
END:VEVENT
BEGIN:VEVENT
UID:66363032-6630-4231-b137-333032303863
DTSTAMP:20260422T184150Z
DESCRIPTION:1/2 Blue Ostrava - SK Volejbal Klatovy 2:0 (12\,19)
DTSTART;TZID=Europe/Berlin:20240210T093000
DTEND;TZID=Europe/Berlin:20240210T113000
LOCATION:Sportovní hala Nová Bělá\, Krmelínská 750 Ostrava - Nová Bělá
SUMMARY:CP-U16M-5E: Blue Ostrava-SK Volejbal Klatovy
END:VEVENT
BEGIN:VEVENT
UID:30396462-3666-4561-b430-343738383037
DTSTAMP:20260422T184150Z
DESCRIPTION:6/12 SK PROSEK B - SK Volejbal Klatovy 2:0 (9\,17)
DTSTART;TZID=Europe/Berlin:20240210T143000
DTEND;TZID=Europe/Berlin:20240210T163000
LOCATION:SH SK Prosek\, Lovosická 559 Praha - Letňany
SUMMARY:CP-U16M-5E: SK PROSEK B-SK Volejbal Klatovy
END:VEVENT
BEGIN:VEVENT
UID:66633733-3937-4137-b536-613936336337
DTSTAMP:20260422T184150Z
DESCRIPTION:10/19 TJ Lokomotiva Česká Lípa\, z.s. - SK Volejbal Klatovy 2:0
  (14\,19)
DTSTART;TZID=Europe/Berlin:20240211T100000
DTEND;TZID=Europe/Berlin:20240211T120000
LOCATION:ZŠ Lada\, Šluknovská 2904 Česká Lípa
SUMMARY:CP-U16M-5E: TJ Lokomotiva Česká Lípa\, z.s.-SK Volejbal Klatovy
END:VEVENT
BEGIN:VEVENT
UID:30613938-3134-4034-b562-323731323865
DTSTAMP:20260422T184150Z
DESCRIPTION:4/8 SK Volejbal Klatovy - Plzeň 0:2 (-21\,-14)
DTSTART;TZID=Europe/Berlin:20240316T130000
DTEND;TZID=Europe/Berlin:20240316T150000
LOCATION:Sportovní hala ZŠ Čapkova\, Čapkova 136 Klatovy - Klatovy V
SUMMARY:CP-U16M-6H: SK Volejbal Klatovy-Plzeň
END:VEVENT
BEGIN:VEVENT
UID:64646533-6331-4235-b762-623864616163
DTSTAMP:20260422T184150Z
DESCRIPTION:7/14 SK Volejbal Klatovy - VK Lvi Praha B 2:1 (-9\,19\,8)
DTSTART;TZID=Europe/Berlin:20240316T160000
DTEND;TZID=Europe/Berlin:20240316T180000
LOCATION:Sportovní hala ZŠ Čapkova\, Čapkova 136 Klatovy - Klatovy V
SUMMARY:CP-U16M-6H: SK Volejbal Klatovy-VK Lvi Praha B
END:VEVENT
BEGIN:VEVENT
UID:63356666-3761-4738-b563-613336666463
DTSTAMP:20260422T184150Z
DESCRIPTION:9/17 SK Volejbal Klatovy - VK České Budějovice B 0:2 (-13\,-10)
DTSTART;TZID=Europe/Berlin:20240317T090000
DTEND;TZID=Europe/Berlin:20240317T110000
LOCATION:Sportovní hala ZŠ Čapkova\, Čapkova 136 Klatovy - Klatovy V
SUMMARY:CP-U16M-6H: SK Volejbal Klatovy-VK České Budějovice B
END:VEVENT
BEGIN:VEVENT
UID:32306161-6530-4362-b162-623030643730
DTSTAMP:20260422T184150Z
DESCRIPTION:13/25 SK Volejbal Klatovy - Volejbalový sportovní klub Český Kr
 umlov z.s. 2:1 (-24\,21\,1)
DTSTART;TZID=Europe/Berlin:20240317T130000
DTEND;TZID=Europe/Berlin:20240317T150000
LOCATION:Sportovní hala ZŠ Čapkova\, Čapkova 136 Klatovy - Klatovy V
SUMMARY:CP-U16M-6H: SK Volejbal Klatovy-Volejbalový sportovní klub Český Kr
 umlov z.s.
END:VEVENT
BEGIN:VEVENT
UID:66633639-6630-4037-b333-313735333537
DTSTAMP:20260422T184150Z
DESCRIPTION:2/4 TJ Lokomotiva Česká Lípa\, z.s. - SK Volejbal Klatovy 2:0 (
 9\,14)
DTSTART;TZID=Europe/Berlin:20240316T110000
DTEND;TZID=Europe/Berlin:20240316T130000
LOCATION:ZŠ Lada\, Šluknovská 2904 Česká Lípa
SUMMARY:CP-U16M-6H: TJ Lokomotiva Česká Lípa\, z.s.-SK Volejbal Klatovy
END:VEVENT
BEGIN:VEVENT
UID:30386265-3062-4365-b035-333465346361
DTSTAMP:20260422T184150Z
DESCRIPTION:6/11 Nová Paka - SK Volejbal Klatovy 2:1 (17\,-24\,9)
DTSTART;TZID=Europe/Berlin:20240316T150000
DTEND;TZID=Europe/Berlin:20240316T170000
LOCATION:ZŠ Husitská\, O. Číly 1933 Nová Paka
SUMMARY:CP-U16M-6H: Nová Paka-SK Volejbal Klatovy
END:VEVENT
BEGIN:VEVENT
UID:32633331-6238-4133-b466-626361666563
DTSTAMP:20260422T184150Z
DESCRIPTION:11/22 SK PROSEK B - SK Volejbal Klatovy 2:0 (10\,16)
DTSTART;TZID=Europe/Berlin:20240317T110000
DTEND;TZID=Europe/Berlin:20240317T130000
LOCATION:SH SK Prosek\, Lovosická 559 Praha - Letňany
SUMMARY:CP-U16M-6H: SK PROSEK B-SK Volejbal Klatovy
END:VEVENT
END:VCALENDAR
