BEGIN:VCALENDAR
VERSION:2.0
PRODID:-//SK Kojetín 2016, z.s.84584//NONSGML kigkonsult.se iCalcreator 2.41.80//
CALSCALE:GREGORIAN
UID:66633231-3035-4263-b362-643666613932
BEGIN:VEVENT
UID:39323630-6564-4666-b065-393666616436
DTSTAMP:20260422T075512Z
DESCRIPTION:6/6 SK Kojetín 2016\, z.s. - Volejbal Znojmo 2:0 (14\,16)
DTSTART;TZID=Europe/Berlin:20231014T151500
DTEND;TZID=Europe/Berlin:20231014T171500
LOCATION:Městská sportovní hala\, Hanusíkova 1476 Kojetín - Kojetín I-Město
SUMMARY:CP-U16M-V1D: SK Kojetín 2016\, z.s.-Volejbal Znojmo
END:VEVENT
BEGIN:VEVENT
UID:63393138-3037-4566-b062-376334636265
DTSTAMP:20260422T075512Z
DESCRIPTION:1/1 TJ Svitavy\, z.s. - SK Kojetín 2016\, z.s. 2:0 (25\,11)
DTSTART;TZID=Europe/Berlin:20231014T090000
DTEND;TZID=Europe/Berlin:20231014T110000
LOCATION:Sportovní hala Na Střelnici\, Pražská 2162 Svitavy - Předměstí
SUMMARY:CP-U16M-V1D: TJ Svitavy\, z.s.-SK Kojetín 2016\, z.s.
END:VEVENT
BEGIN:VEVENT
UID:39386330-3030-4761-b662-343131646466
DTSTAMP:20260422T075512Z
DESCRIPTION:3/3 TJ SOKOL LETOVICE\, z.s. - SK Kojetín 2016\, z.s. 1:2 (-17\
 ,19\,-13)
DTSTART;TZID=Europe/Berlin:20231014T113000
DTEND;TZID=Europe/Berlin:20231014T133000
LOCATION:Sportovní hala Letovice\, V zahradách 831 Letovice
SUMMARY:CP-U16M-V1D: TJ SOKOL LETOVICE\, z.s.-SK Kojetín 2016\, z.s.
END:VEVENT
BEGIN:VEVENT
UID:65363262-6538-4261-b163-306237313633
DTSTAMP:20260422T075512Z
DESCRIPTION:5/6 SK Kojetín 2016\, z.s. - Volejbal Znojmo 2:0 (20\,18)
DTSTART;TZID=Europe/Berlin:20231014T184500
DTEND;TZID=Europe/Berlin:20231014T204500
LOCATION:Městská sportovní hala\, Hanusíkova 1476 Kojetín - Kojetín I-Město
SUMMARY:CP-U16M-V1H: SK Kojetín 2016\, z.s.-Volejbal Znojmo
END:VEVENT
BEGIN:VEVENT
UID:34663161-3961-4532-b363-333632366461
DTSTAMP:20260422T075512Z
DESCRIPTION:1/2 Blue Ostrava - SK Kojetín 2016\, z.s. 0:2 (-9\,-29)
DTSTART;TZID=Europe/Berlin:20231014T163000
DTEND;TZID=Europe/Berlin:20231014T183000
LOCATION:Sportovní hala Nová Bělá\, Krmelínská 750 Ostrava - Nová Bělá
SUMMARY:CP-U16M-V1H: Blue Ostrava-SK Kojetín 2016\, z.s.
END:VEVENT
BEGIN:VEVENT
UID:63343133-6537-4066-a539-343865623363
DTSTAMP:20260422T075512Z
DESCRIPTION:2/3 Beach club Zlín\, z.s. - SK Kojetín 2016\, z.s. 0:2 (-20\,-
 20)
DTSTART;TZID=Europe/Berlin:20231014T163000
DTEND;TZID=Europe/Berlin:20231014T183000
LOCATION:Sportovní hala Rousínov\, Habrovanská 1199 Rousínov
SUMMARY:CP-U16M-V1H: Beach club Zlín\, z.s.-SK Kojetín 2016\, z.s.
END:VEVENT
BEGIN:VEVENT
UID:62666330-6432-4162-a134-346232643538
DTSTAMP:20260422T075512Z
DESCRIPTION:3/5 Sportovní volejbalový klub Nový Jičín\, z.s. - SK Kojetín 2
 016\, z.s. 2:1 (-22\,21\,16)
DTSTART;TZID=Europe/Berlin:20231015T113000
DTEND;TZID=Europe/Berlin:20231015T133000
LOCATION:Hala ABC\, Purkyňova 116 Nový Jičín
SUMMARY:CP-U16M-V1I: Sportovní volejbalový klub Nový Jičín\, z.s.-SK Kojetí
 n 2016\, z.s.
END:VEVENT
BEGIN:VEVENT
UID:63626134-3661-4137-a535-363133323432
DTSTAMP:20260422T075512Z
DESCRIPTION:1/2 SK Kojetín 2016\, z.s. - Blue Ostrava 2:0 (16\,14)
DTSTART;TZID=Europe/Berlin:20231118T090000
DTEND;TZID=Europe/Berlin:20231118T110000
LOCATION:Městská sportovní hala\, Hanusíkova 1476 Kojetín - Kojetín I-Město
SUMMARY:CP-U16M-V2B: SK Kojetín 2016\, z.s.-Blue Ostrava
END:VEVENT
BEGIN:VEVENT
UID:36666436-3462-4138-b838-306339663632
DTSTAMP:20260422T075512Z
DESCRIPTION:4/7 SK Kojetín 2016\, z.s. - Beach club Zlín\, z.s. 1:2 (-22\,1
 4\,-9)
DTSTART;TZID=Europe/Berlin:20231118T124500
DTEND;TZID=Europe/Berlin:20231118T144500
LOCATION:Městská sportovní hala\, Hanusíkova 1476 Kojetín - Kojetín I-Město
SUMMARY:CP-U16M-V2B: SK Kojetín 2016\, z.s.-Beach club Zlín\, z.s.
END:VEVENT
BEGIN:VEVENT
UID:63323162-3663-4131-b166-653134653335
DTSTAMP:20260422T075512Z
DESCRIPTION:7/13 SK Kojetín 2016\, z.s. - Spartak Velké Meziříčí 1:2 (20\,-
 21\,-6)
DTSTART;TZID=Europe/Berlin:20231118T151500
DTEND;TZID=Europe/Berlin:20231118T171500
LOCATION:Městská sportovní hala\, Hanusíkova 1476 Kojetín - Kojetín I-Město
SUMMARY:CP-U16M-V2B: SK Kojetín 2016\, z.s.-Spartak Velké Meziříčí
END:VEVENT
BEGIN:VEVENT
UID:65366439-3134-4438-b130-643934373034
DTSTAMP:20260422T075512Z
DESCRIPTION:8/16 Green F-M - SK Kojetín 2016\, z.s. 2:0 (21\,21)
DTSTART;TZID=Europe/Berlin:20231118T163000
DTEND;TZID=Europe/Berlin:20231118T183000
LOCATION:Hala SPŠ\, 28. října 1639 Frýdek-Místek - Místek
SUMMARY:CP-U16M-V2B: Green F-M-SK Kojetín 2016\, z.s.
END:VEVENT
BEGIN:VEVENT
UID:63663131-6336-4637-a362-313865306238
DTSTAMP:20260422T075512Z
DESCRIPTION:10/19 Volejbalový sportovní klub Český Krumlov z.s. - SK Kojetí
 n 2016\, z.s. 0:2 (-13\,-7)
DTSTART;TZID=Europe/Berlin:20231118T174500
DTEND;TZID=Europe/Berlin:20231118T194500
LOCATION:ZŠ Za Nádražím Český Krumlov\, Za Nádražím 222 Český Krumlov - Nád
 ražní Předměstí
SUMMARY:CP-U16M-V2B: Volejbalový sportovní klub Český Krumlov z.s.-SK Kojet
 ín 2016\, z.s.
END:VEVENT
BEGIN:VEVENT
UID:32363266-6234-4739-a164-326561336132
DTSTAMP:20260422T075512Z
DESCRIPTION:11/22 Volejbal Znojmo - SK Kojetín 2016\, z.s. 2:1 (-23\,11\,21
 )
DTSTART;TZID=Europe/Berlin:20231119T101500
DTEND;TZID=Europe/Berlin:20231119T121500
LOCATION:Tělocvična ZŠ Prokopa Diviše a MŠ\, Ke Škole 569 Znojmo - Přímětic
 e
SUMMARY:CP-U16M-V2B: Volejbal Znojmo-SK Kojetín 2016\, z.s.
END:VEVENT
BEGIN:VEVENT
UID:66343932-6163-4234-b265-336535383036
DTSTAMP:20260422T075512Z
DESCRIPTION:13/25 Sportovní volejbalový klub Nový Jičín\, z.s. - SK Kojetín
  2016\, z.s. 2:0 (8\,15)
DTSTART;TZID=Europe/Berlin:20231119T124500
DTEND;TZID=Europe/Berlin:20231119T144500
LOCATION:Hala ABC\, Purkyňova 116 Nový Jičín
SUMMARY:CP-U16M-V2B: Sportovní volejbalový klub Nový Jičín\, z.s.-SK Kojetí
 n 2016\, z.s.
END:VEVENT
BEGIN:VEVENT
UID:39323764-3134-4336-b832-313531376339
DTSTAMP:20260422T075512Z
DESCRIPTION:1/2 SK Kojetín 2016\, z.s. - Beach club Zlín\, z.s. 2:1 (20\,-2
 0\,13)
DTSTART;TZID=Europe/Berlin:20231202T090000
DTEND;TZID=Europe/Berlin:20231202T110000
LOCATION:Městská sportovní hala\, Hanusíkova 1476 Kojetín - Kojetín I-Město
SUMMARY:CP-U16M-V3B: SK Kojetín 2016\, z.s.-Beach club Zlín\, z.s.
END:VEVENT
BEGIN:VEVENT
UID:35633938-3561-4739-a337-396664333035
DTSTAMP:20260422T075512Z
DESCRIPTION:3/5 SK Kojetín 2016\, z.s. - Blue Ostrava 2:0 (8\,12)
DTSTART;TZID=Europe/Berlin:20231202T101500
DTEND;TZID=Europe/Berlin:20231202T121500
LOCATION:Městská sportovní hala\, Hanusíkova 1476 Kojetín - Kojetín I-Město
SUMMARY:CP-U16M-V3B: SK Kojetín 2016\, z.s.-Blue Ostrava
END:VEVENT
BEGIN:VEVENT
UID:63616232-3733-4337-a434-613565636462
DTSTAMP:20260422T075512Z
DESCRIPTION:4/8 SK Kojetín 2016\, z.s. - Volejbal Znojmo 2:0 (16\,16)
DTSTART;TZID=Europe/Berlin:20231202T113000
DTEND;TZID=Europe/Berlin:20231202T133000
LOCATION:Městská sportovní hala\, Hanusíkova 1476 Kojetín - Kojetín I-Město
SUMMARY:CP-U16M-V3B: SK Kojetín 2016\, z.s.-Volejbal Znojmo
END:VEVENT
BEGIN:VEVENT
UID:65373434-6666-4937-a339-383135366366
DTSTAMP:20260422T075512Z
DESCRIPTION:10/20 SK Kojetín 2016\, z.s. - Volejbalový sportovní klub Český
  Krumlov z.s. 2:0 (14\,7)
DTSTART;TZID=Europe/Berlin:20231202T163000
DTEND;TZID=Europe/Berlin:20231202T183000
LOCATION:Městská sportovní hala\, Hanusíkova 1476 Kojetín - Kojetín I-Město
SUMMARY:CP-U16M-V3B: SK Kojetín 2016\, z.s.-Volejbalový sportovní klub Česk
 ý Krumlov z.s.
END:VEVENT
BEGIN:VEVENT
UID:39316166-6562-4465-b837-643836613566
DTSTAMP:20260422T075512Z
DESCRIPTION:11/21 SK Kojetín 2016\, z.s. - Kladno volejbal cz 2:0 (12\,15)
DTSTART;TZID=Europe/Berlin:20231203T090000
DTEND;TZID=Europe/Berlin:20231203T110000
LOCATION:Městská sportovní hala\, Hanusíkova 1476 Kojetín - Kojetín I-Město
SUMMARY:CP-U16M-V3B: SK Kojetín 2016\, z.s.-Kladno volejbal cz
END:VEVENT
BEGIN:VEVENT
UID:30393338-6434-4330-a437-633433383661
DTSTAMP:20260422T075512Z
DESCRIPTION:13/25 SK Kojetín 2016\, z.s. - VS Ostrava 2:1 (-20\,10\,6)
DTSTART;TZID=Europe/Berlin:20231203T124500
DTEND;TZID=Europe/Berlin:20231203T144500
LOCATION:Městská sportovní hala\, Hanusíkova 1476 Kojetín - Kojetín I-Město
SUMMARY:CP-U16M-V3B: SK Kojetín 2016\, z.s.-VS Ostrava
END:VEVENT
BEGIN:VEVENT
UID:37646665-3433-4231-a637-623031386636
DTSTAMP:20260422T075512Z
DESCRIPTION:7/14 Velké Meziříčí - SK Kojetín 2016\, z.s. 1:2 (-20\,23\,-13)
DTSTART;TZID=Europe/Berlin:20231202T140000
DTEND;TZID=Europe/Berlin:20231202T160000
LOCATION:ZŠ Komenského\, Komenského 1 Velké Meziříčí
SUMMARY:CP-U16M-V3B: Velké Meziříčí-SK Kojetín 2016\, z.s.
END:VEVENT
BEGIN:VEVENT
UID:39383636-6663-4864-b432-363337643734
DTSTAMP:20260422T075512Z
DESCRIPTION:1/2 SK Kojetín 2016\, z.s. - AERO Odolena Voda 2:1 (18\,-14\,8)
DTSTART;TZID=Europe/Berlin:20240120T100000
DTEND;TZID=Europe/Berlin:20240120T120000
LOCATION:Městská sportovní hala\, Hanusíkova 1476 Kojetín - Kojetín I-Město
SUMMARY:CP-U16M-4D: SK Kojetín 2016\, z.s.-AERO Odolena Voda
END:VEVENT
BEGIN:VEVENT
UID:66353234-6531-4663-b339-396436386461
DTSTAMP:20260422T075512Z
DESCRIPTION:8/15 SK Kojetín 2016\, z.s. - Velké Meziříčí 2:0 (17\,12)
DTSTART;TZID=Europe/Berlin:20240120T170000
DTEND;TZID=Europe/Berlin:20240120T190000
LOCATION:Městská sportovní hala\, Hanusíkova 1476 Kojetín - Kojetín I-Město
SUMMARY:CP-U16M-4D: SK Kojetín 2016\, z.s.-Velké Meziříčí
END:VEVENT
BEGIN:VEVENT
UID:35626464-6565-4436-a134-313335666666
DTSTAMP:20260422T075512Z
DESCRIPTION:12/24 SK Kojetín 2016\, z.s. - TJ Lokomotiva Česká Lípa\, z.s. 
 2:0 (13\,19)
DTSTART;TZID=Europe/Berlin:20240121T120000
DTEND;TZID=Europe/Berlin:20240121T140000
LOCATION:Městská sportovní hala\, Hanusíkova 1476 Kojetín - Kojetín I-Město
SUMMARY:CP-U16M-4D: SK Kojetín 2016\, z.s.-TJ Lokomotiva Česká Lípa\, z.s.
END:VEVENT
BEGIN:VEVENT
UID:33326235-6666-4163-a335-386238633161
DTSTAMP:20260422T075512Z
DESCRIPTION:3/5 VK Dukla Liberec - SK Kojetín 2016\, z.s. 1:2 (-14\,25\,-10
 )
DTSTART;TZID=Europe/Berlin:20240120T120000
DTEND;TZID=Europe/Berlin:20240120T140000
LOCATION:Dukla Liberec\, Jeronýmova 558 Liberec - Liberec VII-Horní Růžodol
SUMMARY:CP-U16M-4D: VK Dukla Liberec-SK Kojetín 2016\, z.s.
END:VEVENT
BEGIN:VEVENT
UID:62316232-3035-4662-a231-393833353463
DTSTAMP:20260422T075512Z
DESCRIPTION:5/10 Tělovýchovná jednota Jiskra Nový Bor\, z.s. - SK Kojetín 2
 016\, z.s. 0:2 (-20\,-10)
DTSTART;TZID=Europe/Berlin:20240120T140000
DTEND;TZID=Europe/Berlin:20240120T160000
LOCATION:Sportovní hala Františka Arnošta Nový Bor\, U hřiště 1391 Nový Bor
SUMMARY:CP-U16M-4D: Tělovýchovná jednota Jiskra Nový Bor\, z.s.-SK Kojetín 
 2016\, z.s.
END:VEVENT
BEGIN:VEVENT
UID:34616262-3336-4234-b532-613939633030
DTSTAMP:20260422T075512Z
DESCRIPTION:10/20 Nová Paka - SK Kojetín 2016\, z.s. 0:2 (-12\,-13)
DTSTART;TZID=Europe/Berlin:20240121T100000
DTEND;TZID=Europe/Berlin:20240121T120000
LOCATION:ZŠ Husitská\, O. Číly 1933 Nová Paka
SUMMARY:CP-U16M-4D: Nová Paka-SK Kojetín 2016\, z.s.
END:VEVENT
BEGIN:VEVENT
UID:38383362-6562-4631-b538-383334613834
DTSTAMP:20260422T075512Z
DESCRIPTION:13/25 Volejbal Znojmo - SK Kojetín 2016\, z.s. 1:2 (19\,-14\,-1
 3)
DTSTART;TZID=Europe/Berlin:20240121T130000
DTEND;TZID=Europe/Berlin:20240121T150000
LOCATION:Tělocvična ZŠ Prokopa Diviše a MŠ\, Ke Škole 569 Znojmo - Přímětic
 e
SUMMARY:CP-U16M-4D: Volejbal Znojmo-SK Kojetín 2016\, z.s.
END:VEVENT
BEGIN:VEVENT
UID:61303134-3031-4463-b337-646232363733
DTSTAMP:20260422T075512Z
DESCRIPTION:5/11 SK Kojetín 2016\, z.s. - SKV Ústí n. L. 2:1 (-24\,20\,16)
DTSTART;TZID=Europe/Berlin:20240210T140000
DTEND;TZID=Europe/Berlin:20240210T160000
LOCATION:Městská sportovní hala\, Hanusíkova 1476 Kojetín - Kojetín I-Město
SUMMARY:CP-U16M-5C: SK Kojetín 2016\, z.s.-SKV Ústí n. L.
END:VEVENT
BEGIN:VEVENT
UID:32656533-3831-4364-b431-343131393636
DTSTAMP:20260422T075512Z
DESCRIPTION:6/14 SK Kojetín 2016\, z.s. - VS Ostrava 2:0 (12\,7)
DTSTART;TZID=Europe/Berlin:20240210T151500
DTEND;TZID=Europe/Berlin:20240210T171500
LOCATION:Městská sportovní hala\, Hanusíkova 1476 Kojetín - Kojetín I-Město
SUMMARY:CP-U16M-5C: SK Kojetín 2016\, z.s.-VS Ostrava
END:VEVENT
BEGIN:VEVENT
UID:34623735-3737-4535-a439-333966653263
DTSTAMP:20260422T075512Z
DESCRIPTION:8/19 SK Kojetín 2016\, z.s. - AERO Odolena Voda 2:0 (20\,13)
DTSTART;TZID=Europe/Berlin:20240210T174500
DTEND;TZID=Europe/Berlin:20240210T194500
LOCATION:Městská sportovní hala\, Hanusíkova 1476 Kojetín - Kojetín I-Město
SUMMARY:CP-U16M-5C: SK Kojetín 2016\, z.s.-AERO Odolena Voda
END:VEVENT
BEGIN:VEVENT
UID:33306132-3265-4038-b835-373165313664
DTSTAMP:20260422T075512Z
DESCRIPTION:1/1 Sportovní volejbalový klub Nový Jičín\, z.s. - SK Kojetín 2
 016\, z.s. 2:0 (17\,22)\nN. Jičín
DTSTART;TZID=Europe/Berlin:20240210T090000
DTEND;TZID=Europe/Berlin:20240210T110000
LOCATION:Hala ABC\, Purkyňova 116 Nový Jičín
SUMMARY:CP-U16M-5C: Sportovní volejbalový klub Nový Jičín\, z.s.-SK Kojetín
  2016\, z.s.
END:VEVENT
BEGIN:VEVENT
UID:34313933-3566-4639-b431-623066353436
DTSTAMP:20260422T075512Z
DESCRIPTION:4/7 TJ Slavia HK - SK Kojetín 2016\, z.s. 2:1 (-23\,24\,5)
DTSTART;TZID=Europe/Berlin:20240210T124500
DTEND;TZID=Europe/Berlin:20240210T144500
LOCATION:TJ Slavia Hradec Králové\, Víta Nejedlého 1216 Hradec Králové
SUMMARY:CP-U16M-5C: TJ Slavia HK-SK Kojetín 2016\, z.s.
END:VEVENT
BEGIN:VEVENT
UID:63303632-6332-4833-a466-626262616563
DTSTAMP:20260422T075512Z
DESCRIPTION:11/25 Volejbal Sokolov\, z.s. - SK Kojetín 2016\, z.s. 0:2 (-24
 \,-18)
DTSTART;TZID=Europe/Berlin:20240211T113000
DTEND;TZID=Europe/Berlin:20240211T133000
LOCATION:Jiskra\, Maxima Gorkého 280 Sokolov
SUMMARY:CP-U16M-5C: Volejbal Sokolov\, z.s.-SK Kojetín 2016\, z.s.
END:VEVENT
BEGIN:VEVENT
UID:65343733-6365-4535-a462-396261386631
DTSTAMP:20260422T075512Z
DESCRIPTION:12/28 SK Meteor Praha - SK Kojetín 2016\, z.s. 0:2 (-22\,-20)
DTSTART;TZID=Europe/Berlin:20240211T124500
DTEND;TZID=Europe/Berlin:20240211T144500
LOCATION:ZŠ Žernosecká\, Žernosecká 1597 Praha - Kobylisy
SUMMARY:CP-U16M-5C: SK Meteor Praha-SK Kojetín 2016\, z.s.
END:VEVENT
BEGIN:VEVENT
UID:33316439-3631-4863-a232-343532306461
DTSTAMP:20260422T075512Z
DESCRIPTION:6/6 SK Kojetín 2016\, z.s. - VK Dukla Liberec 2:0 (13\,7)
DTSTART;TZID=Europe/Berlin:20240316T131500
DTEND;TZID=Europe/Berlin:20240316T151500
LOCATION:Městská sportovní hala\, Hanusíkova 1476 Kojetín - Kojetín I-Město
SUMMARY:CP-U16M-6E: SK Kojetín 2016\, z.s.-VK Dukla Liberec
END:VEVENT
BEGIN:VEVENT
UID:37346134-6135-4431-b862-353436353162
DTSTAMP:20260422T075512Z
DESCRIPTION:2/2 VS Ostrava - SK Kojetín 2016\, z.s. 0:2 (-24\,-20)
DTSTART;TZID=Europe/Berlin:20240315T163500
DTEND;TZID=Europe/Berlin:20240315T183500
LOCATION:SŠSS Krakovská \, Krakovská 1095 Ostrava - Hrabůvka
SUMMARY:CP-U16M-6E: VS Ostrava-SK Kojetín 2016\, z.s.
END:VEVENT
BEGIN:VEVENT
UID:38396461-3263-4538-b065-353836306234
DTSTAMP:20260422T075512Z
DESCRIPTION:3/3 TJ SOKOL LETOVICE\, z.s. - SK Kojetín 2016\, z.s. 2:1 (15\,
 -22\,11)
DTSTART;TZID=Europe/Berlin:20240316T093000
DTEND;TZID=Europe/Berlin:20240316T113000
LOCATION:Sportovní hala Letovice\, V zahradách 831 Letovice
SUMMARY:CP-U16M-6E: TJ SOKOL LETOVICE\, z.s.-SK Kojetín 2016\, z.s.
END:VEVENT
BEGIN:VEVENT
UID:65323834-3032-4362-a162-383466623362
DTSTAMP:20260422T075512Z
DESCRIPTION:1/1 SK Kojetín 2016\, z.s. - AERO Odolena Voda 0:2 (-22\,-23)\n
 E2-F3
DTSTART;TZID=Europe/Berlin:20240316T144500
DTEND;TZID=Europe/Berlin:20240316T164500
LOCATION:Městská sportovní hala\, Hanusíkova 1476 Kojetín - Kojetín I-Město
SUMMARY:CP-U16M-P3: SK Kojetín 2016\, z.s.-AERO Odolena Voda
END:VEVENT
BEGIN:VEVENT
UID:30663932-3133-4266-b263-336333663330
DTSTAMP:20260422T075512Z
DESCRIPTION:2/6 SK Kojetín 2016\, z.s. - Velké Meziříčí 2:0 (23\,22)\nsemif
 inále 3 (3.os.)
DTSTART;TZID=Europe/Berlin:20240316T171500
DTEND;TZID=Europe/Berlin:20240316T191500
LOCATION:Městská sportovní hala\, Hanusíkova 1476 Kojetín - Kojetín I-Město
SUMMARY:CP-U16M-P3: SK Kojetín 2016\, z.s.-Velké Meziříčí
END:VEVENT
BEGIN:VEVENT
UID:33343162-3061-4438-b632-343034363636
DTSTAMP:20260422T075512Z
DESCRIPTION:3/10 SK Kojetín 2016\, z.s. - Orion Praha 2:0 (10\,22)\nFinále 
 21-22
DTSTART;TZID=Europe/Berlin:20240317T103000
DTEND;TZID=Europe/Berlin:20240317T123000
LOCATION:Městská sportovní hala\, Hanusíkova 1476 Kojetín - Kojetín I-Město
SUMMARY:CP-U16M-P3: SK Kojetín 2016\, z.s.-Orion Praha
END:VEVENT
END:VCALENDAR
