BEGIN:VCALENDAR
VERSION:2.0
PRODID:-//TJ Slavia Hradec Králové, z.s.85005//NONSGML kigkonsult.se iCalcreator 2.41.80//
CALSCALE:GREGORIAN
UID:65323439-3730-4639-a135-383938343464
BEGIN:VEVENT
UID:64323665-6366-4531-b137-326638616165
DTSTAMP:20260422T205229Z
DESCRIPTION:1/1 TJ Slavia HK - SK Volejbal Kolín\, z.s. 2:0 (26\,19)
DTSTART;TZID=Europe/Berlin:20240414T090000
DTEND;TZID=Europe/Berlin:20240414T110000
LOCATION:TJ Slavia Hradec Králové\, Víta Nejedlého 1216 Hradec Králové
SUMMARY:MCR-U14MH: TJ Slavia HK-SK Volejbal Kolín\, z.s.
END:VEVENT
BEGIN:VEVENT
UID:36376435-3539-4934-b437-616236316565
DTSTAMP:20260422T205229Z
DESCRIPTION:8/8 TJ Slavia HK - Tělocvičná jednota Sokol Česká Třebová 2:0 (
 11\,5)
DTSTART;TZID=Europe/Berlin:20240414T160000
DTEND;TZID=Europe/Berlin:20240414T180000
LOCATION:TJ Slavia Hradec Králové\, Víta Nejedlého 1216 Hradec Králové
SUMMARY:MCR-U14MH: TJ Slavia HK-Tělocvičná jednota Sokol Česká Třebová
END:VEVENT
BEGIN:VEVENT
UID:63373637-3037-4162-b030-363866323137
DTSTAMP:20260422T205229Z
DESCRIPTION:4/4 VK Karlovarsko\, z.s. - TJ Slavia HK 0:2 (-14\,-15)
DTSTART;TZID=Europe/Berlin:20240414T120000
DTEND;TZID=Europe/Berlin:20240414T140000
LOCATION:Mattoni Arena Hala míčových sportů\, Západní 1812 Karlovy Vary
SUMMARY:MCR-U14MH: VK Karlovarsko\, z.s.-TJ Slavia HK
END:VEVENT
BEGIN:VEVENT
UID:32316630-6165-4439-a466-343830343639
DTSTAMP:20260422T205229Z
DESCRIPTION:9/9 Orion Praha - TJ Slavia HK 0:2 (-18\,-13)
DTSTART;TZID=Europe/Berlin:20240414T170000
DTEND;TZID=Europe/Berlin:20240414T190000
LOCATION:ZŠ prof. Švejcara\, Mráčkova\, Mráčkova 3090 Praha - Modřany
SUMMARY:MCR-U14MH: Orion Praha-TJ Slavia HK
END:VEVENT
BEGIN:VEVENT
UID:30316166-3331-4736-a630-386331336131
DTSTAMP:20260422T205229Z
DESCRIPTION:1/1 TJ Slavia HK - Green Volley Frýdek-Místek\, z.s. 2:0 (17\,2
 6)
DTSTART;TZID=Europe/Berlin:20240503T100000
DTEND;TZID=Europe/Berlin:20240503T120000
LOCATION:TJ Slavia Hradec Králové\, Víta Nejedlého 1216 Hradec Králové
SUMMARY:MCR-U14MFA: TJ Slavia HK-Green Volley Frýdek-Místek\, z.s.
END:VEVENT
BEGIN:VEVENT
UID:66343934-6164-4261-b031-333361386632
DTSTAMP:20260422T205229Z
DESCRIPTION:5/8 TJ Slavia HK - Tělovýchovná jednota Jiskra Havlíčkův Brod z
 .s. 2:0 (13\,18)
DTSTART;TZID=Europe/Berlin:20240503T173000
DTEND;TZID=Europe/Berlin:20240503T193000
LOCATION:TJ Slavia Hradec Králové\, Víta Nejedlého 1216 Hradec Králové
SUMMARY:MCR-U14MFA: TJ Slavia HK-Tělovýchovná jednota Jiskra Havlíčkův Brod
  z.s.
END:VEVENT
BEGIN:VEVENT
UID:38303661-3637-4736-b536-323236653938
DTSTAMP:20260422T205229Z
DESCRIPTION:2/3 SK PROSEK A - TJ Slavia HK 2:0 (14\,13)
DTSTART;TZID=Europe/Berlin:20240503T113000
DTEND;TZID=Europe/Berlin:20240503T133000
LOCATION:SH SK Prosek\, Lovosická 559 Praha - Letňany
SUMMARY:MCR-U14MFA: SK PROSEK A-TJ Slavia HK
END:VEVENT
BEGIN:VEVENT
UID:37353930-6139-4162-a530-656566653261
DTSTAMP:20260422T205229Z
DESCRIPTION:6/9 VK Č. Budějovice - TJ Slavia HK 2:0 (8\,15)
DTSTART;TZID=Europe/Berlin:20240504T100000
DTEND;TZID=Europe/Berlin:20240504T120000
LOCATION:ZŠ Oskara Nedbala České Budějovice\, O. Nedbala 882 České Budějovi
 ce - České Budějovice 2
SUMMARY:MCR-U14MFA: VK Č. Budějovice-TJ Slavia HK
END:VEVENT
BEGIN:VEVENT
UID:32363030-3438-4235-b633-626264373438
DTSTAMP:20260422T205229Z
DESCRIPTION:2/6 TJ Slavia HK - VK Jirkov 0:2 (-14\,-19)\n6E-5F
DTSTART;TZID=Europe/Berlin:20240505T130000
DTEND;TZID=Europe/Berlin:20240505T150000
LOCATION:TJ Slavia Hradec Králové\, Víta Nejedlého 1216 Hradec Králové
SUMMARY:MCR-U14MFI: TJ Slavia HK-VK Jirkov
END:VEVENT
BEGIN:VEVENT
UID:39653431-3032-4036-a332-646565343835
DTSTAMP:20260422T205229Z
DESCRIPTION:3/10 AERO Odolena Voda - TJ Slavia HK 2:1 (-27\,15\,14)\no 11. 
 a 12. místo
DTSTART;TZID=Europe/Berlin:20240505T143000
DTEND;TZID=Europe/Berlin:20240505T163000
LOCATION:Sportovní hala\, Ke Stadionu 375 Odolena Voda
SUMMARY:MCR-U14MFI: AERO Odolena Voda-TJ Slavia HK
END:VEVENT
BEGIN:VEVENT
UID:31646639-6562-4466-a132-313931623432
DTSTAMP:20260422T205229Z
DESCRIPTION:1/3 TJ Slavia HK - AERO Odolena Voda 1:2 (14\,-20\,-12)\n3A-3B
DTSTART;TZID=Europe/Berlin:20240504T130000
DTEND;TZID=Europe/Berlin:20240504T150000
LOCATION:TJ Slavia Hradec Králové\, Víta Nejedlého 1216 Hradec Králové
SUMMARY:MCR-U14MFE: TJ Slavia HK-AERO Odolena Voda
END:VEVENT
BEGIN:VEVENT
UID:38326430-3235-4332-a231-633134663132
DTSTAMP:20260422T205229Z
DESCRIPTION:2/6 TJ Slavia HK - VK SPORT Rychnov nad Kněžnou\, z.s. 0:2 (-17
 \,-19)\n3A-1B
DTSTART;TZID=Europe/Berlin:20240504T160000
DTEND;TZID=Europe/Berlin:20240504T180000
LOCATION:TJ Slavia Hradec Králové\, Víta Nejedlého 1216 Hradec Králové
SUMMARY:MCR-U14MFE: TJ Slavia HK-VK SPORT Rychnov nad Kněžnou\, z.s.
END:VEVENT
BEGIN:VEVENT
UID:30363861-6638-4238-a534-316233303364
DTSTAMP:20260422T205229Z
DESCRIPTION:3/9 TJ Slavia HK - TESLA BRNO 0:2 (-18\,-8)\n3A-2B
DTSTART;TZID=Europe/Berlin:20240505T100000
DTEND;TZID=Europe/Berlin:20240505T120000
LOCATION:TJ Slavia Hradec Králové\, Víta Nejedlého 1216 Hradec Králové
SUMMARY:MCR-U14MFE: TJ Slavia HK-TESLA BRNO
END:VEVENT
END:VCALENDAR
