BEGIN:VCALENDAR
VERSION:2.0
PRODID:-//Volejbalový klub Madeta České Budějovice, z.s.85007//NONSGML kigkonsult.se iCalcreator 2.41.80//
CALSCALE:GREGORIAN
UID:33646538-3461-4631-b664-373936306633
BEGIN:VEVENT
UID:36643661-3939-4133-a162-643936636539
DTSTAMP:20260422T001251Z
DESCRIPTION:3/3 VK Madeta ČB - Olymp Praha B 2:0 (12\,19)
DTSTART;TZID=Europe/Berlin:20240323T113000
DTEND;TZID=Europe/Berlin:20240323T133000
LOCATION:Sportovní hala\, Stromovka 1216 České Budějovice - České Budějovic
 e 2
SUMMARY:MCR-U14Z-1AA: VK Madeta ČB-Olymp Praha B
END:VEVENT
BEGIN:VEVENT
UID:34636136-3964-4966-b436-366232313735
DTSTAMP:20260422T001251Z
DESCRIPTION:2/2 VA-Klokani - VK Madeta ČB 1:2 (-10\,24\,-5)
DTSTART;TZID=Europe/Berlin:20240323T101500
DTEND;TZID=Europe/Berlin:20240323T121500
LOCATION:Sportovní hala Textilka\, Gustava Geipela 2713 Aš
SUMMARY:MCR-U14Z-1AA: VA-Klokani-VK Madeta ČB
END:VEVENT
BEGIN:VEVENT
UID:35306334-6266-4264-a138-386331656233
DTSTAMP:20260422T001251Z
DESCRIPTION:3/3 VK Madeta ČB - Kralupy 2:0 (23\,14)
DTSTART;TZID=Europe/Berlin:20240323T153000
DTEND;TZID=Europe/Berlin:20240323T173000
LOCATION:Sportovní hala\, Stromovka 1216 České Budějovice - České Budějovic
 e 2
SUMMARY:MCR-U14Z-1AD: VK Madeta ČB-Kralupy
END:VEVENT
BEGIN:VEVENT
UID:31383261-6330-4732-b538-386163393261
DTSTAMP:20260422T001251Z
DESCRIPTION:2/2 Sokolov - VK Madeta ČB 0:2 (-14\,-16)
DTSTART;TZID=Europe/Berlin:20240323T141500
DTEND;TZID=Europe/Berlin:20240323T161500
LOCATION:Jiskra\, Maxima Gorkého 280 Sokolov
SUMMARY:MCR-U14Z-1AD: Sokolov-VK Madeta ČB
END:VEVENT
BEGIN:VEVENT
UID:66633364-6534-4436-b230-356165373266
DTSTAMP:20260422T001251Z
DESCRIPTION:3/3 VK Madeta ČB - Mikulova Praha B 0:2 (-19\,-22)
DTSTART;TZID=Europe/Berlin:20240324T113000
DTEND;TZID=Europe/Berlin:20240324T133000
LOCATION:Sportovní hala\, Stromovka 1216 České Budějovice - České Budějovic
 e 2
SUMMARY:MCR-U14Z-1A1: VK Madeta ČB-Mikulova Praha B
END:VEVENT
BEGIN:VEVENT
UID:64376132-3934-4439-b235-653931373364
DTSTAMP:20260422T001251Z
DESCRIPTION:2/2 Hořovice - VK Madeta ČB 1:2 (-9\,18\,-10)
DTSTART;TZID=Europe/Berlin:20240324T101500
DTEND;TZID=Europe/Berlin:20240324T121500
LOCATION:Sportovní hala\, Ke Stadionu 1385 Hořovice
SUMMARY:MCR-U14Z-1A1: Hořovice-VK Madeta ČB
END:VEVENT
BEGIN:VEVENT
UID:35666161-3965-4434-b934-646230633536
DTSTAMP:20260422T001251Z
DESCRIPTION:2/4 Frýdek - Místek - VK Madeta ČB 0:2 (-10\,-9)\nLH
DTSTART;TZID=Europe/Berlin:20240427T101500
DTEND;TZID=Europe/Berlin:20240427T121500
LOCATION:ZŠ 1.máje 1700 Frýdek-Místek\, 1. máje 1700 Frýdek-Místek - Místek
SUMMARY:MCR-U14Z-2E: Frýdek - Místek-VK Madeta ČB
END:VEVENT
BEGIN:VEVENT
UID:37666463-3337-4230-b961-613136316638
DTSTAMP:20260422T001251Z
DESCRIPTION:4/8 Orion Praha - VK Madeta ČB 2:1 (-24\,20\,4)\nLH
DTSTART;TZID=Europe/Berlin:20240427T124500
DTEND;TZID=Europe/Berlin:20240427T144500
LOCATION:ZŠ Dolní Břežany\, Na Vršku 290 Dolní Břežany
SUMMARY:MCR-U14Z-2E: Orion Praha-VK Madeta ČB
END:VEVENT
BEGIN:VEVENT
UID:63326234-3462-4535-b736-306438633331
DTSTAMP:20260422T001251Z
DESCRIPTION:5/10 VK Olomouc UP - VK Madeta ČB 1:2 (12\,-19\,-13)\nLH
DTSTART;TZID=Europe/Berlin:20240427T140000
DTEND;TZID=Europe/Berlin:20240427T160000
LOCATION:UP Olomouc\, U sportovní haly 38 Olomouc - Lazce
SUMMARY:MCR-U14Z-2E: VK Olomouc UP-VK Madeta ČB
END:VEVENT
BEGIN:VEVENT
UID:39323039-3130-4363-a438-376431653739
DTSTAMP:20260422T001251Z
DESCRIPTION:8/15 Prostějov 'A' - VK Madeta ČB 2:0 (24\,24)\nDDM
DTSTART;TZID=Europe/Berlin:20240427T174500
DTEND;TZID=Europe/Berlin:20240427T194500
LOCATION:Národní sportovní centrum\, Za velodromem 4187 Prostějov
SUMMARY:MCR-U14Z-2E: Prostějov 'A'-VK Madeta ČB
END:VEVENT
BEGIN:VEVENT
UID:31316433-6131-4130-b265-623135326537
DTSTAMP:20260422T001251Z
DESCRIPTION:10/19 VK KP Milénova - VK Madeta ČB 0:2 (-27\,-24)\nDDM
DTSTART;TZID=Europe/Berlin:20240428T101500
DTEND;TZID=Europe/Berlin:20240428T121500
LOCATION:ZŠ Milénova 14\, Milénova 808 Brno - Lesná
SUMMARY:MCR-U14Z-2E: VK KP Milénova-VK Madeta ČB
END:VEVENT
BEGIN:VEVENT
UID:39333062-3737-4861-b666-373036666133
DTSTAMP:20260422T001251Z
DESCRIPTION:11/22 SKV Ústí n/L - VK Madeta ČB 0:2 (-11\,-16)\nDDM
DTSTART;TZID=Europe/Berlin:20240428T113000
DTEND;TZID=Europe/Berlin:20240428T133000
LOCATION:Základní škola Stříbrnická\, Stříbrnická 3031 Ústí nad Labem - Sev
 erní Terasa
SUMMARY:MCR-U14Z-2E: SKV Ústí n/L-VK Madeta ČB
END:VEVENT
BEGIN:VEVENT
UID:37646430-3961-4734-a636-323239663938
DTSTAMP:20260422T001251Z
DESCRIPTION:13/25 Žatec - VK Madeta ČB 1:2 (-22\,18\,-9)\nDDM
DTSTART;TZID=Europe/Berlin:20240428T140000
DTEND;TZID=Europe/Berlin:20240428T160000
LOCATION:Sportovní hala TJ Sever Žatec\, Plzeňská 2787 Žatec
SUMMARY:MCR-U14Z-2E: Žatec-VK Madeta ČB
END:VEVENT
END:VCALENDAR
