BEGIN:VCALENDAR
VERSION:2.0
PRODID:-//Green Volley Frýdek-Místek, z.s.85013//NONSGML kigkonsult.se iCalcreator 2.41.80//
CALSCALE:GREGORIAN
UID:63383563-6437-4761-a335-383866646437
BEGIN:VEVENT
UID:38623630-3333-4638-b834-313331633837
DTSTAMP:20260423T094125Z
DESCRIPTION:1/1 Green Volley Frýdek-Místek\, z.s. - Sportovní volejbalový k
 lub Nový Jičín\, z.s. 2:0 (9\,14)\nNový JIčín
DTSTART;TZID=Europe/Berlin:20240413T100000
DTEND;TZID=Europe/Berlin:20240413T120000
LOCATION:Hala SPŠ\, 28. října 1639 Frýdek-Místek - Místek
SUMMARY:MCR-U14MA: Green Volley Frýdek-Místek\, z.s.-Sportovní volejbalový 
 klub Nový Jičín\, z.s.
END:VEVENT
BEGIN:VEVENT
UID:61333962-6266-4236-b831-363930363533
DTSTAMP:20260423T094125Z
DESCRIPTION:3/4 Green Volley Frýdek-Místek\, z.s. - Beach club Zlín\, z.s. 
 0:2 (-21\,-21)
DTSTART;TZID=Europe/Berlin:20240413T120000
DTEND;TZID=Europe/Berlin:20240413T140000
LOCATION:Hala SPŠ\, 28. října 1639 Frýdek-Místek - Místek
SUMMARY:MCR-U14MA: Green Volley Frýdek-Místek\, z.s.-Beach club Zlín\, z.s.
END:VEVENT
BEGIN:VEVENT
UID:30666133-3130-4733-a331-376561353162
DTSTAMP:20260423T094125Z
DESCRIPTION:4/6 Green Volley Frýdek-Místek\, z.s. - Volejbalový klub Ostrav
 a\, z.s. 2:0 (18\,10)
DTSTART;TZID=Europe/Berlin:20240413T130000
DTEND;TZID=Europe/Berlin:20240413T150000
LOCATION:Hala SPŠ\, 28. října 1639 Frýdek-Místek - Místek
SUMMARY:MCR-U14MA: Green Volley Frýdek-Místek\, z.s.-Volejbalový klub Ostra
 va\, z.s.
END:VEVENT
BEGIN:VEVENT
UID:38313430-6165-4962-b061-396365613130
DTSTAMP:20260423T094125Z
DESCRIPTION:6/8 Green Volley Frýdek-Místek\, z.s. - Red Volley Frýdlant n/O
  2:0 (23\,12)
DTSTART;TZID=Europe/Berlin:20240413T150000
DTEND;TZID=Europe/Berlin:20240413T170000
LOCATION:Hala SPŠ\, 28. října 1639 Frýdek-Místek - Místek
SUMMARY:MCR-U14MA: Green Volley Frýdek-Místek\, z.s.-Red Volley Frýdlant n/
 O
END:VEVENT
BEGIN:VEVENT
UID:31306263-3338-4134-b232-663739333665
DTSTAMP:20260423T094125Z
DESCRIPTION:2/4 Green Volley Frýdek-Místek\, z.s. - Tělovýchovná jednota Ji
 skra Havlíčkův Brod z.s. 2:0 (15\,9)
DTSTART;TZID=Europe/Berlin:20240503T113000
DTEND;TZID=Europe/Berlin:20240503T133000
LOCATION:Hala SPŠ\, 28. října 1639 Frýdek-Místek - Místek
SUMMARY:MCR-U14MFA: Green Volley Frýdek-Místek\, z.s.-Tělovýchovná jednota 
 Jiskra Havlíčkův Brod z.s.
END:VEVENT
BEGIN:VEVENT
UID:32613633-3230-4562-b034-613035656365
DTSTAMP:20260423T094125Z
DESCRIPTION:6/10 Green Volley Frýdek-Místek\, z.s. - SK PROSEK A 0:2 (-10\,
 -17)
DTSTART;TZID=Europe/Berlin:20240504T100000
DTEND;TZID=Europe/Berlin:20240504T120000
LOCATION:Hala SPŠ\, 28. října 1639 Frýdek-Místek - Místek
SUMMARY:MCR-U14MFA: Green Volley Frýdek-Místek\, z.s.-SK PROSEK A
END:VEVENT
BEGIN:VEVENT
UID:38323130-3663-4534-b537-313838623563
DTSTAMP:20260423T094125Z
DESCRIPTION:1/1 TJ Slavia HK - Green Volley Frýdek-Místek\, z.s. 2:0 (17\,2
 6)
DTSTART;TZID=Europe/Berlin:20240503T100000
DTEND;TZID=Europe/Berlin:20240503T120000
LOCATION:TJ Slavia Hradec Králové\, Víta Nejedlého 1216 Hradec Králové
SUMMARY:MCR-U14MFA: TJ Slavia HK-Green Volley Frýdek-Místek\, z.s.
END:VEVENT
BEGIN:VEVENT
UID:33356664-6338-4139-b431-666131613861
DTSTAMP:20260423T094125Z
DESCRIPTION:3/5 VK Č. Budějovice - Green Volley Frýdek-Místek\, z.s. 2:0 (7
 \,9)
DTSTART;TZID=Europe/Berlin:20240503T143000
DTEND;TZID=Europe/Berlin:20240503T163000
LOCATION:ZŠ Oskara Nedbala České Budějovice\, O. Nedbala 882 České Budějovi
 ce - České Budějovice 2
SUMMARY:MCR-U14MFA: VK Č. Budějovice-Green Volley Frýdek-Místek\, z.s.
END:VEVENT
BEGIN:VEVENT
UID:62636264-6137-4939-a635-353266636630
DTSTAMP:20260423T094125Z
DESCRIPTION:1/1 Green Volley Frýdek-Místek\, z.s. - TJ ABC Braník\, z.s. 2:
 0 (20\,8)\n4A-4B
DTSTART;TZID=Europe/Berlin:20240504T143000
DTEND;TZID=Europe/Berlin:20240504T163000
LOCATION:Hala SPŠ\, 28. října 1639 Frýdek-Místek - Místek
SUMMARY:MCR-U14MFG: Green Volley Frýdek-Místek\, z.s.-TJ ABC Braník\, z.s.
END:VEVENT
BEGIN:VEVENT
UID:37353739-6563-4462-b830-323365376564
DTSTAMP:20260423T094125Z
DESCRIPTION:3/3 Green Volley Frýdek-Místek\, z.s. - Volejbal Ostrava 2:1 (-
 22\,22\,11)\n4A-4C
DTSTART;TZID=Europe/Berlin:20240504T173000
DTEND;TZID=Europe/Berlin:20240504T193000
LOCATION:Hala SPŠ\, 28. října 1639 Frýdek-Místek - Místek
SUMMARY:MCR-U14MFG: Green Volley Frýdek-Místek\, z.s.-Volejbal Ostrava
END:VEVENT
BEGIN:VEVENT
UID:33326533-6634-4264-b331-396235623164
DTSTAMP:20260423T094125Z
DESCRIPTION:5/5 Green Volley Frýdek-Místek\, z.s. - Tělovýchovná jednota Sp
 artak Velké Meziříčí\, z.s. 1:2 (-23\,28\,-12)\n4A-4D
DTSTART;TZID=Europe/Berlin:20240505T113000
DTEND;TZID=Europe/Berlin:20240505T133000
LOCATION:Hala SPŠ\, 28. října 1639 Frýdek-Místek - Místek
SUMMARY:MCR-U14MFG: Green Volley Frýdek-Místek\, z.s.-Tělovýchovná jednota 
 Spartak Velké Meziříčí\, z.s.
END:VEVENT
END:VCALENDAR
