BEGIN:VCALENDAR
VERSION:2.0
PRODID:-//TJ Svitavy, z.s.85017//NONSGML kigkonsult.se iCalcreator 2.41.80//
CALSCALE:GREGORIAN
UID:30653236-3338-4163-b230-356265623835
BEGIN:VEVENT
UID:61303963-6635-4037-a464-663565333038
DTSTAMP:20260422T014818Z
DESCRIPTION:2/2 TJ Svitavy - Junior Brno 2:0 (11\,5)
DTSTART;TZID=Europe/Berlin:20240323T110000
DTEND;TZID=Europe/Berlin:20240323T130000
LOCATION:Sportovní hala Na Střelnici\, Pražská 2162 Svitavy - Předměstí
SUMMARY:MCR-U14Z-1HA: TJ Svitavy-Junior Brno
END:VEVENT
BEGIN:VEVENT
UID:36343733-3237-4637-a132-646432303034
DTSTAMP:20260422T014818Z
DESCRIPTION:3/3 ŠSK Bílovec - TJ Svitavy 2:0 (19\,12)
DTSTART;TZID=Europe/Berlin:20240323T123000
DTEND;TZID=Europe/Berlin:20240323T143000
LOCATION:Hala ZŠ Komenského\, Komenského 701 Bílovec
SUMMARY:MCR-U14Z-1HA: ŠSK Bílovec-TJ Svitavy
END:VEVENT
BEGIN:VEVENT
UID:65656631-6562-4538-a237-643039656134
DTSTAMP:20260422T014818Z
DESCRIPTION:2/2 TJ Svitavy - VAM Olomouc 2:0 (21\,17)
DTSTART;TZID=Europe/Berlin:20240323T144500
DTEND;TZID=Europe/Berlin:20240323T164500
LOCATION:Sportovní hala Na Střelnici\, Pražská 2162 Svitavy - Předměstí
SUMMARY:MCR-U14Z-1HF: TJ Svitavy-VAM Olomouc
END:VEVENT
BEGIN:VEVENT
UID:34643930-3362-4238-b039-663332303466
DTSTAMP:20260422T014818Z
DESCRIPTION:3/3 VK Olomouc UP - TJ Svitavy 2:0 (10\,18)
DTSTART;TZID=Europe/Berlin:20240323T161500
DTEND;TZID=Europe/Berlin:20240323T181500
LOCATION:UP Olomouc\, U sportovní haly 38 Olomouc - Lazce
SUMMARY:MCR-U14Z-1HF: VK Olomouc UP-TJ Svitavy
END:VEVENT
BEGIN:VEVENT
UID:62316434-6535-4533-a239-633130616234
DTSTAMP:20260422T014818Z
DESCRIPTION:2/2 VK Prostějov 'B' - TJ Svitavy 2:1 (24\,-20\,12)
DTSTART;TZID=Europe/Berlin:20240324T103000
DTEND;TZID=Europe/Berlin:20240324T123000
LOCATION:Národní sportovní centrum\, Za velodromem 4187 Prostějov
SUMMARY:MCR-U14Z-1H2: VK Prostějov 'B'-TJ Svitavy
END:VEVENT
BEGIN:VEVENT
UID:62323837-6139-4832-a461-343531303261
DTSTAMP:20260422T014818Z
DESCRIPTION:3/3 VSC Zlín - TJ Svitavy 2:0 (17\,10)
DTSTART;TZID=Europe/Berlin:20240324T120000
DTEND;TZID=Europe/Berlin:20240324T140000
LOCATION:ZŠ Okružní Zlín\, Okružní 4685 Zlín
SUMMARY:MCR-U14Z-1H2: VSC Zlín-TJ Svitavy
END:VEVENT
END:VCALENDAR
