BEGIN:VCALENDAR
VERSION:2.0
PRODID:-//VK Sever Žatec, z.s.85023//NONSGML kigkonsult.se iCalcreator 2.41.80//
CALSCALE:GREGORIAN
UID:65323862-6333-4137-a164-376665666166
BEGIN:VEVENT
UID:32363634-3961-4266-b532-383633363030
DTSTAMP:20260422T001400Z
DESCRIPTION:1/1 Tatran Střešovice - Žatec 1:2 (-18\,16\,-13)\nvelká hala
DTSTART;TZID=Europe/Berlin:20240323T090000
DTEND;TZID=Europe/Berlin:20240323T110000
LOCATION:TJ Tatran Střešovice\, Sibeliova 368 Praha - Střešovice
SUMMARY:MCR-U14Z-1EC: Tatran Střešovice-Žatec
END:VEVENT
BEGIN:VEVENT
UID:38316238-3339-4337-b931-346637386439
DTSTAMP:20260422T001400Z
DESCRIPTION:2/2 Benátky n. J. - Žatec 2:0 (23\,15)\nvelká hala
DTSTART;TZID=Europe/Berlin:20240323T114000
DTEND;TZID=Europe/Berlin:20240323T134000
LOCATION:Nibe aréna\, městská sportovní hala\, 5. května 746 Benátky nad Ji
 zerou - Benátky nad Jizerou II
SUMMARY:MCR-U14Z-1EC: Benátky n. J.-Žatec
END:VEVENT
BEGIN:VEVENT
UID:61643135-3131-4364-b635-623463343931
DTSTAMP:20260422T001400Z
DESCRIPTION:1/1 Volejbal Ústí n. L. - Žatec 0:2 (-23\,-22)\nvelká hala
DTSTART;TZID=Europe/Berlin:20240323T150000
DTEND;TZID=Europe/Berlin:20240323T170000
LOCATION:Tělocvična Gymnázia a Střední odborné školy dr. Václava Šmejkala\,
  Stará 3299 Ústí nad Labem - Severní Terasa
SUMMARY:MCR-U14Z-1EE: Volejbal Ústí n. L.-Žatec
END:VEVENT
BEGIN:VEVENT
UID:33303337-3864-4364-b463-363163386430
DTSTAMP:20260422T001400Z
DESCRIPTION:3/3 EMĚ Mělník - Žatec 2:1 (-10\,23\,8)\nvelká hala
DTSTART;TZID=Europe/Berlin:20240323T170000
DTEND;TZID=Europe/Berlin:20240323T190000
LOCATION:Tělocvična ZŠ J. Matiegky\, Pražská 2817 Mělník
SUMMARY:MCR-U14Z-1EE: EMĚ Mělník-Žatec
END:VEVENT
BEGIN:VEVENT
UID:63623265-6465-4134-b931-656364343464
DTSTAMP:20260422T001400Z
DESCRIPTION:3/3 Žatec - H.Počernice 1:2 (-7\,17\,-3)\nvelká hala
DTSTART;TZID=Europe/Berlin:20240324T150000
DTEND;TZID=Europe/Berlin:20240324T170000
LOCATION:Sportovní hala TJ Sever Žatec\, Plzeňská 2787 Žatec
SUMMARY:MCR-U14Z-1E1: Žatec-H.Počernice
END:VEVENT
BEGIN:VEVENT
UID:36336237-6330-4639-a537-633635663165
DTSTAMP:20260422T001400Z
DESCRIPTION:1/1 VK K.Vary - Žatec 2:0 (9\,20)\nvelká hala
DTSTART;TZID=Europe/Berlin:20240324T102000
DTEND;TZID=Europe/Berlin:20240324T122000
LOCATION:Mattoni Arena Hala míčových sportů\, Západní 1812 Karlovy Vary
SUMMARY:MCR-U14Z-1E1: VK K.Vary-Žatec
END:VEVENT
BEGIN:VEVENT
UID:62313732-3164-4734-b033-653635613364
DTSTAMP:20260422T001400Z
DESCRIPTION:1/1 Žatec - Prostějov 'A' 0:2 (-17\,-17)\nDDM
DTSTART;TZID=Europe/Berlin:20240427T090000
DTEND;TZID=Europe/Berlin:20240427T110000
LOCATION:Sportovní hala TJ Sever Žatec\, Plzeňská 2787 Žatec
SUMMARY:MCR-U14Z-2E: Žatec-Prostějov 'A'
END:VEVENT
BEGIN:VEVENT
UID:61656263-6334-4462-b231-373136643838
DTSTAMP:20260422T001400Z
DESCRIPTION:3/5 Žatec - SKV Ústí n/L 2:0 (24\,20)\nDDM
DTSTART;TZID=Europe/Berlin:20240427T113000
DTEND;TZID=Europe/Berlin:20240427T133000
LOCATION:Sportovní hala TJ Sever Žatec\, Plzeňská 2787 Žatec
SUMMARY:MCR-U14Z-2E: Žatec-SKV Ústí n/L
END:VEVENT
BEGIN:VEVENT
UID:34613439-3561-4334-b734-633364376666
DTSTAMP:20260422T001400Z
DESCRIPTION:5/9 Žatec - VK KP Milénova 0:2 (-15\,-16)\nDDM
DTSTART;TZID=Europe/Berlin:20240427T140000
DTEND;TZID=Europe/Berlin:20240427T160000
LOCATION:Sportovní hala TJ Sever Žatec\, Plzeňská 2787 Žatec
SUMMARY:MCR-U14Z-2E: Žatec-VK KP Milénova
END:VEVENT
BEGIN:VEVENT
UID:36363566-3035-4931-a662-366563343763
DTSTAMP:20260422T001400Z
DESCRIPTION:7/14 Žatec - Frýdek - Místek 2:0 (24\,21)\nLH
DTSTART;TZID=Europe/Berlin:20240427T163000
DTEND;TZID=Europe/Berlin:20240427T183000
LOCATION:Sportovní hala TJ Sever Žatec\, Plzeňská 2787 Žatec
SUMMARY:MCR-U14Z-2E: Žatec-Frýdek - Místek
END:VEVENT
BEGIN:VEVENT
UID:63646532-6265-4436-b835-666335336230
DTSTAMP:20260422T001400Z
DESCRIPTION:9/17 Žatec - VK Olomouc UP 0:2 (-5\,-15)\nDDM
DTSTART;TZID=Europe/Berlin:20240428T090000
DTEND;TZID=Europe/Berlin:20240428T110000
LOCATION:Sportovní hala TJ Sever Žatec\, Plzeňská 2787 Žatec
SUMMARY:MCR-U14Z-2E: Žatec-VK Olomouc UP
END:VEVENT
BEGIN:VEVENT
UID:35653837-6532-4364-a462-643731643636
DTSTAMP:20260422T001400Z
DESCRIPTION:11/21 Žatec - Orion Praha 0:2 (-10\,-14)\nDDM
DTSTART;TZID=Europe/Berlin:20240428T113000
DTEND;TZID=Europe/Berlin:20240428T133000
LOCATION:Sportovní hala TJ Sever Žatec\, Plzeňská 2787 Žatec
SUMMARY:MCR-U14Z-2E: Žatec-Orion Praha
END:VEVENT
BEGIN:VEVENT
UID:30353937-3365-4636-a238-623537393631
DTSTAMP:20260422T001400Z
DESCRIPTION:13/25 Žatec - VK Madeta ČB 1:2 (-22\,18\,-9)\nDDM
DTSTART;TZID=Europe/Berlin:20240428T140000
DTEND;TZID=Europe/Berlin:20240428T160000
LOCATION:Sportovní hala TJ Sever Žatec\, Plzeňská 2787 Žatec
SUMMARY:MCR-U14Z-2E: Žatec-VK Madeta ČB
END:VEVENT
END:VCALENDAR
