BEGIN:VCALENDAR
VERSION:2.0
PRODID:-//Volejbalový klub Benátky nad Jizerou, z.s.85048//NONSGML kigkonsult.se iCalcreator 2.41.80//
CALSCALE:GREGORIAN
UID:63316437-3730-4764-a233-363333653463
BEGIN:VEVENT
UID:63333764-3236-4664-b839-626433646631
DTSTAMP:20260422T053911Z
DESCRIPTION:2/2 Benátky n. J. - Žatec 2:0 (23\,15)\nvelká hala
DTSTART;TZID=Europe/Berlin:20240323T114000
DTEND;TZID=Europe/Berlin:20240323T134000
LOCATION:Nibe aréna\, městská sportovní hala\, 5. května 746 Benátky nad Ji
 zerou - Benátky nad Jizerou II
SUMMARY:MCR-U14Z-1EC: Benátky n. J.-Žatec
END:VEVENT
BEGIN:VEVENT
UID:64363066-3435-4465-b734-313962616362
DTSTAMP:20260422T053911Z
DESCRIPTION:3/3 Benátky n. J. - Tatran Střešovice 2:0 (15\,15)\nvelká hala
DTSTART;TZID=Europe/Berlin:20240323T130000
DTEND;TZID=Europe/Berlin:20240323T150000
LOCATION:Nibe aréna\, městská sportovní hala\, 5. května 746 Benátky nad Ji
 zerou - Benátky nad Jizerou II
SUMMARY:MCR-U14Z-1EC: Benátky n. J.-Tatran Střešovice
END:VEVENT
BEGIN:VEVENT
UID:65323932-3563-4265-b738-323531643962
DTSTAMP:20260422T053911Z
DESCRIPTION:1/1 H.Počernice - Benátky n. J. 2:0 (13\,13)\nvelká hala
DTSTART;TZID=Europe/Berlin:20240323T160000
DTEND;TZID=Europe/Berlin:20240323T180000
LOCATION:TJ Sokol Horní Počernice\, Chvalkovická 2031 Praha - Horní Počerni
 ce
SUMMARY:MCR-U14Z-1EF: H.Počernice-Benátky n. J.
END:VEVENT
BEGIN:VEVENT
UID:30636333-6665-4232-b739-623335313535
DTSTAMP:20260422T053911Z
DESCRIPTION:3/3 Jablonec n/N - Benátky n. J. 0:2 (-10\,-14)\nvelká hala
DTSTART;TZID=Europe/Berlin:20240324T090000
DTEND;TZID=Europe/Berlin:20240324T110000
LOCATION:Městská sportovní hala\, U Přehrady 4747 Jablonec nad Nisou
SUMMARY:MCR-U14Z-1EF: Jablonec n/N-Benátky n. J.
END:VEVENT
BEGIN:VEVENT
UID:34643730-6139-4764-a132-336537326434
DTSTAMP:20260422T053911Z
DESCRIPTION:2/2 Tatran Střešovice - Benátky n. J. 0:2 (-8\,-22)\nmalá hala
DTSTART;TZID=Europe/Berlin:20240324T114000
DTEND;TZID=Europe/Berlin:20240324T134000
LOCATION:TJ Tatran Střešovice\, Sibeliova 368 Praha - Střešovice
SUMMARY:MCR-U14Z-1E2: Tatran Střešovice-Benátky n. J.
END:VEVENT
BEGIN:VEVENT
UID:61346634-3132-4630-b163-353836306331
DTSTAMP:20260422T053911Z
DESCRIPTION:3/3 EMĚ Mělník - Benátky n. J. 0:2 (-12\,-18)\nmalá hala
DTSTART;TZID=Europe/Berlin:20240324T140000
DTEND;TZID=Europe/Berlin:20240324T160000
LOCATION:Tělocvična ZŠ J. Matiegky\, Pražská 2817 Mělník
SUMMARY:MCR-U14Z-1E2: EMĚ Mělník-Benátky n. J.
END:VEVENT
BEGIN:VEVENT
UID:65373838-6436-4162-b337-643935613834
DTSTAMP:20260422T053911Z
DESCRIPTION:8/16 Benátky n. J. - SK Slavia Praha 2:1 (-12\,15\,4)
DTSTART;TZID=Europe/Berlin:20240427T174500
DTEND;TZID=Europe/Berlin:20240427T194500
LOCATION:Nibe aréna\, městská sportovní hala\, 5. května 746 Benátky nad Ji
 zerou - Benátky nad Jizerou II
SUMMARY:MCR-U14Z-2C: Benátky n. J.-SK Slavia Praha
END:VEVENT
BEGIN:VEVENT
UID:61613833-3363-4236-b464-376161366364
DTSTAMP:20260422T053911Z
DESCRIPTION:11/22 Benátky n. J. - TJ Ostrava 0:2 (-19\,-16)
DTSTART;TZID=Europe/Berlin:20240428T113000
DTEND;TZID=Europe/Berlin:20240428T133000
LOCATION:Nibe aréna\, městská sportovní hala\, 5. května 746 Benátky nad Ji
 zerou - Benátky nad Jizerou II
SUMMARY:MCR-U14Z-2C: Benátky n. J.-TJ Ostrava
END:VEVENT
BEGIN:VEVENT
UID:34306563-3737-4135-b435-383635396366
DTSTAMP:20260422T053911Z
DESCRIPTION:13/26 Benátky n. J. - VK Královo Pole 2:1 (20\,-22\,14)
DTSTART;TZID=Europe/Berlin:20240428T140000
DTEND;TZID=Europe/Berlin:20240428T160000
LOCATION:Nibe aréna\, městská sportovní hala\, 5. května 746 Benátky nad Ji
 zerou - Benátky nad Jizerou II
SUMMARY:MCR-U14Z-2C: Benátky n. J.-VK Královo Pole
END:VEVENT
BEGIN:VEVENT
UID:36333763-6664-4062-a331-313832613261
DTSTAMP:20260422T053911Z
DESCRIPTION:14/28 Benátky n. J. - Baník Příbram 2:0 (17\,16)
DTSTART;TZID=Europe/Berlin:20240428T151500
DTEND;TZID=Europe/Berlin:20240428T171500
LOCATION:Nibe aréna\, městská sportovní hala\, 5. května 746 Benátky nad Ji
 zerou - Benátky nad Jizerou II
SUMMARY:MCR-U14Z-2C: Benátky n. J.-Baník Příbram
END:VEVENT
BEGIN:VEVENT
UID:62666331-3036-4239-b835-663533663234
DTSTAMP:20260422T053911Z
DESCRIPTION:2/3 Loko Břeclav - Benátky n. J. 0:2 (-20\,-22)
DTSTART;TZID=Europe/Berlin:20240427T101500
DTEND;TZID=Europe/Berlin:20240427T121500
LOCATION:TJ Lokomotiva Břeclav\, Veslařská 2753 Břeclav
SUMMARY:MCR-U14Z-2C: Loko Břeclav-Benátky n. J.
END:VEVENT
BEGIN:VEVENT
UID:31316332-6333-4533-b034-393961346330
DTSTAMP:20260422T053911Z
DESCRIPTION:4/7 Znojmo - Přímětice - Benátky n. J. 2:0 (19\,15)
DTSTART;TZID=Europe/Berlin:20240427T124500
DTEND;TZID=Europe/Berlin:20240427T144500
LOCATION:Tělocvična ZŠ Prokopa Diviše a MŠ\, Ke Škole 569 Znojmo - Přímětic
 e
SUMMARY:MCR-U14Z-2C: Znojmo - Přímětice-Benátky n. J.
END:VEVENT
BEGIN:VEVENT
UID:37326439-3232-4661-a562-356464323464
DTSTAMP:20260422T053911Z
DESCRIPTION:5/9 TJ Loko Plzeň - Benátky n. J. 2:0 (19\,15)
DTSTART;TZID=Europe/Berlin:20240427T140000
DTEND;TZID=Europe/Berlin:20240427T160000
LOCATION:Městská sportovní hala  -  hala 1\, Úslavská 2357 Plzeň - Východní
  Předměstí
SUMMARY:MCR-U14Z-2C: TJ Loko Plzeň-Benátky n. J.
END:VEVENT
END:VCALENDAR
