BEGIN:VCALENDAR
VERSION:2.0
PRODID:-//VK Šantovka Olomouc UP85049//NONSGML kigkonsult.se iCalcreator 2.41.80//
CALSCALE:GREGORIAN
UID:64383930-3663-4638-b931-636537646232
BEGIN:VEVENT
UID:31326437-3361-4365-b366-356663613161
DTSTAMP:20260422T001316Z
DESCRIPTION:1/1 VK Olomouc UP - VK Prostějov 'B' 2:0 (9\,12)
DTSTART;TZID=Europe/Berlin:20240323T093000
DTEND;TZID=Europe/Berlin:20240323T113000
LOCATION:UP Olomouc\, U sportovní haly 38 Olomouc - Lazce
SUMMARY:MCR-U14Z-1HC: VK Olomouc UP-VK Prostějov 'B'
END:VEVENT
BEGIN:VEVENT
UID:37643138-3332-4535-b963-613262396135
DTSTAMP:20260422T001316Z
DESCRIPTION:3/3 VK Olomouc UP - VK Napajedla 2:0 (7\,17)
DTSTART;TZID=Europe/Berlin:20240323T123000
DTEND;TZID=Europe/Berlin:20240323T143000
LOCATION:UP Olomouc\, U sportovní haly 38 Olomouc - Lazce
SUMMARY:MCR-U14Z-1HC: VK Olomouc UP-VK Napajedla
END:VEVENT
BEGIN:VEVENT
UID:66376563-3937-4863-b639-666564313839
DTSTAMP:20260422T001316Z
DESCRIPTION:1/1 VK Olomouc UP - VAM Olomouc 2:0 (20\,20)
DTSTART;TZID=Europe/Berlin:20240323T131500
DTEND;TZID=Europe/Berlin:20240323T151500
LOCATION:UP Olomouc\, U sportovní haly 38 Olomouc - Lazce
SUMMARY:MCR-U14Z-1HF: VK Olomouc UP-VAM Olomouc
END:VEVENT
BEGIN:VEVENT
UID:63363139-6237-4730-a663-386335363963
DTSTAMP:20260422T001316Z
DESCRIPTION:3/3 VK Olomouc UP - TJ Svitavy 2:0 (10\,18)
DTSTART;TZID=Europe/Berlin:20240323T161500
DTEND;TZID=Europe/Berlin:20240323T181500
LOCATION:UP Olomouc\, U sportovní haly 38 Olomouc - Lazce
SUMMARY:MCR-U14Z-1HF: VK Olomouc UP-TJ Svitavy
END:VEVENT
BEGIN:VEVENT
UID:30383238-6265-4266-a335-366136363938
DTSTAMP:20260422T001316Z
DESCRIPTION:2/2 TJ Ostrava - VK Olomouc UP 2:0 (22\,8)
DTSTART;TZID=Europe/Berlin:20240324T103000
DTEND;TZID=Europe/Berlin:20240324T123000
LOCATION:Hala míčových sportů\, Varenská 3098 Ostrava - Moravská Ostrava
SUMMARY:MCR-U14Z-1H1: TJ Ostrava-VK Olomouc UP
END:VEVENT
BEGIN:VEVENT
UID:34623034-3634-4664-b534-363665613636
DTSTAMP:20260422T001316Z
DESCRIPTION:3/3 ŠSK Bílovec - VK Olomouc UP 0:2 (-22\,-12)
DTSTART;TZID=Europe/Berlin:20240324T120000
DTEND;TZID=Europe/Berlin:20240324T140000
LOCATION:Hala ZŠ Komenského\, Komenského 701 Bílovec
SUMMARY:MCR-U14Z-1H1: ŠSK Bílovec-VK Olomouc UP
END:VEVENT
BEGIN:VEVENT
UID:32323439-3937-4362-b337-343434643939
DTSTAMP:20260422T001316Z
DESCRIPTION:1/2 VK Olomouc UP - Orion Praha 1:2 (22\,-10\,-11)\nLH
DTSTART;TZID=Europe/Berlin:20240427T090000
DTEND;TZID=Europe/Berlin:20240427T110000
LOCATION:UP Olomouc\, U sportovní haly 38 Olomouc - Lazce
SUMMARY:MCR-U14Z-2E: VK Olomouc UP-Orion Praha
END:VEVENT
BEGIN:VEVENT
UID:34353662-3761-4332-b337-366434313033
DTSTAMP:20260422T001316Z
DESCRIPTION:3/6 VK Olomouc UP - Frýdek - Místek 2:0 (7\,3)\nLH
DTSTART;TZID=Europe/Berlin:20240427T113000
DTEND;TZID=Europe/Berlin:20240427T133000
LOCATION:UP Olomouc\, U sportovní haly 38 Olomouc - Lazce
SUMMARY:MCR-U14Z-2E: VK Olomouc UP-Frýdek - Místek
END:VEVENT
BEGIN:VEVENT
UID:61663337-3333-4339-b161-326233353837
DTSTAMP:20260422T001316Z
DESCRIPTION:5/10 VK Olomouc UP - VK Madeta ČB 1:2 (12\,-19\,-13)\nLH
DTSTART;TZID=Europe/Berlin:20240427T140000
DTEND;TZID=Europe/Berlin:20240427T160000
LOCATION:UP Olomouc\, U sportovní haly 38 Olomouc - Lazce
SUMMARY:MCR-U14Z-2E: VK Olomouc UP-VK Madeta ČB
END:VEVENT
BEGIN:VEVENT
UID:37613161-3136-4631-b162-373537393839
DTSTAMP:20260422T001316Z
DESCRIPTION:7/13 SKV Ústí n/L - VK Olomouc UP 0:2 (-14\,-15)\nDDM
DTSTART;TZID=Europe/Berlin:20240427T163000
DTEND;TZID=Europe/Berlin:20240427T183000
LOCATION:Základní škola Stříbrnická\, Stříbrnická 3031 Ústí nad Labem - Sev
 erní Terasa
SUMMARY:MCR-U14Z-2E: SKV Ústí n/L-VK Olomouc UP
END:VEVENT
BEGIN:VEVENT
UID:63323363-6338-4430-b235-326132363866
DTSTAMP:20260422T001316Z
DESCRIPTION:9/17 Žatec - VK Olomouc UP 0:2 (-5\,-15)\nDDM
DTSTART;TZID=Europe/Berlin:20240428T090000
DTEND;TZID=Europe/Berlin:20240428T110000
LOCATION:Sportovní hala TJ Sever Žatec\, Plzeňská 2787 Žatec
SUMMARY:MCR-U14Z-2E: Žatec-VK Olomouc UP
END:VEVENT
BEGIN:VEVENT
UID:31313131-3335-4464-b061-333664663936
DTSTAMP:20260422T001316Z
DESCRIPTION:12/23 VK KP Milénova - VK Olomouc UP 0:2 (-18\,-11)\nDDM
DTSTART;TZID=Europe/Berlin:20240428T124500
DTEND;TZID=Europe/Berlin:20240428T144500
LOCATION:ZŠ Milénova 14\, Milénova 808 Brno - Lesná
SUMMARY:MCR-U14Z-2E: VK KP Milénova-VK Olomouc UP
END:VEVENT
BEGIN:VEVENT
UID:66326534-3132-4164-b937-653138323964
DTSTAMP:20260422T001316Z
DESCRIPTION:14/28 Prostějov 'A' - VK Olomouc UP 0:2 (-16\,-16)\nDDM
DTSTART;TZID=Europe/Berlin:20240428T151500
DTEND;TZID=Europe/Berlin:20240428T171500
LOCATION:Národní sportovní centrum\, Za velodromem 4187 Prostějov
SUMMARY:MCR-U14Z-2E: Prostějov 'A'-VK Olomouc UP
END:VEVENT
BEGIN:VEVENT
UID:39353735-3238-4833-a563-666534323664
DTSTAMP:20260422T001316Z
DESCRIPTION:2/2 VK Olomouc UP - Hořovice 2:0 (9\,25)
DTSTART;TZID=Europe/Berlin:20240517T125000
DTEND;TZID=Europe/Berlin:20240517T145000
LOCATION:UP Olomouc\, U sportovní haly 38 Olomouc - Lazce
SUMMARY:MCR-U14Z-FD: VK Olomouc UP-Hořovice
END:VEVENT
BEGIN:VEVENT
UID:30303734-3730-4532-a162-333466633039
DTSTAMP:20260422T001316Z
DESCRIPTION:4/4 VK Olomouc UP - ŠSK Bílovec 2:0 (11\,17)
DTSTART;TZID=Europe/Berlin:20240517T153000
DTEND;TZID=Europe/Berlin:20240517T173000
LOCATION:UP Olomouc\, U sportovní haly 38 Olomouc - Lazce
SUMMARY:MCR-U14Z-FD: VK Olomouc UP-ŠSK Bílovec
END:VEVENT
BEGIN:VEVENT
UID:34393038-6536-4263-a633-346563303436
DTSTAMP:20260422T001316Z
DESCRIPTION:5/5 TJ Ostrava - VK Olomouc UP 2:0 (10\,12)
DTSTART;TZID=Europe/Berlin:20240517T164500
DTEND;TZID=Europe/Berlin:20240517T184500
LOCATION:Hala míčových sportů\, Varenská 3098 Ostrava - Moravská Ostrava
SUMMARY:MCR-U14Z-FD: TJ Ostrava-VK Olomouc UP
END:VEVENT
BEGIN:VEVENT
UID:62303963-3762-4530-b233-663837646263
DTSTAMP:20260422T001316Z
DESCRIPTION:2/5 VK Olomouc UP - Olymp Praha A 0:2 (-10\,-22)\nD2-C1
DTSTART;TZID=Europe/Berlin:20240518T143000
DTEND;TZID=Europe/Berlin:20240518T163000
LOCATION:UP Olomouc\, U sportovní haly 38 Olomouc - Lazce
SUMMARY:MCR-U14Z-FF: VK Olomouc UP-Olymp Praha A
END:VEVENT
BEGIN:VEVENT
UID:38363066-6234-4637-b336-656231336563
DTSTAMP:20260422T001316Z
DESCRIPTION:1/2 Znojmo - Přímětice - VK Olomouc UP 1:2 (-9\,17\,-15)\nC2-D2
DTSTART;TZID=Europe/Berlin:20240518T113000
DTEND;TZID=Europe/Berlin:20240518T133000
LOCATION:Tělocvična ZŠ Prokopa Diviše a MŠ\, Ke Škole 569 Znojmo - Přímětic
 e
SUMMARY:MCR-U14Z-FF: Znojmo - Přímětice-VK Olomouc UP
END:VEVENT
BEGIN:VEVENT
UID:31313539-3630-4662-a630-356661646366
DTSTAMP:20260422T001316Z
DESCRIPTION:3/9 Prostějov 'A' - VK Olomouc UP 0:2 (-7\,-13)\nC3-D2
DTSTART;TZID=Europe/Berlin:20240518T173000
DTEND;TZID=Europe/Berlin:20240518T193000
LOCATION:Národní sportovní centrum\, Za velodromem 4187 Prostějov
SUMMARY:MCR-U14Z-FF: Prostějov 'A'-VK Olomouc UP
END:VEVENT
BEGIN:VEVENT
UID:37633664-6639-4234-b961-656138333935
DTSTAMP:20260422T001316Z
DESCRIPTION:1/2 TJ Jiskra Havl.Brod - VK Olomouc UP 1:2 (-22\,22\,-14)\n4E-
 3F
DTSTART;TZID=Europe/Berlin:20240519T083000
DTEND;TZID=Europe/Berlin:20240519T103000
LOCATION:Sportovní hala TJ Jiskra\, Ledečská 3028 Havlíčkův Brod
SUMMARY:MCR-U14Z-FH: TJ Jiskra Havl.Brod-VK Olomouc UP
END:VEVENT
BEGIN:VEVENT
UID:39666133-3361-4165-a363-373533323164
DTSTAMP:20260422T001316Z
DESCRIPTION:4/10 Baník Rtyně - VK Olomouc UP 2:1 (-21\,24\,13)\no 5.-6.míst
 o
DTSTART;TZID=Europe/Berlin:20240519T122000
DTEND;TZID=Europe/Berlin:20240519T142000
LOCATION:Orlovna\, nám. Horníků 856 Rtyně v Podkrkonoší
SUMMARY:MCR-U14Z-FH: Baník Rtyně-VK Olomouc UP
END:VEVENT
END:VCALENDAR
