BEGIN:VCALENDAR
VERSION:2.0
PRODID:-//SK Volejbal Klatovy, z.s.85062//NONSGML kigkonsult.se iCalcreator 2.41.80//
CALSCALE:GREGORIAN
UID:65333766-6265-4330-b538-613934373732
BEGIN:VEVENT
UID:36633637-3264-4031-a433-613064646332
DTSTAMP:20260423T030445Z
DESCRIPTION:4/4 SK Volejbal Klatovy\, z.s. - PODĚS 2:0 (19\,15)
DTSTART;TZID=Europe/Berlin:20240414T120000
DTEND;TZID=Europe/Berlin:20240414T140000
LOCATION:Sportovní hala ZŠ Čapkova\, Čapkova 136 Klatovy - Klatovy V
SUMMARY:MCR-U14MG: SK Volejbal Klatovy\, z.s.-PODĚS
END:VEVENT
BEGIN:VEVENT
UID:61616237-6231-4163-b435-306561666433
DTSTAMP:20260423T030445Z
DESCRIPTION:7/7 SK Volejbal Klatovy\, z.s. - TJ ABC Braník\, z.s. 0:2 (-19\
 ,-20)
DTSTART;TZID=Europe/Berlin:20240414T150000
DTEND;TZID=Europe/Berlin:20240414T170000
LOCATION:Sportovní hala ZŠ Čapkova\, Čapkova 136 Klatovy - Klatovy V
SUMMARY:MCR-U14MG: SK Volejbal Klatovy\, z.s.-TJ ABC Braník\, z.s.
END:VEVENT
BEGIN:VEVENT
UID:62646663-3634-4738-b835-643765386531
DTSTAMP:20260423T030445Z
DESCRIPTION:5/5 TJ Svitavy\, z.s. - SK Volejbal Klatovy\, z.s. 2:0 (13\,13)
DTSTART;TZID=Europe/Berlin:20240414T130000
DTEND;TZID=Europe/Berlin:20240414T150000
LOCATION:Sportovní hala Na Střelnici\, Pražská 2162 Svitavy - Předměstí
SUMMARY:MCR-U14MG: TJ Svitavy\, z.s.-SK Volejbal Klatovy\, z.s.
END:VEVENT
BEGIN:VEVENT
UID:31633634-3965-4334-b030-393438386137
DTSTAMP:20260423T030445Z
DESCRIPTION:10/10 Tělovýchovná jednota Jiskra Havlíčkův Brod z.s. - SK Vole
 jbal Klatovy\, z.s. 0:2 (-8\,-10)
DTSTART;TZID=Europe/Berlin:20240414T180000
DTEND;TZID=Europe/Berlin:20240414T200000
LOCATION:Sportovní hala TJ Jiskra\, Ledečská 3028 Havlíčkův Brod
SUMMARY:MCR-U14MG: Tělovýchovná jednota Jiskra Havlíčkův Brod z.s.-SK Volej
 bal Klatovy\, z.s.
END:VEVENT
END:VCALENDAR
