BEGIN:VCALENDAR
VERSION:2.0
PRODID:-//SK Volejbal Kolín, z.s.85070//NONSGML kigkonsult.se iCalcreator 2.41.80//
CALSCALE:GREGORIAN
UID:30376235-6433-4062-b966-623762393463
BEGIN:VEVENT
UID:62313637-3736-4566-a638-343830613838
DTSTAMP:20260422T001402Z
DESCRIPTION:2/2 Sokol Pardubice I. - Volejbal Kolín 2:0 (23\,19)
DTSTART;TZID=Europe/Berlin:20240323T120000
DTEND;TZID=Europe/Berlin:20240323T140000
LOCATION:Sokolovna\, Jiráskova 29 Pardubice - Zelené Předměstí
SUMMARY:MCR-U14Z-1DA: Sokol Pardubice I.-Volejbal Kolín
END:VEVENT
BEGIN:VEVENT
UID:35663633-6466-4232-b534-373463383361
DTSTAMP:20260422T001402Z
DESCRIPTION:3/3 VK Královo Pole - Volejbal Kolín 2:0 (14\,21)
DTSTART;TZID=Europe/Berlin:20240323T131500
DTEND;TZID=Europe/Berlin:20240323T151500
LOCATION:Sportovní gymnázium Ludvíka Daňka\, Botanická 63 Brno - Ponava
SUMMARY:MCR-U14Z-1DA: VK Královo Pole-Volejbal Kolín
END:VEVENT
BEGIN:VEVENT
UID:65363430-3234-4331-a333-313865613037
DTSTAMP:20260422T001402Z
DESCRIPTION:2/2 Volejbal Kolín - Prostějov 'A' 0:2 (-14\,-14)
DTSTART;TZID=Europe/Berlin:20240323T181500
DTEND;TZID=Europe/Berlin:20240323T201500
LOCATION:hala STAV\, SOŠ Kolín\, Brankovická 1417 Kolín - Kolín V
SUMMARY:MCR-U14Z-1DE: Volejbal Kolín-Prostějov 'A'
END:VEVENT
BEGIN:VEVENT
UID:33633561-6137-4536-b639-313035653737
DTSTAMP:20260422T001402Z
DESCRIPTION:1/1 Sokol N. Veselí - Volejbal Kolín 2:0 (14\,11)
DTSTART;TZID=Europe/Berlin:20240323T154500
DTEND;TZID=Europe/Berlin:20240323T174500
LOCATION:Víceúčelová sportovní hala Nové Veselí\, Žďárská 356 Nové Veselí
SUMMARY:MCR-U14Z-1DE: Sokol N. Veselí-Volejbal Kolín
END:VEVENT
BEGIN:VEVENT
UID:36646466-6362-4962-a635-633563393637
DTSTAMP:20260422T001402Z
DESCRIPTION:1/1 Volejbal Kolín - Žichlínek 2:0 (11\,8)
DTSTART;TZID=Europe/Berlin:20240120T100000
DTEND;TZID=Europe/Berlin:20240120T120000
LOCATION:hala STAV\, SOŠ Kolín\, Brankovická 1417 Kolín - Kolín V
SUMMARY:MCR-U14Z-1D3: Volejbal Kolín-Žichlínek
END:VEVENT
BEGIN:VEVENT
UID:38613366-3466-4536-b665-313465383666
DTSTAMP:20260422T001402Z
DESCRIPTION:2/8 VK Brno B - Volejbal Kolín 0:2 (-10\,-12)
DTSTART;TZID=Europe/Berlin:20240120T140000
DTEND;TZID=Europe/Berlin:20240120T160000
LOCATION:ZŠ Vejrostova\, Vejrostova 1066 Brno - Bystrc
SUMMARY:MCR-U14Z-1D3: VK Brno B-Volejbal Kolín
END:VEVENT
END:VCALENDAR
