BEGIN:VCALENDAR
VERSION:2.0
PRODID:-//SK Volejbal Kolín, z.s.85071//NONSGML kigkonsult.se iCalcreator 2.41.80//
CALSCALE:GREGORIAN
UID:36613039-3963-4138-b263-343263363835
BEGIN:VEVENT
UID:36336239-3438-4232-a138-343163383466
DTSTAMP:20260422T202142Z
DESCRIPTION:3/3 SK Volejbal Kolín\, z.s. - Tělocvičná jednota Sokol Česká T
 řebová 2:0 (5\,10)
DTSTART;TZID=Europe/Berlin:20240414T110000
DTEND;TZID=Europe/Berlin:20240414T130000
LOCATION:hala STAV\, SOŠ Kolín\, Brankovická 1417 Kolín - Kolín V
SUMMARY:MCR-U14MH: SK Volejbal Kolín\, z.s.-Tělocvičná jednota Sokol Česká 
 Třebová
END:VEVENT
BEGIN:VEVENT
UID:66353434-3432-4666-a237-366436613066
DTSTAMP:20260422T202142Z
DESCRIPTION:10/10 SK Volejbal Kolín\, z.s. - VK Karlovarsko\, z.s. 2:0 (11\
 ,16)
DTSTART;TZID=Europe/Berlin:20240414T180000
DTEND;TZID=Europe/Berlin:20240414T200000
LOCATION:hala STAV\, SOŠ Kolín\, Brankovická 1417 Kolín - Kolín V
SUMMARY:MCR-U14MH: SK Volejbal Kolín\, z.s.-VK Karlovarsko\, z.s.
END:VEVENT
BEGIN:VEVENT
UID:36303965-6135-4834-a633-366666666434
DTSTAMP:20260422T202142Z
DESCRIPTION:1/1 TJ Slavia HK - SK Volejbal Kolín\, z.s. 2:0 (26\,19)
DTSTART;TZID=Europe/Berlin:20240414T090000
DTEND;TZID=Europe/Berlin:20240414T110000
LOCATION:TJ Slavia Hradec Králové\, Víta Nejedlého 1216 Hradec Králové
SUMMARY:MCR-U14MH: TJ Slavia HK-SK Volejbal Kolín\, z.s.
END:VEVENT
BEGIN:VEVENT
UID:31363935-6531-4430-a266-396362613335
DTSTAMP:20260422T202142Z
DESCRIPTION:6/6 Orion Praha - SK Volejbal Kolín\, z.s. 0:2 (-11\,-7)
DTSTART;TZID=Europe/Berlin:20240414T140000
DTEND;TZID=Europe/Berlin:20240414T160000
LOCATION:ZŠ prof. Švejcara\, Mráčkova\, Mráčkova 3090 Praha - Modřany
SUMMARY:MCR-U14MH: Orion Praha-SK Volejbal Kolín\, z.s.
END:VEVENT
BEGIN:VEVENT
UID:66313939-3335-4138-b634-633761636562
DTSTAMP:20260422T202142Z
DESCRIPTION:3/5 SK Volejbal Kolín\, z.s. - Volejbal Ostrava 2:0 (18\,24)
DTSTART;TZID=Europe/Berlin:20240503T143000
DTEND;TZID=Europe/Berlin:20240503T163000
LOCATION:hala STAV\, SOŠ Kolín\, Brankovická 1417 Kolín - Kolín V
SUMMARY:MCR-U14MFC: SK Volejbal Kolín\, z.s.-Volejbal Ostrava
END:VEVENT
BEGIN:VEVENT
UID:62656331-3332-4437-b531-663634366537
DTSTAMP:20260422T202142Z
DESCRIPTION:5/9 SK Volejbal Kolín\, z.s. - SKV Ústí n. L.. 2:0 (14\,8)
DTSTART;TZID=Europe/Berlin:20240504T100000
DTEND;TZID=Europe/Berlin:20240504T120000
LOCATION:hala STAV\, SOŠ Kolín\, Brankovická 1417 Kolín - Kolín V
SUMMARY:MCR-U14MFC: SK Volejbal Kolín\, z.s.-SKV Ústí n. L..
END:VEVENT
BEGIN:VEVENT
UID:64323961-3536-4731-a532-616465626337
DTSTAMP:20260422T202142Z
DESCRIPTION:1/2 TJ Svitavy\, z.s. - SK Volejbal Kolín\, z.s. 2:0 (19\,20)
DTSTART;TZID=Europe/Berlin:20240503T100000
DTEND;TZID=Europe/Berlin:20240503T120000
LOCATION:Sportovní hala Na Střelnici\, Pražská 2162 Svitavy - Předměstí
SUMMARY:MCR-U14MFC: TJ Svitavy\, z.s.-SK Volejbal Kolín\, z.s.
END:VEVENT
BEGIN:VEVENT
UID:34633935-3932-4730-a364-353338643930
DTSTAMP:20260422T202142Z
DESCRIPTION:4/7 Dukla Liberec - SK Volejbal Kolín\, z.s. 2:1 (20\,-18\,8)
DTSTART;TZID=Europe/Berlin:20240503T173000
DTEND;TZID=Europe/Berlin:20240503T193000
LOCATION:Dukla Liberec\, Jeronýmova 558 Liberec - Liberec VII-Horní Růžodol
SUMMARY:MCR-U14MFC: Dukla Liberec-SK Volejbal Kolín\, z.s.
END:VEVENT
BEGIN:VEVENT
UID:61653738-6631-4434-a263-333966323264
DTSTAMP:20260422T202142Z
DESCRIPTION:3/8 SK Volejbal Kolín\, z.s. - TJ Svitavy\, z.s. 0:2 (-14\,-9)
 \no 5. a 6. místo
DTSTART;TZID=Europe/Berlin:20240505T143000
DTEND;TZID=Europe/Berlin:20240505T163000
LOCATION:hala STAV\, SOŠ Kolín\, Brankovická 1417 Kolín - Kolín V
SUMMARY:MCR-U14MFI: SK Volejbal Kolín\, z.s.-TJ Svitavy\, z.s.
END:VEVENT
BEGIN:VEVENT
UID:38623930-3133-4538-b536-393038633334
DTSTAMP:20260422T202142Z
DESCRIPTION:1/3 VK SPORT Rychnov nad Kněžnou\, z.s. - SK Volejbal Kolín\, z
 .s. 0:2 (-24\,-22)\n3E-4F
DTSTART;TZID=Europe/Berlin:20240505T113000
DTEND;TZID=Europe/Berlin:20240505T133000
LOCATION:Hala VOŠ a SPŠS\, U Stadionu 1166 Rychnov nad Kněžnou
SUMMARY:MCR-U14MFI: VK SPORT Rychnov nad Kněžnou\, z.s.-SK Volejbal Kolín\,
  z.s.
END:VEVENT
BEGIN:VEVENT
UID:35623465-3664-4663-b335-633765323237
DTSTAMP:20260422T202142Z
DESCRIPTION:1/1 SK Volejbal Kolín\, z.s. - Beach club Zlín\, z.s. 2:0 (24\,
 28)\n3C-3D
DTSTART;TZID=Europe/Berlin:20240504T130000
DTEND;TZID=Europe/Berlin:20240504T150000
LOCATION:hala STAV\, SOŠ Kolín\, Brankovická 1417 Kolín - Kolín V
SUMMARY:MCR-U14MFF: SK Volejbal Kolín\, z.s.-Beach club Zlín\, z.s.
END:VEVENT
BEGIN:VEVENT
UID:63353536-3137-4534-b036-643834626630
DTSTAMP:20260422T202142Z
DESCRIPTION:2/6 SK Volejbal Kolín\, z.s. - VK TROX Příbram z.s. 0:2 (-13\,-
 18)\n3C-1D
DTSTART;TZID=Europe/Berlin:20240504T173000
DTEND;TZID=Europe/Berlin:20240504T193000
LOCATION:hala STAV\, SOŠ Kolín\, Brankovická 1417 Kolín - Kolín V
SUMMARY:MCR-U14MFF: SK Volejbal Kolín\, z.s.-VK TROX Příbram z.s.
END:VEVENT
BEGIN:VEVENT
UID:33383637-3636-4335-b033-353534393339
DTSTAMP:20260422T202142Z
DESCRIPTION:3/9 SK Volejbal Kolín\, z.s. - VK Jirkov 2:0 (17\,18)\n3C-2D
DTSTART;TZID=Europe/Berlin:20240505T100000
DTEND;TZID=Europe/Berlin:20240505T120000
LOCATION:hala STAV\, SOŠ Kolín\, Brankovická 1417 Kolín - Kolín V
SUMMARY:MCR-U14MFF: SK Volejbal Kolín\, z.s.-VK Jirkov
END:VEVENT
END:VCALENDAR
