BEGIN:VCALENDAR
VERSION:2.0
PRODID:-//TJ Slovácká Slavia Uherské Hradiště, z.s.85091//NONSGML kigkonsult.se iCalcreator 2.41.80//
CALSCALE:GREGORIAN
UID:65383234-3065-4333-b332-336462653835
BEGIN:VEVENT
UID:31656364-6433-4632-b839-393936366236
DTSTAMP:20260422T052733Z
DESCRIPTION:1/1 U. Hradiště - Loko Břeclav 0:2 (-12\,-10)
DTSTART;TZID=Europe/Berlin:20240323T090000
DTEND;TZID=Europe/Berlin:20240323T110000
LOCATION:Městská sportovní hala\, Stonky 860 Uherské Hradiště
SUMMARY:MCR-U14Z-1J: U. Hradiště-Loko Břeclav
END:VEVENT
BEGIN:VEVENT
UID:33336339-6565-4366-b364-323366623464
DTSTAMP:20260422T052733Z
DESCRIPTION:4/10 U. Hradiště - Volejbal Přerov 0:2 (-17\,-16)
DTSTART;TZID=Europe/Berlin:20240323T124500
DTEND;TZID=Europe/Berlin:20240323T144500
LOCATION:Městská sportovní hala\, Stonky 860 Uherské Hradiště
SUMMARY:MCR-U14Z-1J: U. Hradiště-Volejbal Přerov
END:VEVENT
BEGIN:VEVENT
UID:39616161-3966-4632-a130-396264313231
DTSTAMP:20260422T052733Z
DESCRIPTION:8/19 U. Hradiště - Žďár n.S. 0:2 (-16\,-15)
DTSTART;TZID=Europe/Berlin:20240323T181500
DTEND;TZID=Europe/Berlin:20240323T201500
LOCATION:Městská sportovní hala\, Stonky 860 Uherské Hradiště
SUMMARY:MCR-U14Z-1J: U. Hradiště-Žďár n.S.
END:VEVENT
BEGIN:VEVENT
UID:64306434-3566-4164-b461-633466396238
DTSTAMP:20260422T052733Z
DESCRIPTION:2/5 Frýdek - Místek - U. Hradiště 2:0 (11\,16)
DTSTART;TZID=Europe/Berlin:20240323T101500
DTEND;TZID=Europe/Berlin:20240323T121500
LOCATION:ZŠ 1.máje 1700 Frýdek-Místek\, 1. máje 1700 Frýdek-Místek - Místek
SUMMARY:MCR-U14Z-1J: Frýdek - Místek-U. Hradiště
END:VEVENT
BEGIN:VEVENT
UID:62633633-3261-4833-a562-643430306230
DTSTAMP:20260422T052733Z
DESCRIPTION:7/16 Staré Město - U. Hradiště 2:1 (23\,-21\,15)
DTSTART;TZID=Europe/Berlin:20240323T170000
DTEND;TZID=Europe/Berlin:20240323T190000
LOCATION:Městská sportovní hala Širůch\, Nad Hřištěm 1921 Staré Město
SUMMARY:MCR-U14Z-1J: Staré Město-U. Hradiště
END:VEVENT
BEGIN:VEVENT
UID:36363038-3665-4435-b363-653334663435
DTSTAMP:20260422T052733Z
DESCRIPTION:9/21 Lanškroun - U. Hradiště 2:0 (9\,11)
DTSTART;TZID=Europe/Berlin:20240324T090000
DTEND;TZID=Europe/Berlin:20240324T110000
LOCATION:SOŠ a SOU Lanškroun\, Sokolská 288 Lanškroun - Ostrovské Předměstí
SUMMARY:MCR-U14Z-1J: Lanškroun-U. Hradiště
END:VEVENT
BEGIN:VEVENT
UID:61353235-3037-4830-a662-643137613663
DTSTAMP:20260422T052733Z
DESCRIPTION:10/25 Šlapanice - U. Hradiště 0:2 (-16\,-19)
DTSTART;TZID=Europe/Berlin:20240324T101500
DTEND;TZID=Europe/Berlin:20240324T121500
LOCATION:Tělocvična ZŠ Šlapanice\, Masarykovo náměstí 1594 Šlapanice
SUMMARY:MCR-U14Z-1J: Šlapanice-U. Hradiště
END:VEVENT
END:VCALENDAR
