BEGIN:VCALENDAR
VERSION:2.0
PRODID:-//Sportovní klub Meteor Praha85095//NONSGML kigkonsult.se iCalcreator 2.41.80//
CALSCALE:GREGORIAN
UID:32326664-3765-4631-b034-316435663262
BEGIN:VEVENT
UID:37323636-3239-4036-b135-323061323136
DTSTAMP:20260422T052729Z
DESCRIPTION:8/16 Meteor Praha - Olymp Praha A 0:2 (-7\,-6)
DTSTART;TZID=Europe/Berlin:20240323T174500
DTEND;TZID=Europe/Berlin:20240323T194500
LOCATION:ZŠ Žernosecká\, Žernosecká 1597 Praha - Kobylisy
SUMMARY:MCR-U14Z-1I: Meteor Praha-Olymp Praha A
END:VEVENT
BEGIN:VEVENT
UID:39363665-6461-4135-a362-653833663933
DTSTAMP:20260422T052730Z
DESCRIPTION:11/22 Meteor Praha - SKV Ústí n/L 0:2 (-9\,-21)
DTSTART;TZID=Europe/Berlin:20240324T113000
DTEND;TZID=Europe/Berlin:20240324T133000
LOCATION:ZŠ Žernosecká\, Žernosecká 1597 Praha - Kobylisy
SUMMARY:MCR-U14Z-1I: Meteor Praha-SKV Ústí n/L
END:VEVENT
BEGIN:VEVENT
UID:61393337-3238-4962-a664-313063353338
DTSTAMP:20260422T052730Z
DESCRIPTION:13/26 Meteor Praha - TJ Kunice 1:2 (14\,-20\,-4)
DTSTART;TZID=Europe/Berlin:20240324T140000
DTEND;TZID=Europe/Berlin:20240324T160000
LOCATION:ZŠ Žernosecká\, Žernosecká 1597 Praha - Kobylisy
SUMMARY:MCR-U14Z-1I: Meteor Praha-TJ Kunice
END:VEVENT
BEGIN:VEVENT
UID:38373631-3139-4135-a532-376232663530
DTSTAMP:20260422T052730Z
DESCRIPTION:14/28 Meteor Praha - Dansport Praha 0:2 (-11\,-14)
DTSTART;TZID=Europe/Berlin:20240324T151500
DTEND;TZID=Europe/Berlin:20240324T171500
LOCATION:ZŠ Žernosecká\, Žernosecká 1597 Praha - Kobylisy
SUMMARY:MCR-U14Z-1I: Meteor Praha-Dansport Praha
END:VEVENT
BEGIN:VEVENT
UID:39633866-3166-4436-a237-643833303639
DTSTAMP:20260422T052730Z
DESCRIPTION:2/3 Kladno volejbal A - Meteor Praha 2:1 (-18\,23\,6)
DTSTART;TZID=Europe/Berlin:20240323T101500
DTEND;TZID=Europe/Berlin:20240323T121500
LOCATION:Kladenská sportovní hala\, Sportovců 817 Kladno - Rozdělov
SUMMARY:MCR-U14Z-1I: Kladno volejbal A-Meteor Praha
END:VEVENT
BEGIN:VEVENT
UID:34623561-6137-4037-b262-313132366334
DTSTAMP:20260422T052730Z
DESCRIPTION:4/7 Volejbal Klatovy - Meteor Praha 2:0 (13\,19)
DTSTART;TZID=Europe/Berlin:20240323T124500
DTEND;TZID=Europe/Berlin:20240323T144500
LOCATION:Sportovní hala ZŠ Čapkova\, Čapkova 136 Klatovy - Klatovy V
SUMMARY:MCR-U14Z-1I: Volejbal Klatovy-Meteor Praha
END:VEVENT
BEGIN:VEVENT
UID:66623462-6530-4666-b134-323637653337
DTSTAMP:20260422T052730Z
DESCRIPTION:5/9 TJ Loko Plzeň - Meteor Praha 2:0 (10\,21)
DTSTART;TZID=Europe/Berlin:20240323T140000
DTEND;TZID=Europe/Berlin:20240323T160000
LOCATION:Městská sportovní hala  -  hala 1\, Úslavská 2357 Plzeň - Východní
  Předměstí
SUMMARY:MCR-U14Z-1I: TJ Loko Plzeň-Meteor Praha
END:VEVENT
END:VCALENDAR
