BEGIN:VCALENDAR
VERSION:2.0
PRODID:-//Tělovýchovná jednota Jiskra Havlíčkův Brod z.s.85096//NONSGML kigkonsult.se iCalcreator 2.41.80//
CALSCALE:GREGORIAN
UID:31356334-3733-4130-a335-316639316565
BEGIN:VEVENT
UID:62663266-3765-4536-b966-393936656161
DTSTAMP:20260422T221339Z
DESCRIPTION:3/3 Tělovýchovná jednota Jiskra Havlíčkův Brod z.s. - TJ Svitav
 y\, z.s. 0:2 (-1\,-7)
DTSTART;TZID=Europe/Berlin:20240414T110000
DTEND;TZID=Europe/Berlin:20240414T130000
LOCATION:Sportovní hala TJ Jiskra\, Ledečská 3028 Havlíčkův Brod
SUMMARY:MCR-U14MG: Tělovýchovná jednota Jiskra Havlíčkův Brod z.s.-TJ Svita
 vy\, z.s.
END:VEVENT
BEGIN:VEVENT
UID:66653937-3437-4634-a633-643836643663
DTSTAMP:20260422T221339Z
DESCRIPTION:10/10 Tělovýchovná jednota Jiskra Havlíčkův Brod z.s. - SK Vole
 jbal Klatovy\, z.s. 0:2 (-8\,-10)
DTSTART;TZID=Europe/Berlin:20240414T180000
DTEND;TZID=Europe/Berlin:20240414T200000
LOCATION:Sportovní hala TJ Jiskra\, Ledečská 3028 Havlíčkův Brod
SUMMARY:MCR-U14MG: Tělovýchovná jednota Jiskra Havlíčkův Brod z.s.-SK Volej
 bal Klatovy\, z.s.
END:VEVENT
BEGIN:VEVENT
UID:37366231-6465-4564-a265-656130663336
DTSTAMP:20260422T221339Z
DESCRIPTION:1/1 PODĚS - Tělovýchovná jednota Jiskra Havlíčkův Brod z.s. 0:2
  (-20\,-22)
DTSTART;TZID=Europe/Berlin:20240414T090000
DTEND;TZID=Europe/Berlin:20240414T110000
LOCATION:Tělocvična ZŠ J. Matiegky\, Pražská 2817 Mělník
SUMMARY:MCR-U14MG: PODĚS-Tělovýchovná jednota Jiskra Havlíčkův Brod z.s.
END:VEVENT
BEGIN:VEVENT
UID:34613238-3934-4137-a663-643064333136
DTSTAMP:20260422T221339Z
DESCRIPTION:6/6 TJ ABC Braník\, z.s. - Tělovýchovná jednota Jiskra Havlíčků
 v Brod z.s. 2:0 (22\,11)
DTSTART;TZID=Europe/Berlin:20240414T140000
DTEND;TZID=Europe/Berlin:20240414T160000
LOCATION:Sokolovna Braník\, Branická 275 Praha - Braník
SUMMARY:MCR-U14MG: TJ ABC Braník\, z.s.-Tělovýchovná jednota Jiskra Havlíčk
 ův Brod z.s.
END:VEVENT
BEGIN:VEVENT
UID:36636662-3330-4438-b931-313634373439
DTSTAMP:20260422T221339Z
DESCRIPTION:1/2 Tělovýchovná jednota Jiskra Havlíčkův Brod z.s. - VK Č. Bud
 ějovice 0:2 (-2\,-7)
DTSTART;TZID=Europe/Berlin:20240503T100000
DTEND;TZID=Europe/Berlin:20240503T120000
LOCATION:Sportovní hala TJ Jiskra\, Ledečská 3028 Havlíčkův Brod
SUMMARY:MCR-U14MFA: Tělovýchovná jednota Jiskra Havlíčkův Brod z.s.-VK Č. B
 udějovice
END:VEVENT
BEGIN:VEVENT
UID:34653530-3461-4337-b366-636536396465
DTSTAMP:20260422T221339Z
DESCRIPTION:3/6 Tělovýchovná jednota Jiskra Havlíčkův Brod z.s. - SK PROSEK
  A 0:2 (-16\,-7)
DTSTART;TZID=Europe/Berlin:20240503T143000
DTEND;TZID=Europe/Berlin:20240503T163000
LOCATION:Sportovní hala TJ Jiskra\, Ledečská 3028 Havlíčkův Brod
SUMMARY:MCR-U14MFA: Tělovýchovná jednota Jiskra Havlíčkův Brod z.s.-SK PROS
 EK A
END:VEVENT
BEGIN:VEVENT
UID:65636436-6637-4964-a562-333365656637
DTSTAMP:20260422T221339Z
DESCRIPTION:2/4 Green Volley Frýdek-Místek\, z.s. - Tělovýchovná jednota Ji
 skra Havlíčkův Brod z.s. 2:0 (15\,9)
DTSTART;TZID=Europe/Berlin:20240503T113000
DTEND;TZID=Europe/Berlin:20240503T133000
LOCATION:Hala SPŠ\, 28. října 1639 Frýdek-Místek - Místek
SUMMARY:MCR-U14MFA: Green Volley Frýdek-Místek\, z.s.-Tělovýchovná jednota 
 Jiskra Havlíčkův Brod z.s.
END:VEVENT
BEGIN:VEVENT
UID:36363438-3035-4137-b635-356665653631
DTSTAMP:20260422T221339Z
DESCRIPTION:5/8 TJ Slavia HK - Tělovýchovná jednota Jiskra Havlíčkův Brod z
 .s. 2:0 (13\,18)
DTSTART;TZID=Europe/Berlin:20240503T173000
DTEND;TZID=Europe/Berlin:20240503T193000
LOCATION:TJ Slavia Hradec Králové\, Víta Nejedlého 1216 Hradec Králové
SUMMARY:MCR-U14MFA: TJ Slavia HK-Tělovýchovná jednota Jiskra Havlíčkův Brod
  z.s.
END:VEVENT
BEGIN:VEVENT
UID:65333235-3266-4636-a564-333930376239
DTSTAMP:20260422T221339Z
DESCRIPTION:1/1 Tělovýchovná jednota Jiskra Havlíčkův Brod z.s. - Volejbalo
 vý sportovní klub Staré Město\, z.s. 0:2 (-22\,-17)\n5A-5B
DTSTART;TZID=Europe/Berlin:20240504T143000
DTEND;TZID=Europe/Berlin:20240504T163000
LOCATION:Sportovní hala TJ Jiskra\, Ledečská 3028 Havlíčkův Brod
SUMMARY:MCR-U14MFH: Tělovýchovná jednota Jiskra Havlíčkův Brod z.s.-Volejba
 lový sportovní klub Staré Město\, z.s.
END:VEVENT
BEGIN:VEVENT
UID:36356365-3030-4265-b838-306565333265
DTSTAMP:20260422T221339Z
DESCRIPTION:3/3 Tělovýchovná jednota Jiskra Havlíčkův Brod z.s. - SKV Ústí 
 n. L.. 2:0 (9\,19)\n5A-5C
DTSTART;TZID=Europe/Berlin:20240504T173000
DTEND;TZID=Europe/Berlin:20240504T193000
LOCATION:Sportovní hala TJ Jiskra\, Ledečská 3028 Havlíčkův Brod
SUMMARY:MCR-U14MFH: Tělovýchovná jednota Jiskra Havlíčkův Brod z.s.-SKV Úst
 í n. L..
END:VEVENT
BEGIN:VEVENT
UID:31643735-3263-4633-b930-653063663038
DTSTAMP:20260422T221339Z
DESCRIPTION:5/5 Tělovýchovná jednota Jiskra Havlíčkův Brod z.s. - Blue Voll
 ey Ostrava\, z.s. 0:2 (-23\,-15)\n5A-5D
DTSTART;TZID=Europe/Berlin:20240505T130000
DTEND;TZID=Europe/Berlin:20240505T150000
LOCATION:Sportovní hala TJ Jiskra\, Ledečská 3028 Havlíčkův Brod
SUMMARY:MCR-U14MFH: Tělovýchovná jednota Jiskra Havlíčkův Brod z.s.-Blue Vo
 lley Ostrava\, z.s.
END:VEVENT
END:VCALENDAR
