BEGIN:VCALENDAR
VERSION:2.0
PRODID:-//VK Brno A85102//NONSGML kigkonsult.se iCalcreator 2.41.80//
CALSCALE:GREGORIAN
UID:39616262-6264-4265-a238-633039323266
BEGIN:VEVENT
UID:63613533-3066-4263-b064-613830373339
DTSTAMP:20260422T002613Z
DESCRIPTION:2/4 VK Brno A - VK Raškovice 1:2 (-19\,15\,-10)
DTSTART;TZID=Europe/Berlin:20240323T101500
DTEND;TZID=Europe/Berlin:20240323T121500
LOCATION:ZŠ Vejrostova\, Vejrostova 1066 Brno - Bystrc
SUMMARY:MCR-U14Z-1B: VK Brno A-VK Raškovice
END:VEVENT
BEGIN:VEVENT
UID:37336334-3037-4934-b262-333062396432
DTSTAMP:20260422T002613Z
DESCRIPTION:4/11 VK Brno A - VK KP Milénova 0:2 (-21\,-15)
DTSTART;TZID=Europe/Berlin:20240323T140000
DTEND;TZID=Europe/Berlin:20240323T160000
LOCATION:ZŠ Vejrostova\, Vejrostova 1066 Brno - Bystrc
SUMMARY:MCR-U14Z-1B: VK Brno A-VK KP Milénova
END:VEVENT
BEGIN:VEVENT
UID:36346334-3337-4761-a261-396134306335
DTSTAMP:20260422T002613Z
DESCRIPTION:7/19 VK Brno A - SVK Nový Jičín 0:2 (-19\,-10)
DTSTART;TZID=Europe/Berlin:20240324T090000
DTEND;TZID=Europe/Berlin:20240324T110000
LOCATION:ZŠ Vejrostova\, Vejrostova 1066 Brno - Bystrc
SUMMARY:MCR-U14Z-1B: VK Brno A-SVK Nový Jičín
END:VEVENT
BEGIN:VEVENT
UID:35343430-3737-4436-b136-376536346362
DTSTAMP:20260422T002613Z
DESCRIPTION:3/9 VK Valašské Meziříčí - VK Brno A 1:2 (-19\,25\,-3)
DTSTART;TZID=Europe/Berlin:20240323T113000
DTEND;TZID=Europe/Berlin:20240323T133000
LOCATION:ZŠ Šafaříkova\, Šafaříkova 726 Valašské Meziříčí
SUMMARY:MCR-U14Z-1B: VK Valašské Meziříčí-VK Brno A
END:VEVENT
BEGIN:VEVENT
UID:64333130-6434-4839-b864-363766346434
DTSTAMP:20260422T002613Z
DESCRIPTION:5/14 KV Kopřivnice - VK Brno A 2:0 (10\,25)
DTSTART;TZID=Europe/Berlin:20240323T151500
DTEND;TZID=Europe/Berlin:20240323T171500
LOCATION:Tělocvičny ZŠ 17.listopadu Kopřivnice\, 17. listopadu 1225 Kopřivn
 ice
SUMMARY:MCR-U14Z-1B: KV Kopřivnice-VK Brno A
END:VEVENT
BEGIN:VEVENT
UID:33633866-6361-4165-b262-363762623533
DTSTAMP:20260422T002613Z
DESCRIPTION:8/22 TJ Sokol Letovice - VK Brno A 2:1 (-10\,24\,13)
DTSTART;TZID=Europe/Berlin:20240324T101500
DTEND;TZID=Europe/Berlin:20240324T121500
LOCATION:Sportovní hala Letovice\, V zahradách 831 Letovice
SUMMARY:MCR-U14Z-1B: TJ Sokol Letovice-VK Brno A
END:VEVENT
BEGIN:VEVENT
UID:61353939-6638-4636-b266-636433376639
DTSTAMP:20260422T002613Z
DESCRIPTION:10/27 Polanka nad Odrou - VK Brno A 2:0 (17\,11)
DTSTART;TZID=Europe/Berlin:20240324T124500
DTEND;TZID=Europe/Berlin:20240324T144500
LOCATION:Sportovní hala\, Heleny Salichové 1275 Ostrava - Polanka nad Odrou
SUMMARY:MCR-U14Z-1B: Polanka nad Odrou-VK Brno A
END:VEVENT
END:VCALENDAR
