BEGIN:VCALENDAR
VERSION:2.0
PRODID:-//TJ TESLA BRNO z.s.85128//NONSGML kigkonsult.se iCalcreator 2.41.80//
CALSCALE:GREGORIAN
UID:35653866-3263-4734-a330-623361313335
BEGIN:VEVENT
UID:38363165-3666-4861-b761-646164363532
DTSTAMP:20260422T221352Z
DESCRIPTION:1/1 TESLA BRNO - SK PROSEK A 1:2 (-13\,23\,-10)
DTSTART;TZID=Europe/Berlin:20240413T090000
DTEND;TZID=Europe/Berlin:20240413T110000
LOCATION:ZŠ Milénova 14\, Milénova 808 Brno - Lesná
SUMMARY:MCR-U14MC: TESLA BRNO-SK PROSEK A
END:VEVENT
BEGIN:VEVENT
UID:30386162-6639-4233-b561-386263346633
DTSTAMP:20260422T221352Z
DESCRIPTION:8/8 TESLA BRNO - VK Lvi Praha 2:1 (-26\,19\,6)
DTSTART;TZID=Europe/Berlin:20240413T160000
DTEND;TZID=Europe/Berlin:20240413T180000
LOCATION:ZŠ Milénova 14\, Milénova 808 Brno - Lesná
SUMMARY:MCR-U14MC: TESLA BRNO-VK Lvi Praha
END:VEVENT
BEGIN:VEVENT
UID:62343333-3561-4338-b937-386261636366
DTSTAMP:20260422T221352Z
DESCRIPTION:4/4 Volejbalový sportovní klub Český Krumlov z.s. - TESLA BRNO 
 0:2 (-7\,-11)
DTSTART;TZID=Europe/Berlin:20240413T120000
DTEND;TZID=Europe/Berlin:20240413T140000
LOCATION:ZŠ Za Nádražím Český Krumlov\, Za Nádražím 222 Český Krumlov - Nád
 ražní Předměstí
SUMMARY:MCR-U14MC: Volejbalový sportovní klub Český Krumlov z.s.-TESLA BRNO
END:VEVENT
BEGIN:VEVENT
UID:62653431-6464-4733-b864-633165613334
DTSTAMP:20260422T221352Z
DESCRIPTION:9/9 VK Jirkov - TESLA BRNO 1:2 (-19\,20\,-13)
DTSTART;TZID=Europe/Berlin:20240413T170000
DTEND;TZID=Europe/Berlin:20240413T190000
LOCATION:Sportovní hala MG a ZŠ Jirkov\, Krušnohorská 1675 Jirkov
SUMMARY:MCR-U14MC: VK Jirkov-TESLA BRNO
END:VEVENT
BEGIN:VEVENT
UID:32626533-3032-4534-b639-353431616235
DTSTAMP:20260422T221352Z
DESCRIPTION:2/2 TESLA BRNO - TJ ABC Braník\, z.s. 2:0 (23\,3)
DTSTART;TZID=Europe/Berlin:20240503T113000
DTEND;TZID=Europe/Berlin:20240503T133000
LOCATION:ZŠ Milénova 14\, Milénova 808 Brno - Lesná
SUMMARY:MCR-U14MFB: TESLA BRNO-TJ ABC Braník\, z.s.
END:VEVENT
BEGIN:VEVENT
UID:31353730-3034-4633-b861-663939376135
DTSTAMP:20260422T221352Z
DESCRIPTION:4/5 TESLA BRNO - Volejbalový sportovní klub Staré Město\, z.s. 
 2:0 (16\,19)
DTSTART;TZID=Europe/Berlin:20240503T160000
DTEND;TZID=Europe/Berlin:20240503T180000
LOCATION:ZŠ Milénova 14\, Milénova 808 Brno - Lesná
SUMMARY:MCR-U14MFB: TESLA BRNO-Volejbalový sportovní klub Staré Město\, z.s
 .
END:VEVENT
BEGIN:VEVENT
UID:33303739-6263-4535-b962-366335333939
DTSTAMP:20260422T221352Z
DESCRIPTION:3/4 AERO Odolena Voda - TESLA BRNO 0:2 (-21\,-11)
DTSTART;TZID=Europe/Berlin:20240503T130000
DTEND;TZID=Europe/Berlin:20240503T150000
LOCATION:Sportovní hala\, Ke Stadionu 375 Odolena Voda
SUMMARY:MCR-U14MFB: AERO Odolena Voda-TESLA BRNO
END:VEVENT
BEGIN:VEVENT
UID:64396366-6333-4431-b530-353364313830
DTSTAMP:20260422T221352Z
DESCRIPTION:5/8 VK SPORT Rychnov nad Kněžnou\, z.s. - TESLA BRNO 2:0 (22\,2
 5)
DTSTART;TZID=Europe/Berlin:20240503T173000
DTEND;TZID=Europe/Berlin:20240503T193000
LOCATION:Hala VOŠ a SPŠS\, U Stadionu 1166 Rychnov nad Kněžnou
SUMMARY:MCR-U14MFB: VK SPORT Rychnov nad Kněžnou\, z.s.-TESLA BRNO
END:VEVENT
BEGIN:VEVENT
UID:64396466-3731-4663-b162-303237353936
DTSTAMP:20260422T221352Z
DESCRIPTION:2/4 TESLA BRNO - TJ Svitavy\, z.s. 0:2 (-19\,-23)\n4E-3F
DTSTART;TZID=Europe/Berlin:20240505T130000
DTEND;TZID=Europe/Berlin:20240505T150000
LOCATION:ZŠ Milénova 14\, Milénova 808 Brno - Lesná
SUMMARY:MCR-U14MFI: TESLA BRNO-TJ Svitavy\, z.s.
END:VEVENT
BEGIN:VEVENT
UID:64623165-6332-4132-a132-613531633031
DTSTAMP:20260422T221352Z
DESCRIPTION:3/7 TESLA BRNO - VK SPORT Rychnov nad Kněžnou\, z.s. 1:2 (-21\,
 22\,-12)\no 7. a 8. místo
DTSTART;TZID=Europe/Berlin:20240505T143000
DTEND;TZID=Europe/Berlin:20240505T163000
LOCATION:ZŠ Milénova 14\, Milénova 808 Brno - Lesná
SUMMARY:MCR-U14MFI: TESLA BRNO-VK SPORT Rychnov nad Kněžnou\, z.s.
END:VEVENT
BEGIN:VEVENT
UID:32323435-6363-4438-b366-613336336530
DTSTAMP:20260422T221352Z
DESCRIPTION:1/2 VK Č. Budějovice - TESLA BRNO 2:0 (15\,15)\n2A-2B
DTSTART;TZID=Europe/Berlin:20240504T130000
DTEND;TZID=Europe/Berlin:20240504T150000
LOCATION:ZŠ Oskara Nedbala České Budějovice\, O. Nedbala 882 České Budějovi
 ce - České Budějovice 2
SUMMARY:MCR-U14MFE: VK Č. Budějovice-TESLA BRNO
END:VEVENT
BEGIN:VEVENT
UID:63323962-3063-4661-b766-383361376564
DTSTAMP:20260422T221352Z
DESCRIPTION:2/4 SK PROSEK A - TESLA BRNO 2:0 (8\,23)\n1A-2B
DTSTART;TZID=Europe/Berlin:20240504T143000
DTEND;TZID=Europe/Berlin:20240504T163000
LOCATION:SH SK Prosek\, Lovosická 559 Praha - Letňany
SUMMARY:MCR-U14MFE: SK PROSEK A-TESLA BRNO
END:VEVENT
BEGIN:VEVENT
UID:30613233-6535-4662-b733-646664363866
DTSTAMP:20260422T221352Z
DESCRIPTION:3/9 TJ Slavia HK - TESLA BRNO 0:2 (-18\,-8)\n3A-2B
DTSTART;TZID=Europe/Berlin:20240505T100000
DTEND;TZID=Europe/Berlin:20240505T120000
LOCATION:TJ Slavia Hradec Králové\, Víta Nejedlého 1216 Hradec Králové
SUMMARY:MCR-U14MFE: TJ Slavia HK-TESLA BRNO
END:VEVENT
END:VCALENDAR
