BEGIN:VCALENDAR
VERSION:2.0
PRODID:-//VK Brno B85165//NONSGML kigkonsult.se iCalcreator 2.41.80//
CALSCALE:GREGORIAN
UID:33393464-3439-4662-b634-313663353730
BEGIN:VEVENT
UID:39663034-6330-4630-a561-396133353330
DTSTAMP:20260422T014834Z
DESCRIPTION:1/1 Dolní Újezd - VK Brno B 2:0 (16\,15)
DTSTART;TZID=Europe/Berlin:20240323T093000
DTEND;TZID=Europe/Berlin:20240323T113000
LOCATION:tělocvična Základní školy\,  Dolní Újezd342
SUMMARY:MCR-U14Z-1DB: Dolní Újezd-VK Brno B
END:VEVENT
BEGIN:VEVENT
UID:32306532-3431-4131-a230-346435336439
DTSTAMP:20260422T014834Z
DESCRIPTION:2/2 Sokol N. Veselí - VK Brno B 2:0 (5\,14)
DTSTART;TZID=Europe/Berlin:20240323T104500
DTEND;TZID=Europe/Berlin:20240323T124500
LOCATION:Víceúčelová sportovní hala Nové Veselí\, Žďárská 356 Nové Veselí
SUMMARY:MCR-U14Z-1DB: Sokol N. Veselí-VK Brno B
END:VEVENT
BEGIN:VEVENT
UID:38306132-3534-4264-a363-646238643362
DTSTAMP:20260422T014834Z
DESCRIPTION:1/2 VK Brno B - Sokol Pardubice I. 0:2 (-7\,-18)
DTSTART;TZID=Europe/Berlin:20240323T181500
DTEND;TZID=Europe/Berlin:20240323T201500
LOCATION:ZŠ Vejrostova\, Vejrostova 1066 Brno - Bystrc
SUMMARY:MCR-U14Z-1DF: VK Brno B-Sokol Pardubice I.
END:VEVENT
BEGIN:VEVENT
UID:39643330-3733-4131-b332-313266643737
DTSTAMP:20260422T014834Z
DESCRIPTION:1/1 VoCe - VK Brno B 2:0 (8\,9)
DTSTART;TZID=Europe/Berlin:20240323T154500
DTEND;TZID=Europe/Berlin:20240323T174500
LOCATION:Tělocvična ZŠ Černčice\,  Černčice68
SUMMARY:MCR-U14Z-1DF: VoCe-VK Brno B
END:VEVENT
BEGIN:VEVENT
UID:30396533-3064-4361-a166-343939346634
DTSTAMP:20260422T014834Z
DESCRIPTION:2/8 VK Brno B - Volejbal Kolín 0:2 (-10\,-12)
DTSTART;TZID=Europe/Berlin:20240120T140000
DTEND;TZID=Europe/Berlin:20240120T160000
LOCATION:ZŠ Vejrostova\, Vejrostova 1066 Brno - Bystrc
SUMMARY:MCR-U14Z-1D3: VK Brno B-Volejbal Kolín
END:VEVENT
BEGIN:VEVENT
UID:30346636-3930-4065-a434-653530376436
DTSTAMP:20260422T014834Z
DESCRIPTION:2/10 VK Brno B - Žichlínek 2:1 (11\,-20\,7)
DTSTART;TZID=Europe/Berlin:20240120T140000
DTEND;TZID=Europe/Berlin:20240120T160000
LOCATION:ZŠ Vejrostova\, Vejrostova 1066 Brno - Bystrc
SUMMARY:MCR-U14Z-1D3: VK Brno B-Žichlínek
END:VEVENT
END:VCALENDAR
